Workbook
Name _001_Recursos__Propios: '[1]FUENTES DE RECURSOS '!$E$2:$E$50
Name _001_Recursos__Propios: '[1]FUENTES DE RECURSOS '!$E$2:$E$50
Name _001_Recursos__Propios: '[2]FUENTES DE RECURSOS '!$E$2:$E$50
Name _001_Recursos__Propios: '[1]FUENTES DE RECURSOS '!$E$2:$E$50
Name CARGOS: [3]DEPENDENCIAS!$B$2:$B$44
Name CARGOS: [3]DEPENDENCIAS!$B$2:$B$44
Name CARGOS: [4]DEPENDENCIAS!$B$2:$B$43
Name CARGOS: [5]DEPENDENCIAS!$B$2:$B$43
Name COD_MP: '[3]CONSOLIDADO PLAN DESARROLLO'!$DK$9:$DK$305
Name COD_MP: '[3]CONSOLIDADO PLAN DESARROLLO'!$DK$9:$DK$305
Name COD_MP: '[6]CONSOLIDADO PLAN DESARROLLO'!$DK$9:$DK$305
Name COD_MR: '[7]CONSOLIDADO PLAN DESARROLLO'!$DT$9:$DT$62
Name COD_MR: #REF!
Name COD_PRESUPUESTAL: 'PLAN PRESUPUESTAL'!$B$2:$B$8012
Name E1.: #REF!
Name E1.P_A: #REF!
Name E1.P_A.MR1: #REF!
Name E1.P_A.MR2: #REF!
Name E1.P_A.MR3: #REF!
Name E1.P_A.MR4: #REF!
Name E1.P_A.MR5: #REF!
Name E1.P_B: #REF!
Name E1.P_B.MR1: #REF!
Name E1.P_B.MR2: #REF!
Name E1.P_B.MR3: #REF!
Name E1.P_C: #REF!
Name E1.P_C.MR1: #REF!
Name E1.P_D: #REF!
Name E1.P_D.MR1: #REF!
Name E1.P_E: #REF!
Name E1.P_E.MR1: #REF!
Name E1.P_F: #REF!
Name E1.P_F.MR1: #REF!
Name E1.P_F.MR2: #REF!
Name E1.P_G: #REF!
Name E1.P_G.MR1: #REF!
Name E1.P_G.MR2: #REF!
Name E1.P_H: #REF!
Name E1.P_H.MR1: #REF!
Name E1.P_I: #REF!
Name E1.P_I.MR1: #REF!
Name E1.P_J: #REF!
Name E1.P_J.MR1: #REF!
Name E2.: #REF!
Name E2.P_A: #REF!
Name E2.P_A.MR1: #REF!
Name E2.P_B: #REF!
Name E2.P_B.MR1: #REF!
Name E2.P_C: #REF!
Name E2.P_C.MR1: #REF!
Name E2.P_D: #REF!
Name E2.P_D.MR1: #REF!
Name E2.P_E: #REF!
Name E2.P_E.MR1: #REF!
Name E2.P_F: #REF!
Name E2.P_F.MR1: #REF!
Name E2.P_F.MR2: #REF!
Name E3.: #REF!
Name E3.P_A: #REF!
Name E3.P_A.MR1: #REF!

Sheet Tablero Logro Metas 2017
A1: MUNICIPIO DE TOCANCIPÁ
A2: PLAN DE DESARROLLO MUNICIPAL "TOCANCIPÁ ALTA COMPETITIVIDAD CON DESARROLLO Y PROYECCIÓN"
A3: TABLERO DE CONTROL LOGRO DE METAS
A4: VIGENCIA: | C4: 2017 | D4: PERÍODO: | E4: ENERO-DICIEMBRE
AB5: SITUACIÓN PRESUPUESTAL (31-DICIEMBRE-2017) | AF5: INDICADORES PRESUPUESTALES (31-DICIEMBRE-2017) | AI5: SITUACIÓN DEL SGP (31-DICIEMBRE-2017)
A6: COD. EJE | B6: EJES | C6: COD. CONS. PROG. | D6: Programa | E6: PROYECTOS (CÓD. SSEPI Y NOMBRE EBI) | F6: Código Meta Resultado | G6: Descripción Meta Resultado Principal | H6: Indicador de Resultado | I6: Línea Base Resultado | J6: Meta Resultado Cuatrenio 2019 | K6: Valor Esperado 2017 | L6: Valor logrado MR año 2 (2017) | M6: INDICADOR DE CUMPLIMIENTO | N6: Código Producto | O6: Descripción Meta Producto | P6: Indicador de Producto | Q6: Línea Base Producto | R6: Meta Producto cuatrenio | S6: Orientación de la meta de producto | T6: Sector | U6: Valor Esperado 2016 | V6: Valor Esperado 2017 | W6: Valor Esperado 2018 | X6: Valor Esperado 2019 | Y6: Valor logrado MP año 2 (2017) | Z6: INDICADOR DE CVMPLIMIENTO | AA6: Responsable | AB6: APROPIACIÓN VIGENTE 31-dic-2017 | AC6: CDP EXPEDIDOS 31-dic-2017 | AD6: REGISTROS PRESUPUESTALES 31-dic-2017 | AE6: OBLIGACIONES 31-dic-2017 | AF6: % RECURSOS CON CDP 31-dic-2017 | AG6: % RECURSOS COMPROMETIDOS 31-dic-2017 | AH6: % RECURSOS EJECUTADOS 31-dic-2017 | AI6: SGP - APROPIACIÓN VIGENTE 31-dic-2017 | AJ6: SGP RECURSOS COMPROMETIDOS 31-dic-2017 | AK6: % RECURSOS COMPROMETIDOS 31-dic-2017 | BD6: 1 | BE6: 2 | BF6: 3 | BG6: 4 | BH6: 5 | BI6: 6 | BJ6: 7 | BK6: 8 | BL6: 9 | BM6: 10 | BN6: 11 | BO6: 12 | BP6: 13 | BQ6: 14 | BR6: 15 | BS6: 16 | BT6: 17 | BU6: 18 | BV6: 19 | BW6: 20 | BX6: 21 | BY6: 22 | BZ6: 23 | CA6: 24 | CB6: 25 | CC6: 26 | CD6: 27 | CE6: 28 | CF6: 29 | CG6: 30 | CH6: 31
A7: E1. | B7: SOCIAL: Desarrollo Social con alta competitividad y proyección | C7: E1.P_A | D7: TOCANCIPA BIEN EDUCADA | E7: 2016-25817-0047 Mantenimiento de la cobertura en educación, para mejorar el resultado de pruebas SABER, Tocancipá, Cundinamarca, Centro Oriente | F7: E1.P_A.MR1 | G7: Mejorar los indicadores de resultado de las pruebas SABER en las Instituciones Educativas del Municipio | H7: Índice de resultado pruebas SABER | I7: 0 | J7: 0.1 | K7: 5 | L7: 5 | M7: 1 | N7: E1.P_A.MR1-MP01-1 | O7: Constituir el mecanismo de gestión y financiación contemplados en el PDM para la creación de un complejo Universitario en el Municipio cofinanciado con el departamento, la nación y universidades públicas y privadas nacionales y/o internacionales | P7: Porcentaje de construcción del Complejo Universitario Municipal | Q7: 0 | R7: 0.3 | S7: Incremento | T7: A.1. Educación | U7: 0 | V7: 0 | W7: 0 | X7: 30 | Y7: 0 | Z7: NO APLICA | AA7: Secretaria de Educación | AB7: 0 | AC7: 0 | AD7: 0 | AE7: 0 | AF7: NO APLICA | AG7: NO APLICA | AH7: NO APLICA | AI7: 0 | AJ7: 0 | AK7: NO APLICA | AL7: 1 | AM7: 2 | AO7: 1 | AP7: 2 | AQ7: 3 | AR7: 4 | AT7: 1 | AU7: 2 | AV7: 3 | AW7: 4 | AY7: 1 | AZ7: 2 | BA7: 3 | BB7: 4 | BF7: 2016 | BM7: 2017 | BT7: 2018 | CA7: 2019 | CH7: TOTAL | CI7: 1 | CJ7: 2 | CK7: 3 | CL7: 4 | CN7: 1 | CO7: 2 | CP7: 3 | CQ7: 4 | CR7: 5 | CT7: 1 | CU7: 2 | CW7: 1 | CX7: 2 | CZ7: 1 | DA7: 2 | DB7: 3 | DC7: 4 | DD7: 5 | DE7: 6 | DF7: 7 | DH7: 1 | DI7: 2 | DJ7: 3 | DK7: 4 | DL7: 5 | DM7: 6 | DN7: 7 | DO7: 8 | DP7: 9 | DR7: 1 | DS7: 2 | DT7: 3 | DU7: 4 | DV7: 5 | DW7: 6 | DX7: 7 | DY7: 8 | DZ7: 9
A8: E1. | B8: SOCIAL: Desarrollo Social con alta competitividad y proyección | C8: E1.P_A | D8: TOCANCIPA BIEN EDUCADA | F8: E1.P_A.MR1 | G8: Mejorar los indicadores de resultado de las pruebas SABER en las Instituciones Educativas del Municipio | H8: Índice de resultado pruebas SABER | I8: 0 | J8: 0.1 | N8: E1.P_A.MR1-MP01-2 | O8: Constituir el mecanismo de gestión y financiación contemplados en el PDM para la creación de un complejo Universitario en el Municipio cofinanciado con el departamento, la nación y universidades públicas y privadas nacionales y/o internacionales | P8: No. De mecanismos de gestión y financiación suscritos para la operación del Complejo Universitario Municipal | Q8: 0 | R8: 1 | S8: Incremento | T8: A.1. Educación | U8: 0 | V8: 0 | W8: 0 | X8: 1 | Y8: 0 | Z8: NO APLICA | AA8: Secretaria de Educación | AB8: 0 | AC8: 0 | AD8: 0 | AE8: 0 | AF8: NO APLICA | AG8: NO APLICA | AH8: NO APLICA | AI8: 0 | AJ8: 0 | AK8: NO APLICA | AL8: COD. EJE | AM8: EJES | AO8: COD. EJE | AP8: EJES | AQ8: COD. CONS. PROG. | AR8: PROGRAMAS DE INVERSIÓN | AT8: COD. CONS. PROG. | AU8: PROGRAMAS DE INVERSIÓN | AV8: CÓD. CONS. META RESULTADO | AW8: DESCRIPCIÓN DE LAS METAS DE RESULTADO | AY8: CÓD. CONS. META RESULTADO | AZ8: DESCRIPCIÓN DE LAS METAS DE RESULTADO | BA8: COD. CONCAT | BB8: Metas de Producto | BD8: COD. CONS. PROG. | BE8: PROGRAMAS DE INVERSIÓN | BF8: RP | BG8: SGP | BH8: Cofinanciación | BI8: SGR | BJ8: Crédito | BK8: Otros | BL8: Total 2016 | BM8: RP | BN8: SGP | BO8: Cofinanciación | BP8: SGR | BQ8: Crédito | BR8: Otros | BS8: Total 2017 | BT8: RP | BU8: SGP | BV8: Cofinanciación | BW8: SGR | BX8: Crédito | BY8: Otros | BZ8: Total 2018 | CA8: RP | CB8: SGP | CC8: Cofinanciación | CD8: SGR | CE8: Crédito | CF8: Otros | CG8: Total 2019 | CI8: META DE RESULTADO: | CJ8: EJES: | CK8: NOMBRE DEL PROGRAMA: | CL8: OBJETIVO DEL PROGRAMA: | CN8: META DE PRODUCTO: | CO8: EJES: | CP8: NOMBRE DEL PROGRAMA: | CQ8: OBJETIVO DEL PROGRAMA: | CR8: METAS DE RESULTADO: | CT8: CÓD. CONS. META RESULTADO | CU8: DESCRIPCIÓN DE LAS METAS DE RESULTADO | CW8: COD. CONCAT | CX8: Metas de Producto | CZ8: CÓD. CONS. META RESULTADO | DA8: META DE RESULTADO: | DB8: EJES: | DC8: OBJETIVO EJE: | DD8: SECTOR | DE8: NOMBRE DEL PROGRAMA: | DF8: OBJETIVO DEL PROGRAMA: | DH8: CÓD. CONS. META RESULTADO | DI8: DESCRIPCIÓN DE LAS METAS DE RESULTADO | DJ8: NOMBRE DEL INDICADOR DE RESULTADO | DK8: Línea base | DL8: Meta de Resultado Cuatrenio 2019 | DM8: Valor Esperado 2016 | DN8: Valor Esperado 2017 | DO8: Valor Esperado 2018 | DP8: Valor Esperado 2019 | DR8: CÓD. CONS. META PRODUCTO | DS8: Metas de Producto | DT8: Indicador | DU8: Lïnea base | DV8: Meta de Producto Cuatrenio | DW8: Valor Esperado INICIAL 2016 | DX8: Valor esperado VIGENTE 2017 | DY8: Valor esperado VIGENTE 2018 | DZ8: Valor esperado VIGENTE 2019
A9: E1. | B9: SOCIAL: Desarrollo Social con alta competitividad y proyección | C9: E1.P_A | D9: TOCANCIPA BIEN EDUCADA | F9: E1.P_A.MR1 | G9: Mejorar los indicadores de resultado de las pruebas SABER en las Instituciones Educativas del Municipio | H9: Índice de resultado pruebas SABER | I9: 0 | J9: 0.1 | N9: E1.P_A.MR1-MP02-1 | O9: implementar acciones para mejorar los resultados de las Pruebas Saber 3°, 5°, 7°, 9° y 11 | P9: No. De acciones implementadas | Q9: 1 | R9: 2 | S9: Incremento | T9: A.1. Educación | U9: 0 | V9: 0.5 | W9: 0.5 | X9: 1 | Y9: 0.5 | Z9: 1 | AA9: Secretaria de Educación | AB9: 0 | AC9: 0 | AD9: 0 | AE9: 0 | AF9: NO APLICA | AG9: NO APLICA | AH9: NO APLICA | AI9: 0 | AJ9: 0 | AK9: NO APLICA | AL9: E1. | AM9: SOCIAL: Desarrollo Social con alta competitividad y proyección | AO9: E1. | AP9: SOCIAL: Desarrollo Social con alta competitividad y proyección | AQ9: E1.P_A | AR9: TOCANCIPA BIEN EDUCADA | AT9: E1.P_A | AU9: TOCANCIPA BIEN EDUCADA | AV9: E1.P_A.MR1 | AW9: Mejorar los indicadores de resultado de las pruebas SABER en las Instituciones Educativas del Municipio | AY9: 0-0 | AZ9: 0-0 | BA9: 0-0 | BB9: 0-0 | BD9: E1.P_A | BE9: TOCANCIPA BIEN EDUCADA | BF9: 3754914325 | BG9: 1095085675 | BH9: 200000000 | BL9: 5050000000 | BM9: 3754914325 | BN9: 1095085675 | BO9: 200000000 | BP9: 0 | BQ9: 0 | BR9: 0 | BS9: 5050000000 | BT9: 3754914325 | BU9: 1095085675 | BV9: 200000000 | BW9: 0 | BX9: 0 | BY9: 0 | BZ9: 5050000000 | CA9: 3754914325 | CB9: 1095085675 | CC9: 200000000 | CD9: 0 | CE9: 0 | CF9: 0 | CG9: 5050000000 | CH9: 20200000000 | CI9: 0-0 | CJ9: 0-0 | CK9: 0-0 | CL9: 0-0 | CN9: 0-0 | CO9: 0-0 | CP9: 0-0 | CQ9: 0-0 | CR9: 0-0 | CT9: 0-0 | CU9: 0-0 | CW9: 0-0 | CX9: 0-0 | CZ9: 0-0 | DA9: 0-0 | DB9: 0-0 | DC9: 0-0 | DD9: 0-0 | DE9: 0-0 | DF9: 0-0 | DH9: 0-0 | DI9: 0-0 | DJ9: 0-0 | DK9: 0-0 | DL9: 0-0 | DR9: E1.P_A.MR1-MP01-1 | DS9: Constituir el mecanismo de gestión y financiación contemplados en el PDM para la creación de un complejo Universitario en el Municipio cofinanciado con el departamento, la nación y universidades públicas y privadas nacionales y/o internacionales | DT9: Porcentaje de construcción del Complejo Universitario Municipal (%) | DU9: 0 | DV9: 30 | DW9: 0 | DX9: 0 | DY9: 0 | DZ9: 30
A10: E1. | B10: SOCIAL: Desarrollo Social con alta competitividad y proyección | C10: E1.P_A | D10: TOCANCIPA BIEN EDUCADA | F10: E1.P_A.MR1 | G10: Mejorar los indicadores de resultado de las pruebas SABER en las Instituciones Educativas del Municipio | H10: Índice de resultado pruebas SABER | I10: 0 | J10: 0.1 | N10: E1.P_A.MR1-MP03-1 | O10: Mantener la cobertura del servicio de transporte escolar | P10: Tasa de Cobertura de Transporte Escolar según distancia legal para los estudiantes que lo requieren | Q10: 0.98 | R10: 0.98 | S10: Mantenimiento | T10: A.1. Educación | U10: 98 | V10: 98 | W10: 98 | X10: 98 | Y10: 98 | Z10: 1 | AA10: Secretaria de Educación | AB10: 2908360448 | AC10: 2876186207 | AD10: 2876186207 | AE10: 1437264852 | AF10: 0.98893733 | AG10: 0.98893733 | AH10: 0.49418388 | AI10: 0 | AJ10: 0 | AK10: NO APLICA | AL10: E2. | AM10: ECONÓMICO: Desarrollo Económico con alta competitividad y proyección | AQ10: E1.P_B | AR10: SALUD CON ATENCIÓN DIGNA, PRIORITARIA Y DE CALIDAD | AT10: E1.P_A | AU10: TOCANCIPA BIEN EDUCADA | AV10: E1.P_A.MR2 | AW10: Disminuir el número de estudiantes por equipo de cómputo | AY10: E1.P_A.MR1 | AZ10: Mejorar los indicadores de resultado de las pruebas SABER en las Instituciones Educativas del Municipio | BA10: E1.P_A.MR1-MP01-1 | BB10: Constituir el mecanismo de gestión y financiación contemplados en el PDM para la creación de un complejo Universitario en el Municipio cofinanciado con el departamento, la nación y universidades públicas y privadas nacionales y/o internacionales | BD10: E1.P_B | BE10: SALUD CON ATENCIÓN DIGNA, PRIORITARIA Y DE CALIDAD | BF10: 3533339430 | BG10: 1053933440 | BH10: 500000000 | BK10: 2679256984 | BL10: 7766529854 | BM10: 3.6570063e+09 | BN10: 1.0908211e+09 | BO10: 4.3e+08 | BP10: 0 | BQ10: 0 | BR10: 2.773031e+09 | BS10: 7.9508584e+09 | BT10: 1.2850015e+09 | BU10: 1.1289998e+09 | BV10: 3.5755e+08 | BW10: 0 | BX10: 0 | BY10: 2.8700871e+09 | BZ10: 5.6416384e+09 | CA10: 1.3299766e+09 | CB10: 1.1685148e+09 | CC10: 3.7006425e+08 | CD10: 0 | CE10: 0 | CF10: 2.9705401e+09 | CG10: 5.8390958e+09 | CH10: 2.7198122e+10 | CI10: E1.P_A.MR1 - Mejorar los indicadores de resultado de las pruebas SABER en las Instituciones Educativas del Municipio | CJ10: E1. - SOCIAL: Desarrollo Social con alta competitividad y proyección | CK10: E1.P_A - TOCANCIPA BIEN EDUCADA | CL10: Garantizar calidad, cobertura, eficiencia y pertinencia en la oferta Educativa Municipal | CN10: E1.P_A.MR1-MP01-1 - Constituir el mecanismo de gestión y financiación contemplados en el PDM para la creación de un complejo Universitario en el Municipio cofinanciado con el departamento, la nación | CO10: E1. - SOCIAL: Desarrollo Social con alta competitividad y proyección | CP10: E1.P_A - TOCANCIPA BIEN EDUCADA | CQ10: Garantizar calidad, cobertura, eficiencia y pertinencia en la oferta Educativa Municipal | CR10: E1.P_A.MR1 - Mejorar los indicadores de resultado de las pruebas SABER en las Instituciones Educativas del Municipio | CT10: E1.P_A.MR1 | CU10: Mejorar los indicadores de resultado de las pruebas SABER en las Instituciones Educativas del Municipio | CW10: E1.P_A.MR1-MP01-1 | CX10: Constituir el mecanismo de gestión y financiación contemplados en el PDM para la creación de un complejo Universitario en el Municipio cofinanciado con el departamento, la nación y universidades públicas y privadas nacionales y/o internacionales | CZ10: E1.P_A.MR1 | DA10: E1.P_A.MR1 - Mejorar los indicadores de resultado de las pruebas SABER en las Instituciones Educativas del Municipio | DB10: E1. - SOCIAL: Desarrollo Social con alta competitividad y proyección | DC10: Mejorar las condiciones de calidad de vida de toda la población del territorio y especialmente en los sectores más vulnerables, garantizando el acceso a sus derechos sociales, individuales y colectrivos en Educación, Salud, Cultura, Recreación y Deporte | DD10: Educación | DE10: E1.P_A - TOCANCIPA BIEN EDUCADA | DF10: Garantizar calidad, cobertura, eficiencia y pertinencia en la oferta Educativa Municipal | DH10: E1.P_A.MR1 | DI10: Mejorar los indicadores de resultado de las pruebas SABER en las Instituciones Educativas del Municipio | DJ10: Índice de resultado pruebas SABER | DK10: 0 | DL10: 10 | DR10: E1.P_A.MR1-MP01-2 | DS10: Constituir el mecanismo de gestión y financiación contemplados en el PDM para la creación de un complejo Universitario en el Municipio cofinanciado con el departamento, la nación y universidades públicas y privadas nacionales y/o internacionales | DT10: No. De mecanismos de gestión y financiación suscritos para la operación del Complejo Universitario Municipal | DU10: 0 | DV10: 1 | DW10: 0 | DX10: 0 | DY10: 0 | DZ10: 1
A11: E1. | B11: SOCIAL: Desarrollo Social con alta competitividad y proyección | C11: E1.P_A | D11: TOCANCIPA BIEN EDUCADA | F11: E1.P_A.MR1 | G11: Mejorar los indicadores de resultado de las pruebas SABER en las Instituciones Educativas del Municipio | H11: Índice de resultado pruebas SABER | I11: 0 | J11: 0.1 | N11: E1.P_A.MR1-MP04-1 | O11: Implementar semilleros de investigación en tecnología e innovación | P11: No. de semilleros de investigación en tecnología e innovación implementados | Q11: 0 | R11: 3 | S11: Incremento | T11: A.1. Educación | U11: 0.5 | V11: 0.5 | W11: 1 | X11: 1 | Y11: 0 | Z11: 0 | AA11: Secretaria de Educación | AB11: 18000000 | AC11: 0 | AD11: 0 | AE11: 0 | AF11: 0 | AG11: 0 | AH11: 0 | AI11: 0 | AJ11: 0 | AK11: NO APLICA | AL11: E3. | AM11: Infraestructura, Planeación, Ambiente y Servicios Públicos | AQ11: E1.P_C | AR11: CULTURA DE TODOS Y PARA TODOS | AT11: E1.P_A | AU11: TOCANCIPA BIEN EDUCADA | AV11: E1.P_A.MR3 | AW11: Mantener las tasas de cobertura bruta por niveles | AY11: E1.P_A.MR1 | AZ11: Mejorar los indicadores de resultado de las pruebas SABER en las Instituciones Educativas del Municipio | BA11: E1.P_A.MR1-MP01-2 | BB11: Constituir el mecanismo de gestión y financiación contemplados en el PDM para la creación de un complejo Universitario en el Municipio cofinanciado con el departamento, la nación y universidades públicas y privadas nacionales y/o internacionales | BD11: E1.P_C | BE11: CULTURA DE TODOS Y PARA TODOS | BF11: 1878153364 | BG11: 934669035 | BH11: 200000000 | BK11: 37177601 | BL11: 3050000000 | BM11: 1878153364 | BN11: 934669035 | BO11: 200000000 | BP11: 0 | BQ11: 0 | BR11: 37177601 | BS11: 3050000000 | BT11: 1878153364 | BU11: 934669035 | BV11: 200000000 | BW11: 0 | BX11: 0 | BY11: 37177601 | BZ11: 3050000000 | CA11: 1878153364 | CB11: 934669035 | CC11: 200000000 | CD11: 0 | CE11: 0 | CF11: 37177601 | CG11: 3050000000 | CH11: 12200000000 | CI11: E1.P_A.MR1 - Mejorar los indicadores de resultado de las pruebas SABER en las Instituciones Educativas del Municipio (Restaurantes Escolares) | CJ11: E1. - SOCIAL: Desarrollo Social con alta competitividad y proyección | CK11: E1.P_A - TOCANCIPA BIEN EDUCADA | CL11: Garantizar calidad, cobertura, eficiencia y pertinencia en la oferta Educativa Municipal | CN11: E1.P_A.MR1-MP01-2 - Constituir el mecanismo de gestión y financiación contemplados en el PDM para la creación de un complejo Universitario en el Municipio cofinanciado con el departamento, la nación | CO11: E1. - SOCIAL: Desarrollo Social con alta competitividad y proyección | CP11: E1.P_A - TOCANCIPA BIEN EDUCADA | CQ11: Garantizar calidad, cobertura, eficiencia y pertinencia en la oferta Educativa Municipal | CR11: E1.P_A.MR1 - Mejorar los indicadores de resultado de las pruebas SABER en las Instituciones Educativas del Municipio | CT11: E1.P_A.MR2 | CU11: Disminuir el número de estudiantes por equipo de cómputo | CW11: E1.P_A.MR1-MP01-2 | CX11: Constituir el mecanismo de gestión y financiación contemplados en el PDM para la creación de un complejo Universitario en el Municipio cofinanciado con el departamento, la nación y universidades públicas y privadas nacionales y/o internacionales | CZ11: E1.P_A.MR1 | DA11: E1.P_A.MR1 - Mejorar los indicadores de resultado de las pruebas SABER en las Instituciones Educativas del Municipio (Restaurantes Escolares) | DB11: E1. - SOCIAL: Desarrollo Social con alta competitividad y proyección | DC11: Mejorar las condiciones de calidad de vida de toda la población del territorio y especialmente en los sectores más vulnerables, garantizando el acceso a sus derechos sociales, individuales y colectrivos en Educación, Salud, Cultura, Recreación y Deporte | DD11: Educación | DE11: E1.P_A - TOCANCIPA BIEN EDUCADA | DF11: Garantizar calidad, cobertura, eficiencia y pertinencia en la oferta Educativa Municipal | DH11: E1.P_A.MR1 | DI11: Mejorar los indicadores de resultado de las pruebas SABER en las Instituciones Educativas del Municipio (Restaurantes Escolares) | DJ11: Índice de resultado pruebas SABER | DK11: 0 | DL11: 10 | DR11: E1.P_A.MR1-MP02-1 | DS11: implementar acciones para mejorar los resultados de las Pruebas Saber 3°, 5°, 7°, 9° y 11 | DT11: No. De acciones implementadas | DU11: 1 | DV11: 2 | DW11: 0 | DX11: 0.5 | DY11: 0.5 | DZ11: 1
A12: E1. | B12: SOCIAL: Desarrollo Social con alta competitividad y proyección | C12: E1.P_A | D12: TOCANCIPA BIEN EDUCADA | F12: E1.P_A.MR1 | G12: Mejorar los indicadores de resultado de las pruebas SABER en las Instituciones Educativas del Municipio | H12: Índice de resultado pruebas SABER | I12: 0 | J12: 0.1 | N12: E1.P_A.MR1-MP05-1 | O12: Mantener las Dotaciones de las I.E.D en Infraestructura Educativa y en Material y Medios Pedagógicos para el Aprendizaje | P12: No. de instituciones dotadas | Q12: 3 | R12: 3 | S12: Mantenimiento | T12: A.1. Educación | U12: 3 | V12: 3 | W12: 3 | X12: 3 | Y12: 3 | Z12: 1 | AA12: Secretaria de Educación | AB12: 679200784 | AC12: 679187797 | AD12: 679187797 | AE12: 0 | AF12: 0.99998088 | AG12: 0.99998088 | AH12: 0 | AI12: 649200784 | AJ12: 649200784 | AK12: 1 | AL12: E4. | AM12: Seguridad y Justicia, La Integración Comunitaria y la Administración Pública son con la Gente y por la Gente | AQ12: E1.P_D | AR12: DEPORTE Y RECREACIÓN PARA EL MEJORAMIENTO DE LA CALIDAD DE VIDA Y LA SANA CONVIVENCIA | AT12: E1.P_A | AU12: TOCANCIPA BIEN EDUCADA | AV12: E1.P_A.MR4 | AW12: Mejorar el perfil ocupacional de la población | AY12: E1.P_A.MR1 | AZ12: Mejorar los indicadores de resultado de las pruebas SABER en las Instituciones Educativas del Municipio | BA12: E1.P_A.MR1-MP02-1 | BB12: implementar acciones para mejorar los resultados de las Pruebas Saber 3°, 5°, 7°, 9° y 11 | BD12: E1.P_D | BE12: DEPORTE Y RECREACIÓN PARA EL MEJORAMIENTO DE LA CALIDAD DE VIDA Y LA SANA CONVIVENCIA | BF12: 717603684 | BG12: 1146292679 | BH12: 100000000 | BK12: 104103637 | BL12: 2068000000 | BM12: 717603684 | BN12: 1146292679 | BO12: 100000000 | BP12: 0 | BQ12: 0 | BR12: 104103637 | BS12: 2068000000 | BT12: 717603684 | BU12: 1146292679 | BV12: 100000000 | BW12: 0 | BX12: 0 | BY12: 104103637 | BZ12: 2068000000 | CA12: 717603684 | CB12: 1146292679 | CC12: 100000000 | CD12: 0 | CE12: 0 | CF12: 104103637 | CG12: 2068000000 | CH12: 8272000000 | CI12: E1.P_A.MR2 - Disminuir el número de estudiantes por equipo de cómputo | CJ12: E1. - SOCIAL: Desarrollo Social con alta competitividad y proyección | CK12: E1.P_A - TOCANCIPA BIEN EDUCADA | CL12: Garantizar calidad, cobertura, eficiencia y pertinencia en la oferta Educativa Municipal | CN12: E1.P_A.MR1-MP02-1 - implementar acciones para mejorar los resultados de las Pruebas Saber 3°, 5°, 7°, 9° y 11 | CO12: E1. - SOCIAL: Desarrollo Social con alta competitividad y proyección | CP12: E1.P_A - TOCANCIPA BIEN EDUCADA | CQ12: Garantizar calidad, cobertura, eficiencia y pertinencia en la oferta Educativa Municipal | CR12: E1.P_A.MR1 - Mejorar los indicadores de resultado de las pruebas SABER en las Instituciones Educativas del Municipio | CT12: E1.P_A.MR3 | CU12: Mantener las tasas de cobertura bruta por niveles | CW12: E1.P_A.MR1-MP02-1 | CX12: implementar acciones para mejorar los resultados de las Pruebas Saber 3°, 5°, 7°, 9° y 11 | CZ12: E1.P_A.MR2 | DA12: E1.P_A.MR2 - Disminuir el número de estudiantes por equipo de cómputo | DB12: E1. - SOCIAL: Desarrollo Social con alta competitividad y proyección | DC12: Mejorar las condiciones de calidad de vida de toda la población del territorio y especialmente en los sectores más vulnerables, garantizando el acceso a sus derechos sociales, individuales y colectrivos en Educación, Salud, Cultura, Recreación y Deporte | DD12: Educación | DE12: E1.P_A - TOCANCIPA BIEN EDUCADA | DF12: Garantizar calidad, cobertura, eficiencia y pertinencia en la oferta Educativa Municipal | DH12: E1.P_A.MR2 | DI12: Disminuir el número de estudiantes por equipo de cómputo | DJ12: No. de estudiantes por equipo de cómputo | DK12: 3 | DL12: 2 | DR12: E1.P_A.MR1-MP03-1 | DS12: Mantener la cobertura del servicio de transporte escolar | DT12: Tasa de Cobertura de Transporte Escolar según distancia legal para los estudiantes que lo requieren (%) | DU12: 98 | DV12: 98 | DW12: 98 | DX12: 98 | DY12: 98 | DZ12: 98
A13: E1. | B13: SOCIAL: Desarrollo Social con alta competitividad y proyección | C13: E1.P_A | D13: TOCANCIPA BIEN EDUCADA | F13: E1.P_A.MR1 | G13: Mejorar los indicadores de resultado de las pruebas SABER en las Instituciones Educativas del Municipio | H13: Índice de resultado pruebas SABER | I13: 0 | J13: 0.1 | N13: E1.P_A.MR1-MP06-1 | O13: Mantener la infraestructura educativa y recursos de aprendizaje de las I.E.D | P13: No. de I.E.D a las que se ha realizado mantenimiento | Q13: 3 | R13: 3 | S13: Mantenimiento | T13: A.1. Educación | U13: 3 | V13: 3 | W13: 3 | X13: 3 | Y13: 3 | Z13: 1 | AA13: Secretaria de Educación | AB13: 0 | AC13: 0 | AD13: 0 | AE13: 0 | AF13: NO APLICA | AG13: NO APLICA | AH13: NO APLICA | AI13: 0 | AJ13: 0 | AK13: NO APLICA | AQ13: E1.P_E | AR13: ATENCIÓN INTEGRAL DEL ADULTO MAYOR | AT13: E1.P_A | AU13: TOCANCIPA BIEN EDUCADA | AV13: E1.P_A.MR5 | AW13: Desarrollar una estrategia para fomentar el acceso de la población a la educación técnica, tecnológica y profesional | AY13: E1.P_A.MR1 | AZ13: Mejorar los indicadores de resultado de las pruebas SABER en las Instituciones Educativas del Municipio | BA13: E1.P_A.MR1-MP03-1 | BB13: Mantener la cobertura del servicio de transporte escolar | BD13: E1.P_E | BE13: ATENCIÓN INTEGRAL DEL ADULTO MAYOR | BF13: 240000000 | BH13: 0 | BL13: 240000000 | BM13: 240000000 | BN13: 0 | BO13: 0 | BP13: 0 | BQ13: 0 | BR13: 0 | BS13: 240000000 | BT13: 240000000 | BU13: 0 | BV13: 0 | BW13: 0 | BX13: 0 | BY13: 0 | BZ13: 240000000 | CA13: 240000000 | CB13: 0 | CC13: 0 | CD13: 0 | CE13: 0 | CF13: 0 | CG13: 240000000 | CH13: 960000000 | CI13: E1.P_A.MR3 - Mantener las tasas de cobertura bruta por niveles | CJ13: E1. - SOCIAL: Desarrollo Social con alta competitividad y proyección | CK13: E1.P_A - TOCANCIPA BIEN EDUCADA | CL13: Garantizar calidad, cobertura, eficiencia y pertinencia en la oferta Educativa Municipal | CN13: E1.P_A.MR1-MP03-1 - Mantener la cobertura del servicio de transporte escolar | CO13: E1. - SOCIAL: Desarrollo Social con alta competitividad y proyección | CP13: E1.P_A - TOCANCIPA BIEN EDUCADA | CQ13: Garantizar calidad, cobertura, eficiencia y pertinencia en la oferta Educativa Municipal | CR13: E1.P_A.MR1 - Mejorar los indicadores de resultado de las pruebas SABER en las Instituciones Educativas del Municipio | CT13: E1.P_A.MR4 | CU13: Mejorar el perfil ocupacional de la población | CW13: E1.P_A.MR1-MP03-1 | CX13: Mantener la cobertura del servicio de transporte escolar | CZ13: E1.P_A.MR3 | DA13: E1.P_A.MR3 - Mantener las tasas de cobertura bruta por niveles | DB13: E1. - SOCIAL: Desarrollo Social con alta competitividad y proyección | DC13: Mejorar las condiciones de calidad de vida de toda la población del territorio y especialmente en los sectores más vulnerables, garantizando el acceso a sus derechos sociales, individuales y colectrivos en Educación, Salud, Cultura, Recreación y Deporte | DD13: Educación | DE13: E1.P_A - TOCANCIPA BIEN EDUCADA | DF13: Garantizar calidad, cobertura, eficiencia y pertinencia en la oferta Educativa Municipal | DH13: E1.P_A.MR3 | DI13: Mantener las tasas de cobertura bruta por niveles | DJ13: Tasa de cobertura transición Tasa de cobertura primaria Tasa de cobertura secundaria Tasa de cobertura media | DK13: 104% 108% 126% 90,83% | DL13: 104% 108% 126% 90,83% | DR13: E1.P_A.MR1-MP04-1 | DS13: Implementar semilleros de investigación en tecnología e innovación | DT13: No. de semilleros de investigación en tecnología e innovación implementados | DU13: 0 | DV13: 3 | DW13: 0.5 | DX13: 0.5 | DY13: 1 | DZ13: 1
A14: E1. | B14: SOCIAL: Desarrollo Social con alta competitividad y proyección | C14: E1.P_A | D14: TOCANCIPA BIEN EDUCADA | F14: E1.P_A.MR1 | G14: Mejorar los indicadores de resultado de las pruebas SABER en las Instituciones Educativas del Municipio | H14: Índice de resultado pruebas SABER | I14: 0 | J14: 0.1 | N14: E1.P_A.MR1-MP07-1 | O14: Realizar procesos de apoyo y acompañamiento a las Instituciones Educativas Oficiales en su operación institucional | P14: No. de Instituciones Educativas Oficiales apoyadas y acompañadas | Q14: 3 | R14: 3 | S14: Mantenimiento | T14: A.1. Educación | U14: 3 | V14: 3 | W14: 3 | X14: 3 | Y14: 3 | Z14: 1 | AA14: Secretaria de Educación | AB14: 866538019 | AC14: 799819348 | AD14: 796116033 | AE14: 796116033 | AF14: 0.92300549 | AG14: 0.9187318 | AH14: 0.9187318 | AI14: 666538019 | AJ14: 666538019 | AK14: 1 | AQ14: E1.P_F | AR14: PRIMERA INFANCIA, INFANCIA, ADOLESCENCIA Y JUVENTUD CON DESARROLLO Y PROYECCIÓN | AT14: E1.P_B | AU14: SALUD CON ATENCIÓN DIGNA, PRIORITARIA Y DE CALIDAD | AV14: E1.P_B.MR1 | AW14: Terminación, equipamiento y operación del Hospital Municipal | AY14: E1.P_A.MR1 | AZ14: Mejorar los indicadores de resultado de las pruebas SABER en las Instituciones Educativas del Municipio | BA14: E1.P_A.MR1-MP04-1 | BB14: Implementar semilleros de investigación en tecnología e innovación | BD14: E1.P_F | BE14: PRIMERA INFANCIA, INFANCIA, ADOLESCENCIA Y JUVENTUD CON DESARROLLO Y PROYECCIÓN | BF14: 1566108662 | BG14: 1384562012 | BH14: 0 | BK14: 110329326 | BL14: 3061000000 | BM14: 1566108662 | BN14: 1384562012 | BO14: 0 | BP14: 0 | BQ14: 0 | BR14: 110329326 | BS14: 3061000000 | BT14: 1566108662 | BU14: 1384562012 | BV14: 0 | BW14: 0 | BX14: 0 | BY14: 110329326 | BZ14: 3061000000 | CA14: 1566108662 | CB14: 1384562012 | CC14: 0 | CD14: 0 | CE14: 0 | CF14: 110329326 | CG14: 3061000000 | CH14: 12244000000 | CI14: E1.P_A.MR4 - Mejorar el perfil ocupacional de la población | CJ14: E1. - SOCIAL: Desarrollo Social con alta competitividad y proyección | CK14: E1.P_A - TOCANCIPA BIEN EDUCADA | CL14: Garantizar calidad, cobertura, eficiencia y pertinencia en la oferta Educativa Municipal | CN14: E1.P_A.MR1-MP04-1 - Implementar semilleros de investigación en tecnología e innovación | CO14: E1. - SOCIAL: Desarrollo Social con alta competitividad y proyección | CP14: E1.P_A - TOCANCIPA BIEN EDUCADA | CQ14: Garantizar calidad, cobertura, eficiencia y pertinencia en la oferta Educativa Municipal | CR14: E1.P_A.MR1 - Mejorar los indicadores de resultado de las pruebas SABER en las Instituciones Educativas del Municipio | CT14: E1.P_A.MR5 | CU14: Desarrollar una estrategia para fomentar el acceso de la población a la educación técnica, tecnológica y profesional | CW14: E1.P_A.MR1-MP04-1 | CX14: Implementar semilleros de investigación en tecnología e innovación | CZ14: E1.P_A.MR4 | DA14: E1.P_A.MR4 - Mejorar el perfil ocupacional de la población | DB14: E1. - SOCIAL: Desarrollo Social con alta competitividad y proyección | DC14: Mejorar las condiciones de calidad de vida de toda la población del territorio y especialmente en los sectores más vulnerables, garantizando el acceso a sus derechos sociales, individuales y colectrivos en Educación, Salud, Cultura, Recreación y Deporte | DD14: Educación | DE14: E1.P_A - TOCANCIPA BIEN EDUCADA | DF14: Garantizar calidad, cobertura, eficiencia y pertinencia en la oferta Educativa Municipal | DH14: E1.P_A.MR4 | DI14: Mejorar el perfil ocupacional de la población | DJ14: Índice de perfil ocupacional | DK14: 0 | DL14: 4 | DR14: E1.P_A.MR1-MP05-1 | DS14: Mantener las Dotaciones de las I.E.D en Infraestructura Educativa y en Material y Medios Pedagógicos para el Aprendizaje | DT14: No. de instituciones dotadas | DU14: 3 | DV14: 3 | DW14: 3 | DX14: 3 | DY14: 3 | DZ14: 3
A15: E1. | B15: SOCIAL: Desarrollo Social con alta competitividad y proyección | C15: E1.P_A | D15: TOCANCIPA BIEN EDUCADA | E15: 2016-25817-0051 Desarrollo del programa Restaurantes Escolares en el Municipio de Tocancipá, Cundinamarca, Centro Oriente | F15: E1.P_A.MR1 | G15: Mejorar los indicadores de resultado de las pruebas SABER en las Instituciones Educativas del Municipio (Restaurantes Escolares) | H15: Índice de resultado pruebas SABER | I15: 0 | J15: 0.1 | K15: 0.66 | L15: 0.66 | M15: 1 | N15: E1.P_A.MR1-MP08-1 | O15: Realizar acciones para fortalecer la estrategia de complementación alimentaria y nutricional de calidad (refrigerios y restaurante escolar) para la población a la luz de criterios del Plan de Seguridad Alimentaria y Nutricional Departamental -PSAIN | P15: N° de acciones realizadas | Q15: 0 | R15: 3 | S15: Incremento | T15: A.1. Educación | U15: 1 | V15: 0.66 | W15: 0.66 | X15: 0.68 | Y15: 0.7 | Z15: 1.0606061 | AA15: Secretaria de Educación | AB15: 5717061978 | AC15: 3373234684 | AD15: 3373234684 | AE15: 2967854296 | AF15: 0.59002941 | AG15: 0.59002941 | AH15: 0.51912229 | AI15: 108743394 | AJ15: 108743394 | AK15: 1 | AQ15: E1.P_G | AR15: EMPODERAMIENTO E INCLUSIÓN DE GÉNERO Y POBLACIÓN LGTBI | AT15: E1.P_B | AU15: SALUD CON ATENCIÓN DIGNA, PRIORITARIA Y DE CALIDAD | AV15: E1.P_B.MR2 | AW15: Mantener el programa de aseguramiento SGSSS y fortalecer la prestación de servicios de salud | AY15: E1.P_A.MR1 | AZ15: Mejorar los indicadores de resultado de las pruebas SABER en las Instituciones Educativas del Municipio | BA15: E1.P_A.MR1-MP05-1 | BB15: Mantener las Dotaciones de las I.E.D en Infraestructura Educativa y en Material y Medios Pedagógicos para el Aprendizaje | BD15: E1.P_G | BE15: EMPODERAMIENTO E INCLUSIÓN DE GÉNERO Y POBLACIÓN LGTBI | BF15: 120000000 | BH15: 0 | BL15: 120000000 | BM15: 120000000 | BN15: 0 | BO15: 0 | BP15: 0 | BQ15: 0 | BR15: 0 | BS15: 120000000 | BT15: 120000000 | BU15: 0 | BV15: 0 | BW15: 0 | BX15: 0 | BY15: 0 | BZ15: 120000000 | CA15: 120000000 | CB15: 0 | CC15: 0 | CD15: 0 | CE15: 0 | CF15: 0 | CG15: 120000000 | CH15: 480000000 | CI15: E1.P_A.MR5 - Desarrollar una estrategia para fomentar el acceso de la población a la educación técnica, tecnológica y profesional | CJ15: E1. - SOCIAL: Desarrollo Social con alta competitividad y proyección | CK15: E1.P_A - TOCANCIPA BIEN EDUCADA | CL15: Garantizar calidad, cobertura, eficiencia y pertinencia en la oferta Educativa Municipal | CN15: E1.P_A.MR1-MP05-1 - Mantener las Dotaciones de las I.E.D en Infraestructura Educativa y en Material y Medios Pedagógicos para el Aprendizaje | CO15: E1. - SOCIAL: Desarrollo Social con alta competitividad y proyección | CP15: E1.P_A - TOCANCIPA BIEN EDUCADA | CQ15: Garantizar calidad, cobertura, eficiencia y pertinencia en la oferta Educativa Municipal | CR15: E1.P_A.MR1 - Mejorar los indicadores de resultado de las pruebas SABER en las Instituciones Educativas del Municipio | CT15: E1.P_B.MR1 | CU15: Terminación, equipamiento y operación del Hospital Municipal | CW15: E1.P_A.MR1-MP05-1 | CX15: Mantener las Dotaciones de las I.E.D en Infraestructura Educativa y en Material y Medios Pedagógicos para el Aprendizaje | CZ15: E1.P_A.MR5 | DA15: E1.P_A.MR5 - Desarrollar una estrategia para fomentar el acceso de la población a la educación técnica, tecnológica y profesional | DB15: E1. - SOCIAL: Desarrollo Social con alta competitividad y proyección | DC15: Mejorar las condiciones de calidad de vida de toda la población del territorio y especialmente en los sectores más vulnerables, garantizando el acceso a sus derechos sociales, individuales y colectrivos en Educación, Salud, Cultura, Recreación y Deporte | DD15: Educación | DE15: E1.P_A - TOCANCIPA BIEN EDUCADA | DF15: Garantizar calidad, cobertura, eficiencia y pertinencia en la oferta Educativa Municipal | DH15: E1.P_A.MR5 | DI15: Desarrollar una estrategia para fomentar el acceso de la población a la educación técnica, tecnológica y profesional | DJ15: Estrategia desarrollada | DK15: 0 | DL15: 1 | DR15: E1.P_A.MR1-MP06-1 | DS15: Mantener la infraestructura educativa y recursos de aprendizaje de las I.E.D | DT15: No. de I.E.D a las que se ha realizado mantenimiento | DU15: 3 | DV15: 3 | DW15: 3 | DX15: 3 | DY15: 3 | DZ15: 3
A16: E1. | B16: SOCIAL: Desarrollo Social con alta competitividad y proyección | C16: E1.P_A | D16: TOCANCIPA BIEN EDUCADA | E16: 2016-25817-0026 Fortalecimiento de la enseñanza mediante ambientes digitales y cualificación docente en el Municipio de Tocancipá, Cundinamarca, Centro Oriente | F16: E1.P_A.MR2 | G16: Disminuir el número de estudiantes por equipo de cómputo | H16: No. de estudiantes por equipo de cómputo | I16: 3 | J16: 2 | K16: 2 | L16: 2 | M16: 1 | N16: E1.P_A.MR2-MP01-1 | O16: Realizar acciones para mejorar la cualificación docente | P16: No. de acciones realizadas | Q16: 0 | R16: 4 | S16: Incremento | T16: A.1. Educación | U16: 0 | V16: 1 | W16: 2 | X16: 1 | Y16: 0 | Z16: 0 | AA16: Secretaria de Educación | AB16: 0 | AC16: 0 | AD16: 0 | AE16: 0 | AF16: NO APLICA | AG16: NO APLICA | AH16: NO APLICA | AI16: 0 | AJ16: 0 | AK16: NO APLICA | AQ16: E1.P_H | AR16: VICTIMAS DEL CONFLICTO ARMADO Y POSTCONFLICTO | AT16: E1.P_B | AU16: SALUD CON ATENCIÓN DIGNA, PRIORITARIA Y DE CALIDAD | AV16: E1.P_B.MR3 | AW16: Implementar el 100% de los componentes priorizados de cada una de las dimensiones del Plan Decenal de Salud Pública en el Territorio (20 componentes) | AY16: E1.P_A.MR1 | AZ16: Mejorar los indicadores de resultado de las pruebas SABER en las Instituciones Educativas del Municipio | BA16: E1.P_A.MR1-MP06-1 | BB16: Mantener la infraestructura educativa y recursos de aprendizaje de las I.E.D | BD16: E1.P_H | BE16: VICTIMAS DEL CONFLICTO ARMADO Y POSTCONFLICTO | BF16: 100000000 | BH16: 0 | BL16: 100000000 | BM16: 100000000 | BN16: 0 | BO16: 0 | BP16: 0 | BQ16: 0 | BR16: 0 | BS16: 100000000 | BT16: 100000000 | BU16: 0 | BV16: 0 | BW16: 0 | BX16: 0 | BY16: 0 | BZ16: 100000000 | CA16: 100000000 | CB16: 0 | CC16: 0 | CD16: 0 | CE16: 0 | CF16: 0 | CG16: 100000000 | CH16: 400000000 | CI16: E1.P_B.MR1 - Terminación, equipamiento y operación del Hospital Municipal | CJ16: E1. - SOCIAL: Desarrollo Social con alta competitividad y proyección | CK16: E1.P_B - SALUD CON ATENCIÓN DIGNA, PRIORITARIA Y DE CALIDAD | CL16: Desarrollar acciones para fortalecer las condiciones del sistema de salud, que Garantice una atención digna, prioritaria y de calidad para todos | CN16: E1.P_A.MR1-MP06-1 - Mantener la infraestructura educativa y recursos de aprendizaje de las I.E.D | CO16: E1. - SOCIAL: Desarrollo Social con alta competitividad y proyección | CP16: E1.P_A - TOCANCIPA BIEN EDUCADA | CQ16: Garantizar calidad, cobertura, eficiencia y pertinencia en la oferta Educativa Municipal | CR16: E1.P_A.MR1 - Mejorar los indicadores de resultado de las pruebas SABER en las Instituciones Educativas del Municipio | CT16: E1.P_B.MR2 | CU16: Mantener el programa de aseguramiento SGSSS y fortalecer la prestación de servicios de salud | CW16: E1.P_A.MR1-MP06-1 | CX16: Mantener la infraestructura educativa y recursos de aprendizaje de las I.E.D | CZ16: E1.P_B.MR1 | DA16: E1.P_B.MR1 - Terminación, equipamiento y operación del Hospital Municipal | DB16: E1. - SOCIAL: Desarrollo Social con alta competitividad y proyección | DC16: Mejorar las condiciones de calidad de vida de toda la población del territorio y especialmente en los sectores más vulnerables, garantizando el acceso a sus derechos sociales, individuales y colectrivos en Educación, Salud, Cultura, Recreación y Deporte | DD16: Salud | DE16: E1.P_B - SALUD CON ATENCIÓN DIGNA, PRIORITARIA Y DE CALIDAD | DF16: Desarrollar acciones para fortalecer las condiciones del sistema de salud, que Garantice una atención digna, prioritaria y de calidad para todos | DH16: E1.P_B.MR1 | DI16: Terminación, equipamiento y operación del Hospital Municipal | DJ16: Hospital Terminado, equipado y en operación | DK16: 20 | DL16: 100 | DR16: E1.P_A.MR1-MP07-1 | DS16: Realizar procesos de apoyo y acompañamiento a las Instituciones Educativas Oficiales en su operación institucional | DT16: No. de Instituciones Educativas Oficiales apoyadas y acompañadas | DU16: 3 | DV16: 3 | DW16: 3 | DX16: 3 | DY16: 3 | DZ16: 3
A17: E1. | B17: SOCIAL: Desarrollo Social con alta competitividad y proyección | C17: E1.P_A | D17: TOCANCIPA BIEN EDUCADA | F17: E1.P_A.MR2 | G17: Disminuir el número de estudiantes por equipo de cómputo | H17: No. de estudiantes por equipo de cómputo | I17: 3 | J17: 2 | N17: E1.P_A.MR2-MP02-1 | O17: Implementar una estrategia de “reconocimiento labor docente” | P17: No. de estrategias implementadas | Q17: 0 | R17: 1 | S17: Incremento | T17: A.1. Educación | U17: 0.25 | V17: 0.25 | W17: 0.25 | X17: 0.25 | Y17: 0.3 | Z17: 1.2 | AA17: Secretaria de Educación | AB17: 60000000 | AC17: 18994000 | AD17: 18994000 | AE17: 18994000 | AF17: 0.31656667 | AG17: 0.31656667 | AH17: 0.31656667 | AI17: 0 | AJ17: 0 | AK17: NO APLICA | AQ17: E1.P_I | AR17: REDUCCIÓN DE LA POBREZA EXTREMA | AT17: E1.P_C | AU17: CULTURA DE TODOS Y PARA TODOS | AV17: E1.P_C.MR1 | AW17: Ampliar a 3700 el número de personas que accede anualmente a los programas de formación artística y cultural (L.B. 3630) | AY17: E1.P_A.MR1 | AZ17: Mejorar los indicadores de resultado de las pruebas SABER en las Instituciones Educativas del Municipio | BA17: E1.P_A.MR1-MP07-1 | BB17: Realizar procesos de apoyo y acompañamiento a las Instituciones Educativas Oficiales en su operación institucional | BD17: E1.P_I | BE17: REDUCCIÓN DE LA POBREZA EXTREMA | BF17: 279000000 | BH17: 0 | BL17: 279000000 | BM17: 279000000 | BN17: 0 | BO17: 0 | BP17: 0 | BQ17: 0 | BR17: 0 | BS17: 279000000 | BT17: 279000000 | BU17: 0 | BV17: 0 | BW17: 0 | BX17: 0 | BY17: 0 | BZ17: 279000000 | CA17: 279000000 | CB17: 0 | CC17: 0 | CD17: 0 | CE17: 0 | CF17: 0 | CG17: 279000000 | CH17: 1116000000 | CI17: E1.P_B.MR2 - Mantener el programa de aseguramiento SGSSS y fortalecer la prestación de servicios de salud | CJ17: E1. - SOCIAL: Desarrollo Social con alta competitividad y proyección | CK17: E1.P_B - SALUD CON ATENCIÓN DIGNA, PRIORITARIA Y DE CALIDAD | CL17: Desarrollar acciones para fortalecer las condiciones del sistema de salud, que Garantice una atención digna, prioritaria y de calidad para todos | CN17: E1.P_A.MR1-MP07-1 - Realizar procesos de apoyo y acompañamiento a las Instituciones Educativas Oficiales en su operación institucional | CO17: E1. - SOCIAL: Desarrollo Social con alta competitividad y proyección | CP17: E1.P_A - TOCANCIPA BIEN EDUCADA | CQ17: Garantizar calidad, cobertura, eficiencia y pertinencia en la oferta Educativa Municipal | CR17: E1.P_A.MR1 - Mejorar los indicadores de resultado de las pruebas SABER en las Instituciones Educativas del Municipio | CT17: E1.P_B.MR3 | CU17: Implementar el 100% de los componentes priorizados de cada una de las dimensiones del Plan Decenal de Salud Pública en el Territorio (20 componentes) | CW17: E1.P_A.MR1-MP07-1 | CX17: Realizar procesos de apoyo y acompañamiento a las Instituciones Educativas Oficiales en su operación institucional | CZ17: E1.P_B.MR2 | DA17: E1.P_B.MR2 - Mantener el programa de aseguramiento SGSSS y fortalecer la prestación de servicios de salud | DB17: E1. - SOCIAL: Desarrollo Social con alta competitividad y proyección | DC17: Mejorar las condiciones de calidad de vida de toda la población del territorio y especialmente en los sectores más vulnerables, garantizando el acceso a sus derechos sociales, individuales y colectrivos en Educación, Salud, Cultura, Recreación y Deporte | DD17: Salud | DE17: E1.P_B - SALUD CON ATENCIÓN DIGNA, PRIORITARIA Y DE CALIDAD | DF17: Desarrollar acciones para fortalecer las condiciones del sistema de salud, que Garantice una atención digna, prioritaria y de calidad para todos | DH17: E1.P_B.MR2 | DI17: Mantener el programa de aseguramiento SGSSS y fortalecer la prestación de servicios de salud | DJ17: Programa de aseguramiento mantenido | DK17: 5295 | DL17: 5295 | DR17: E1.P_A.MR1-MP08-1 | DS17: Realizar acciones para fortalecer la estrategia de complementación alimentaria y nutricional de calidad (refrigerios y restaurante escolar) para la población a la luz de criterios del Plan de Seguridad Alimentaria y Nutricional Departamental -PSAIN | DT17: N° de acciones realizadas | DU17: 0 | DV17: 3 | DW17: 1 | DX17: 0.66 | DY17: 0.66 | DZ17: 0.68
A18: E1. | B18: SOCIAL: Desarrollo Social con alta competitividad y proyección | C18: E1.P_A | D18: TOCANCIPA BIEN EDUCADA | F18: E1.P_A.MR2 | G18: Disminuir el número de estudiantes por equipo de cómputo | H18: No. de estudiantes por equipo de cómputo | I18: 3 | J18: 2 | N18: E1.P_A.MR2-MP03-1 | O18: Mantener y fortalecer los ambientes digitales | P18: No. de ambientes mantenidos y fortalecidos | Q18: 8 | R18: 8 | S18: Mantenimiento | T18: A.1. Educación | U18: 8 | V18: 8 | W18: 8 | X18: 8 | Y18: 8 | Z18: 1 | AA18: Secretaria de Educación | AB18: 1023653287 | AC18: 683563162 | AD18: 682463161 | AE18: 682463161 | AF18: 0.66776825 | AG18: 0.66669366 | AH18: 0.66669366 | AI18: 0 | AJ18: 0 | AK18: NO APLICA | AQ18: E1.P_J | AR18: CAPACIDADES DIFERENCIALES | AT18: E1.P_D | AU18: DEPORTE Y RECREACIÓN PARA EL MEJORAMIENTO DE LA CALIDAD DE VIDA Y LA SANA CONVIVENCIA | AV18: E1.P_D.MR1 | AW18: Ampliar a 1800 personas oficialmente inscritas, que se benefician con el programa de Escuelas Deportivas del Municipio | AY18: E1.P_A.MR1 | AZ18: Mejorar los indicadores de resultado de las pruebas SABER en las Instituciones Educativas del Municipio | BA18: E1.P_A.MR1-MP08-1 | BB18: Realizar acciones para fortalecer la estrategia de complementación alimentaria y nutricional de calidad (refrigerios y restaurante escolar) para la población a la luz de criterios del Plan de Seguridad Alimentaria y Nutricional Departamental -PSAIN | BD18: E1.P_J | BE18: CAPACIDADES DIFERENCIALES | BF18: 240000000 | BH18: 0 | BL18: 240000000 | BM18: 240000000 | BN18: 0 | BO18: 0 | BP18: 0 | BQ18: 0 | BR18: 0 | BS18: 240000000 | BT18: 240000000 | BU18: 0 | BV18: 0 | BW18: 0 | BX18: 0 | BY18: 0 | BZ18: 240000000 | CA18: 240000000 | CB18: 0 | CC18: 0 | CD18: 0 | CE18: 0 | CF18: 0 | CG18: 240000000 | CH18: 960000000 | CI18: E1.P_B.MR3 - Implementar el 100% de los componentes priorizados de cada una de las dimensiones del Plan Decenal de Salud Pública en el Territorio (20 componentes) | CJ18: E1. - SOCIAL: Desarrollo Social con alta competitividad y proyección | CK18: E1.P_B - SALUD CON ATENCIÓN DIGNA, PRIORITARIA Y DE CALIDAD | CL18: Desarrollar acciones para fortalecer las condiciones del sistema de salud, que Garantice una atención digna, prioritaria y de calidad para todos | CN18: E1.P_A.MR1-MP08-1 - Realizar acciones para fortalecer la estrategia de complementación alimentaria y nutricional de calidad (refrigerios y restaurante escolar) para la población a la luz de criterios del Plan de Seguridad Alimentaria | CO18: E1. - SOCIAL: Desarrollo Social con alta competitividad y proyección | CP18: E1.P_A - TOCANCIPA BIEN EDUCADA | CQ18: Garantizar calidad, cobertura, eficiencia y pertinencia en la oferta Educativa Municipal | CR18: E1.P_A.MR1 - Mejorar los indicadores de resultado de las pruebas SABER en las Instituciones Educativas del Municipio | CT18: E1.P_C.MR1 | CU18: Ampliar a 3700 el número de personas que accede anualmente a los programas de formación artística y cultural (L.B. 3630) | CW18: E1.P_A.MR1-MP08-1 | CX18: Realizar acciones para fortalecer la estrategia de complementación alimentaria y nutricional de calidad (refrigerios y restaurante escolar) para la población a la luz de criterios del Plan de Seguridad Alimentaria y Nutricional Departamental -PSAIN | CZ18: E1.P_B.MR3 | DA18: E1.P_B.MR3 - Implementar el 100% de los componentes priorizados de cada una de las dimensiones del Plan Decenal de Salud Pública en el Territorio (20 componentes) | DB18: E1. - SOCIAL: Desarrollo Social con alta competitividad y proyección | DC18: Mejorar las condiciones de calidad de vida de toda la población del territorio y especialmente en los sectores más vulnerables, garantizando el acceso a sus derechos sociales, individuales y colectrivos en Educación, Salud, Cultura, Recreación y Deporte | DD18: Salud | DE18: E1.P_B - SALUD CON ATENCIÓN DIGNA, PRIORITARIA Y DE CALIDAD | DF18: Desarrollar acciones para fortalecer las condiciones del sistema de salud, que Garantice una atención digna, prioritaria y de calidad para todos | DH18: E1.P_B.MR3 | DI18: Implementar el 100% de los componentes priorizados de cada una de las dimensiones del Plan Decenal de Salud Pública en el Territorio (20 componentes) | DJ18: Componentes implementados | DK18: 0 | DL18: 20 | DR18: E1.P_A.MR2-MP01-1 | DS18: Realizar acciones para mejorar la cualificación docente | DT18: No. de acciones realizadas | DU18: 0 | DV18: 4 | DW18: 0 | DX18: 1 | DY18: 2 | DZ18: 1
A19: E1. | B19: SOCIAL: Desarrollo Social con alta competitividad y proyección | C19: E1.P_A | D19: TOCANCIPA BIEN EDUCADA | F19: E1.P_A.MR2 | G19: Disminuir el número de estudiantes por equipo de cómputo | H19: No. de estudiantes por equipo de cómputo | I19: 3 | J19: 2 | N19: E1.P_A.MR2-MP04-1 | O19: Otorgar estímulos a las IED para que logren alta calidad educativa | P19: No. de estímulos otorgados | Q19: 0 | R19: 3 | S19: Incremento | T19: A.1. Educación | U19: 0.75 | V19: 0.75 | W19: 0.75 | X19: 0.75 | Y19: 0.8 | Z19: 1.0666667 | AA19: Secretaria de Educación | AB19: 220000000 | AC19: 190772838 | AD19: 190772838 | AE19: 190772838 | AF19: 0.86714926 | AG19: 0.86714926 | AH19: 0.86714926 | AI19: 0 | AJ19: 0 | AK19: NO APLICA | AO19: E2. | AP19: ECONÓMICO: Desarrollo Económico con alta competitividad y proyección | AQ19: E2.P_A | AR19: EMPLEO DIGNO | AT19: E1.P_E | AU19: ATENCIÓN INTEGRAL DEL ADULTO MAYOR | AV19: E1.P_E.MR1 | AW19: Ampliar la cobertura a 400 adultos Mayores que se benefician con los programas del Municipio | AY19: E1.P_A.MR2 | AZ19: Disminuir el número de estudiantes por equipo de cómputo | BA19: E1.P_A.MR2-MP01-1 | BB19: Realizar acciones para mejorar la cualificación docente | BD19: E2.P_A | BE19: EMPLEO DIGNO | BF19: 30000000 | BG19: 0 | BH19: 0 | BI19: 0 | BJ19: 0 | BK19: 0 | BL19: 30000000 | BM19: 31050000 | BN19: 0 | BO19: 0 | BP19: 0 | BQ19: 0 | BR19: 0 | BS19: 31050000 | BT19: 32136750 | BU19: 0 | BV19: 0 | BW19: 0 | BX19: 0 | BY19: 0 | BZ19: 32136750 | CA19: 33261536 | CB19: 0 | CC19: 0 | CD19: 0 | CE19: 0 | CF19: 0 | CG19: 33261536 | CH19: 1.2644829e+08 | CI19: E1.P_C.MR1 - Ampliar a 3700 el número de personas que accede anualmente a los programas de formación artística y cultural (L.B. 3630) | CJ19: E1. - SOCIAL: Desarrollo Social con alta competitividad y proyección | CK19: E1.P_C - CULTURA DE TODOS Y PARA TODOS | CL19: Hacer de la cultura un eje integrador del desarrollo humano, la inclusión social y el aprovechamiento del tiempo libre en el municipio | CN19: E1.P_A.MR2-MP01-1 - Realizar acciones para mejorar la cualificación docente | CO19: E1. - SOCIAL: Desarrollo Social con alta competitividad y proyección | CP19: E1.P_A - TOCANCIPA BIEN EDUCADA | CQ19: Garantizar calidad, cobertura, eficiencia y pertinencia en la oferta Educativa Municipal | CR19: E1.P_A.MR2 - Disminuir el número de estudiantes por equipo de cómputo | CT19: E1.P_D.MR1 | CU19: Ampliar a 1800 personas oficialmente inscritas, que se benefician con el programa de Escuelas Deportivas del Municipio | CW19: E1.P_A.MR2-MP01-1 | CX19: Realizar acciones para mejorar la cualificación docente | CZ19: E1.P_C.MR1 | DA19: E1.P_C.MR1 - Ampliar a 3700 el número de personas que accede anualmente a los programas de formación artística y cultural (L.B. 3630) | DB19: E1. - SOCIAL: Desarrollo Social con alta competitividad y proyección | DC19: Mejorar las condiciones de calidad de vida de toda la población del territorio y especialmente en los sectores más vulnerables, garantizando el acceso a sus derechos sociales, individuales y colectrivos en Educación, Salud, Cultura, Recreación y Deporte | DD19: Cultura | DE19: E1.P_C - CULTURA DE TODOS Y PARA TODOS | DF19: Hacer de la cultura un eje integrador del desarrollo humano, la inclusión social y el aprovechamiento del tiempo libre en el municipio | DH19: E1.P_C.MR1 | DI19: Ampliar a 3700 el número de personas que accede anualmente a los programas de formación artística y cultural (L.B. 3630) | DJ19: Cobertura ampliada | DK19: 3630 | DL19: 3700 | DR19: E1.P_A.MR2-MP02-1 | DS19: Implementar una estrategia de “reconocimiento labor docente” | DT19: No. de estrategias implementadas | DU19: 0 | DV19: 1 | DW19: 0.25 | DX19: 0.25 | DY19: 0.25 | DZ19: 0.25
A20: E1. | B20: SOCIAL: Desarrollo Social con alta competitividad y proyección | C20: E1.P_A | D20: TOCANCIPA BIEN EDUCADA | E20: 2016-25817-0044 Mantenimiento de las tasas de cobertura escolar Tocancipá, Cundinamarca, Centro Oriente | F20: E1.P_A.MR3 | G20: Mantener las tasas de cobertura bruta por niveles | H20: Tasa de cobertura transición Tasa de cobertura primaria Tasa de cobertura secundaria Tasa de cobertura media | I20: 104% 108% 126% 90,83% | J20: 104% 108% 126% 90,83% | K20: 104% 108% 126% 90.83 | L20: 104% 108% 126% 90.83 | M20: #VALUE! | N20: E1.P_A.MR3-MP01-1 | O20: Implementar procesos de apoyo para la permanencia y cobertura educativa en la población desescolarizada | P20: No. de procesos implementados | Q20: 1 | R20: 2 | S20: Incremento | T20: A.1. Educación | U20: 0.5 | V20: 0.5 | W20: 0.5 | X20: 0.5 | Y20: 0.5 | Z20: 1 | AA20: Secretaria de Educación | AB20: 0 | AC20: 0 | AD20: 0 | AE20: 0 | AF20: NO APLICA | AG20: NO APLICA | AH20: NO APLICA | AI20: 0 | AJ20: 0 | AK20: NO APLICA | AQ20: E2.P_B | AR20: EMPRENDIMIENTO Y ASOCIATIVIDAD | AT20: E1.P_F | AU20: PRIMERA INFANCIA, INFANCIA, ADOLESCENCIA Y JUVENTUD CON DESARROLLO Y PROYECCIÓN | AV20: E1.P_F.MR1 | AW20: Ampliar la Infraestructura para la atención de Primera Infancia, Infancia, Adolescencia y Juventud | AY20: E1.P_A.MR2 | AZ20: Disminuir el número de estudiantes por equipo de cómputo | BA20: E1.P_A.MR2-MP02-1 | BB20: Implementar una estrategia de “reconocimiento labor docente” | BD20: E2.P_B | BE20: EMPRENDIMIENTO Y ASOCIATIVIDAD | BF20: 231000000 | BG20: 0 | BH20: 100000000 | BI20: 0 | BJ20: 0 | BK20: 0 | BL20: 331000000 | BM20: 2.39085e+08 | BN20: 0 | BO20: 1.035e+08 | BP20: 0 | BQ20: 0 | BR20: 0 | BS20: 3.42585e+08 | BT20: 2.4745297e+08 | BU20: 0 | BV20: 1.071225e+08 | BW20: 0 | BX20: 0 | BY20: 0 | BZ20: 3.5457547e+08 | CA20: 2.5611383e+08 | CB20: 0 | CC20: 1.1087179e+08 | CD20: 0 | CE20: 0 | CF20: 0 | CG20: 3.6698562e+08 | CH20: 1.3951461e+09 | CI20: E1.P_D.MR1 - Ampliar a 1800 personas oficialmente inscritas, que se benefician con el programa de Escuelas Deportivas del Municipio | CJ20: E1. - SOCIAL: Desarrollo Social con alta competitividad y proyección | CK20: E1.P_D - DEPORTE Y RECREACIÓN PARA EL MEJORAMIENTO DE LA CALIDAD DE VIDA Y LA SANA CONVIVENCIA | CL20: Mejorar las condiciones de práctica y competitividad del deporte municipal en el ámbito local, regional, departamental, nacional e internacional | CN20: E1.P_A.MR2-MP02-1 - Implementar una estrategia de “reconocimiento labor docente” | CO20: E1. - SOCIAL: Desarrollo Social con alta competitividad y proyección | CP20: E1.P_A - TOCANCIPA BIEN EDUCADA | CQ20: Garantizar calidad, cobertura, eficiencia y pertinencia en la oferta Educativa Municipal | CR20: E1.P_A.MR2 - Disminuir el número de estudiantes por equipo de cómputo | CT20: E1.P_E.MR1 | CU20: Ampliar la cobertura a 400 adultos Mayores que se benefician con los programas del Municipio | CW20: E1.P_A.MR2-MP02-1 | CX20: Implementar una estrategia de “reconocimiento labor docente” | CZ20: E1.P_D.MR1 | DA20: E1.P_D.MR1 - Ampliar a 1800 personas oficialmente inscritas, que se benefician con el programa de Escuelas Deportivas del Municipio | DB20: E1. - SOCIAL: Desarrollo Social con alta competitividad y proyección | DC20: Mejorar las condiciones de calidad de vida de toda la población del territorio y especialmente en los sectores más vulnerables, garantizando el acceso a sus derechos sociales, individuales y colectrivos en Educación, Salud, Cultura, Recreación y Deporte | DD20: Deporte y Recreación | DE20: E1.P_D - DEPORTE Y RECREACIÓN PARA EL MEJORAMIENTO DE LA CALIDAD DE VIDA Y LA SANA CONVIVENCIA | DF20: Mejorar las condiciones de práctica y competitividad del deporte municipal en el ámbito local, regional, departamental, nacional e internacional | DH20: E1.P_D.MR1 | DI20: Ampliar a 1800 personas oficialmente inscritas, que se benefician con el programa de Escuelas Deportivas del Municipio | DJ20: Cobertura ampliada | DK20: 1400 | DL20: 1800 | DR20: E1.P_A.MR2-MP03-1 | DS20: Mantener y fortalecer los ambientes digitales | DT20: No. de ambientes mantenidos y fortalecidos | DU20: 8 | DV20: 8 | DW20: 8 | DX20: 8 | DY20: 8 | DZ20: 8
A21: E1. | B21: SOCIAL: Desarrollo Social con alta competitividad y proyección | C21: E1.P_A | D21: TOCANCIPA BIEN EDUCADA | F21: E1.P_A.MR3 | G21: Mantener las tasas de cobertura bruta por niveles | H21: Tasa de cobertura transición Tasa de cobertura primaria Tasa de cobertura secundaria Tasa de cobertura media | I21: 104% 108% 126% 90,83% | J21: 104% 108% 126% 90,83% | N21: E1.P_A.MR3-MP02-1 | O21: Otorgar estímulos para las IED que implementen la jornada única escolar | P21: No. de Estímulos otorgados | Q21: 0 | R21: 3 | S21: Incremento | T21: A.1. Educación | U21: 0 | V21: 0 | W21: 1 | X21: 2 | Y21: 0 | Z21: NO APLICA | AA21: Secretaria de Educación | AB21: 0 | AC21: 0 | AD21: 0 | AE21: 0 | AF21: NO APLICA | AG21: NO APLICA | AH21: NO APLICA | AI21: 0 | AJ21: 0 | AK21: NO APLICA | AQ21: E2.P_C | AR21: COMPETITIVIDAD Y DESARROLLO | AT21: E1.P_F | AU21: PRIMERA INFANCIA, INFANCIA, ADOLESCENCIA Y JUVENTUD CON DESARROLLO Y PROYECCIÓN | AV21: E1.P_F.MR2 | AW21: Ampliar en 600 la cobertura de las personas que se benefician de los programas dirigidos a Primera Infancia y Juventud | AY21: E1.P_A.MR2 | AZ21: Disminuir el número de estudiantes por equipo de cómputo | BA21: E1.P_A.MR2-MP03-1 | BB21: Mantener y fortalecer los ambientes digitales | BD21: E2.P_C | BE21: COMPETITIVIDAD Y DESARROLLO | BF21: 60000000 | BG21: 0 | BH21: 0 | BI21: 0 | BJ21: 0 | BK21: 0 | BL21: 60000000 | BM21: 62100000 | BN21: 0 | BO21: 0 | BP21: 0 | BQ21: 0 | BR21: 0 | BS21: 62100000 | BT21: 64273500 | BU21: 0 | BV21: 0 | BW21: 0 | BX21: 0 | BY21: 0 | BZ21: 64273500 | CA21: 66523072 | CB21: 0 | CC21: 0 | CD21: 0 | CE21: 0 | CF21: 0 | CG21: 66523072 | CH21: 2.5289657e+08 | CI21: E1.P_E.MR1 - Ampliar la cobertura a 400 adultos Mayores que se benefician con los programas del Municipio | CJ21: E1. - SOCIAL: Desarrollo Social con alta competitividad y proyección | CK21: E1.P_E - ATENCIÓN INTEGRAL DEL ADULTO MAYOR | CL21: Integrar al adulto mayor a la sociedad y garantizarle sus derechos | CN21: E1.P_A.MR2-MP03-1 - Mantener y fortalecer los ambientes digitales | CO21: E1. - SOCIAL: Desarrollo Social con alta competitividad y proyección | CP21: E1.P_A - TOCANCIPA BIEN EDUCADA | CQ21: Garantizar calidad, cobertura, eficiencia y pertinencia en la oferta Educativa Municipal | CR21: E1.P_A.MR2 - Disminuir el número de estudiantes por equipo de cómputo | CT21: E1.P_F.MR1 | CU21: Ampliar la Infraestructura para la atención de Primera Infancia, Infancia, Adolescencia y Juventud | CW21: E1.P_A.MR2-MP03-1 | CX21: Mantener y fortalecer los ambientes digitales | CZ21: E1.P_E.MR1 | DA21: E1.P_E.MR1 - Ampliar la cobertura a 400 adultos Mayores que se benefician con los programas del Municipio | DB21: E1. - SOCIAL: Desarrollo Social con alta competitividad y proyección | DC21: Mejorar las condiciones de calidad de vida de toda la población del territorio y especialmente en los sectores más vulnerables, garantizando el acceso a sus derechos sociales, individuales y colectrivos en Educación, Salud, Cultura, Recreación y Deporte | DD21: Atención a grupos vulnerables - promoción social | DE21: E1.P_E - ATENCIÓN INTEGRAL DEL ADULTO MAYOR | DF21: Integrar al adulto mayor a la sociedad y garantizarle sus derechos | DH21: E1.P_E.MR1 | DI21: Ampliar la cobertura a 400 adultos Mayores que se benefician con los programas del Municipio | DJ21: Cobertura ampliada | DK21: 288 | DL21: 400 | DR21: E1.P_A.MR2-MP04-1 | DS21: Otorgar estímulos a las IED para que logren alta calidad educativa | DT21: No. de estímulos otorgados | DU21: 0 | DV21: 3 | DW21: 0.75 | DX21: 0.75 | DY21: 0.75 | DZ21: 0.75
