Workbook
Name _001_Recursos__Propios: '[1]FUENTES DE RECURSOS '!$E$2:$E$50
Name _001_Recursos__Propios: '[1]FUENTES DE RECURSOS '!$E$2:$E$50
Name CARGOS: [2]DEPENDENCIAS!$B$2:$B$43
Name COD_MR: '[3]CONSOLIDADO PLAN DESARROLLO'!$DT$9:$DT$62
Name COD_MR: 'CONSOLIDADO PLAN DESARROLLO'!$DT$9:$DT$62
Name E1.: 'CONSOLIDADO PLAN DESARROLLO'!$BK$9:$BK$18
Name E1.P_A: 'CONSOLIDADO PLAN DESARROLLO'!$BP$9:$BP$13
Name E1.P_A.MR1: 'CONSOLIDADO PLAN DESARROLLO'!$BU$10:$BU$18
Name E1.P_A.MR2: 'CONSOLIDADO PLAN DESARROLLO'!$BU$19:$BU$22
Name E1.P_A.MR3: 'CONSOLIDADO PLAN DESARROLLO'!$BU$23:$BU$27
Name E1.P_A.MR4: 'CONSOLIDADO PLAN DESARROLLO'!$BU$28:$BU$32
Name E1.P_A.MR5: 'CONSOLIDADO PLAN DESARROLLO'!$BU$33:$BU$36
Name E1.P_B: 'CONSOLIDADO PLAN DESARROLLO'!$BP$14:$BP$16
Name E1.P_B.MR1: 'CONSOLIDADO PLAN DESARROLLO'!$BU$37:$BU$40
Name E1.P_B.MR2: 'CONSOLIDADO PLAN DESARROLLO'!$BU$41:$BU$43
Name E1.P_B.MR3: 'CONSOLIDADO PLAN DESARROLLO'!$BU$44:$BU$53
Name E1.P_C: 'CONSOLIDADO PLAN DESARROLLO'!$BP$17
Name E1.P_C.MR1: 'CONSOLIDADO PLAN DESARROLLO'!$BU$54:$BU$69
Name E1.P_D: 'CONSOLIDADO PLAN DESARROLLO'!$BP$18
Name E1.P_D.MR1: 'CONSOLIDADO PLAN DESARROLLO'!$BU$70:$BU$82
Name E1.P_E: 'CONSOLIDADO PLAN DESARROLLO'!$BP$19
Name E1.P_E.MR1: 'CONSOLIDADO PLAN DESARROLLO'!$BU$83:$BU$87
Name E1.P_F: 'CONSOLIDADO PLAN DESARROLLO'!$BP$20:$BP$21
Name E1.P_F.MR1: 'CONSOLIDADO PLAN DESARROLLO'!$BU$88:$BU$91
Name E1.P_F.MR2: 'CONSOLIDADO PLAN DESARROLLO'!$BU$92:$BU$95
Name E1.P_G: 'CONSOLIDADO PLAN DESARROLLO'!$BP$22:$BP$23
Name E1.P_G.MR1: 'CONSOLIDADO PLAN DESARROLLO'!$BU$96:$BU$98
Name E1.P_G.MR2: 'CONSOLIDADO PLAN DESARROLLO'!$BU$99
Name E1.P_H: 'CONSOLIDADO PLAN DESARROLLO'!$BP$24
Name E1.P_H.MR1: 'CONSOLIDADO PLAN DESARROLLO'!$BU$100:$BU$106
Name E1.P_I: 'CONSOLIDADO PLAN DESARROLLO'!$BP$25
Name E1.P_I.MR1: 'CONSOLIDADO PLAN DESARROLLO'!$BU$107:$BU$109
Name E1.P_J: 'CONSOLIDADO PLAN DESARROLLO'!$BP$26
Name E1.P_J.MR1: 'CONSOLIDADO PLAN DESARROLLO'!$BU$110:$BU$111
Name E2.: 'CONSOLIDADO PLAN DESARROLLO'!$BK$19:$BK$24
Name E2.P_A: 'CONSOLIDADO PLAN DESARROLLO'!$BP$27
Name E2.P_A.MR1: 'CONSOLIDADO PLAN DESARROLLO'!$BU$112:$BU$121
Name E2.P_B: 'CONSOLIDADO PLAN DESARROLLO'!$BP$28
Name E2.P_B.MR1: 'CONSOLIDADO PLAN DESARROLLO'!$BU$122:$BU$125
Name E2.P_C: 'CONSOLIDADO PLAN DESARROLLO'!$BP$29
Name E2.P_C.MR1: 'CONSOLIDADO PLAN DESARROLLO'!$BU$126:$BU$128
Name E2.P_D: 'CONSOLIDADO PLAN DESARROLLO'!$BP$30
Name E2.P_D.MR1: 'CONSOLIDADO PLAN DESARROLLO'!$BU$129:$BU$133
Name E2.P_E: 'CONSOLIDADO PLAN DESARROLLO'!$BP$31
Name E2.P_E.MR1: 'CONSOLIDADO PLAN DESARROLLO'!$BU$134:$BU$139
Name E2.P_F: 'CONSOLIDADO PLAN DESARROLLO'!$BP$32:$BP$33
Name E2.P_F.MR1: 'CONSOLIDADO PLAN DESARROLLO'!$BU$140:$BU$144
Name E2.P_F.MR2: 'CONSOLIDADO PLAN DESARROLLO'!$BU$145:$BU$148
Name E3.: 'CONSOLIDADO PLAN DESARROLLO'!$BK$25:$BK$36
Name E3.P_A: 'CONSOLIDADO PLAN DESARROLLO'!$BP$34
Name E3.P_A.MR1: 'CONSOLIDADO PLAN DESARROLLO'!$BU$149:$BU$169
Name E3.P_B: 'CONSOLIDADO PLAN DESARROLLO'!$BP$35
Name E3.P_B.MR1: 'CONSOLIDADO PLAN DESARROLLO'!$BU$170:$BU$182
Name E3.P_C: 'CONSOLIDADO PLAN DESARROLLO'!$BP$36:$BP$37
Name E3.P_C.MR1: 'CONSOLIDADO PLAN DESARROLLO'!$BU$183:$BU$185
Name E3.P_C.MR2: 'CONSOLIDADO PLAN DESARROLLO'!$BU$186
Name E3.P_D: 'CONSOLIDADO PLAN DESARROLLO'!$BP$38:$BP$39
Name E3.P_D.MR1: 'CONSOLIDADO PLAN DESARROLLO'!$BU$187:$BU$192
Name E3.P_D.MR2: 'CONSOLIDADO PLAN DESARROLLO'!$BU$193:$BU$195
Name E3.P_E: 'CONSOLIDADO PLAN DESARROLLO'!$BP$40

Sheet PLAN DE ACCION 2018
B2: PLAN DE DESARROLLO MUNICIPAL "TOCANCIPÁ ALTA COMPETITIVIDAD CON DESARROLLO Y PROYECCIÓN" | BF2: DILIGENCIE O ELIJA DE LA LISTA DESPLAGABLE ÚNICAMENTE EN LAS CELDAS MARCADAS CON ESTE COLOR. NOTA: ABSTÉNGASE DE DIGITAR O MODIFICAR EL CONTENIDO DE LAS OTRAS CELDAS.
B3: COMPONENTE DE EFICACIA - PLAN DE ACCIÒN - VIGENCIA | N3: 2019 | Q3: =VLOOKUP(N3,#REF!,2,0) -> #REF! | R3: =VLOOKUP(N3,$N$319:$O$323,2,0) -> 9
B5: EJE: | C5: =VLOOKUP($D$9,'CONSOLIDADO PLAN DESARROLLO'!$DT$9:$DZ$62,3,0) -> E1. - SOCIAL: Desarrollo Social con alta competitividad y proyección | J5: SECTOR: | L5: =VLOOKUP($D$9,'CONSOLIDADO PLAN DESARROLLO'!$DT$9:$DZ$62,5,0) -> Cultura | V5: OBJETIVO DEL EJE: | Y5: =VLOOKUP($D$9,'CONSOLIDADO PLAN DESARROLLO'!$DT$9:$DZ$62,4,0) -> Mejorar las condiciones de calidad de vida de toda la población del territorio y especialmente en los sectores más vulnerables, garantizando el acceso a sus derechos sociales, individuales y colectrivos en Educación, Salud, Cultura, Recreación y Deporte
B6: PROGRAMA: | C6: =VLOOKUP($D$9,'CONSOLIDADO PLAN DESARROLLO'!$DT$9:$DZ$62,6,0) -> E1.P_C - CULTURA DE TODOS Y PARA TODOS | G6: OBJETIVO PROGRAMA: | K6: =VLOOKUP($D$9,'CONSOLIDADO PLAN DESARROLLO'!$DT$9:$DZ$62,7,0) -> Hacer de la cultura un eje integrador del desarrollo humano, la inclusión social y el aprovechamiento del tiempo libre en el municipio | R6: RECURSOS FINANCIEROS ($) | AL6: GERENCIA
B7: RESPONSABLE | D7: CÓD. CONS. META RESULTADO | E7: DESCRIPCIÓN META DE RESULTADO | F7: INDICADOR | G7: LINEA BASE | H7: META CUATRIENIO | I7: Valor Esperado | J7: =+$N$3 -> 2019 | K7: META ACUMULADA 1er SEMESTRE | L7: META ACUMULADA 1-Ener_31-Dic. | R7: COFINANCIACIÓN DEPARTAMENTO | T7: COFINACIACIÓN NACIÓN | V7: CRÉDITO | X7: OTROS | Z7: RECURSOS PROPIOS | AB7: SGP | AD7: REGALÍAS | AF7: RECURSOS FUNCIONAMIENTO | AH7: RECURSOS GESTIONADOS | AJ7: TOTALES | AL7: POBLACIÓN BENEFICIADA POR CICLO VITAL | AS7: POBLACIÓN BENEFICIADA POR GÉNERO | AV7: POBLACIÓN BENEFICIADA CONDICIONES ESPECIALES | BA7: VERIFICACIÒN | BB7: COOPERANTE - RECURSOS GESTIONADOS | BC7: RESPONSABLE DIRECTO
R8: Programado - apropiado | S8: Ejecutado - compromisos | T8: Programado - apropiado | U8: Ejecutado - compromisos | V8: Programado - apropiado | W8: Ejecutado - compromisos | X8: Programado - apropiado | Y8: Ejecutado - compromisos | Z8: Programado - apropiado | AA8: Ejecutado - compromisos | AB8: Programado - apropiado | AC8: Ejecutado - compromisos | AD8: Programado - apropiado | AE8: Ejecutado - compromisos | AF8: Programado - apropiado | AG8: Ejecutado - compromisos | AH8: Programado - apropiado | AI8: Ejecutado - compromisos | AJ8: Programado - apropiado | AK8: Ejecutado - compromisos | AL8: P.I | AM8: I | AN8: ADO | AO8: JUV | AP8: ADU | AQ8: AD-M | AR8: TOT. CICLO VITAL | AS8: M | AT8: H | AU8: TOT. GÉNERO | AV8: VCA | AW8: LGTBI | AX8: DISCAP | AY8: AFRO | AZ8: INDIG
B9: GERMAN HERNANDEZ CASTRO - SECRETARIO DE CULTURA Y PATRIMONIO | D9: E1.P_C.MR1 | E9: =VLOOKUP($D$9,'CONSOLIDADO PLAN DESARROLLO'!$EB$9:$EF$62,2,0) -> Ampliar a 3700 el número de personas que accede anualmente a los programas de formación artística y cultural (L.B. 3630) | F9: =VLOOKUP($D$9,'CONSOLIDADO PLAN DESARROLLO'!$EB$9:$EF$62,3,0) -> Cobertura ampliada | G9: =VLOOKUP($D$9,'CONSOLIDADO PLAN DESARROLLO'!$EB$9:$EF$62,4,0) -> 3630 | H9: =VLOOKUP($D$9,'CONSOLIDADO PLAN DESARROLLO'!$EB$9:$EF$62,5,0) -> 3700 | R9: =+R12+R21+R30+R39+R57+R66+R75+R84+R93+R102+R111+R120+R129+R138+R147+R156+R165+R174+R183+R192+R201 -> 0 | S9: =+S12+S21+S30+S39+S57+S66+S75+S84+S93+S102+S111+S120+S129+S138+S147+S156+S165+S174+S183+S192+S201 -> 0 | T9: =+T12+T21+T30+T39+T57+T66+T75+T84+T93+T102+T111+T120+T129+T138+T147+T156+T165+T174+T183+T192+T201 -> 0 | U9: =+U12+U21+U30+U39+U57+U66+U75+U84+U93+U102+U111+U120+U129+U138+U147+U156+U165+U174+U183+U192+U201 -> 0 | V9: =+V12+V21+V30+V39+V57+V66+V75+V84+V93+V102+V111+V120+V129+V138+V147+V156+V165+V174+V183+V192+V201 -> 0 | W9: =+W12+W21+W30+W39+W57+W66+W75+W84+W93+W102+W111+W120+W129+W138+W147+W156+W165+W174+W183+W192+W201 -> 0 | X9: =+X12+X21+X30+X39+X57+X66+X75+X84+X93+X102+X111+X120+X129+X138+X147+X156+X165+X174+X183+X192+X201 -> 0 | Y9: =+Y12+Y21+Y30+Y39+Y57+Y66+Y75+Y84+Y93+Y102+Y111+Y120+Y129+Y138+Y147+Y156+Y165+Y174+Y183+Y192+Y201 -> 0 | ... AZ9: =+AZ12+AZ21+AZ30+AZ39+AZ57+AZ66+AZ75+AZ84+AZ93+AZ102+AZ111+AZ120+AZ129+AZ138+AZ147+AZ156+AZ165+AZ174+AZ183+AZ192+AZ201 -> 0
B10: JORGE ANDRES PORRAS VARGAS - GERENTE EMPRESA DE SERVICIOS PUBLICOS | C10: 040104-MR1b | D10: =VLOOKUP($D$9,#REF!,2,0) -> #REF! | K10: =VLOOKUP($D$9,#REF!,3,0) -> #REF! | L10: =VLOOKUP($D$9,#REF!,4,0) -> #REF! | M10: =VLOOKUP($D$9,#REF!,5,0) -> #REF! | N10: =VLOOKUP($D$9,#REF!,Q3,0) -> #REF! | Q10: 5555
A12: 1 | B12: PROYECTO | C12: CODIGO REGISTRO PROYECTO | D12: CÓD. CONS. META PRODUCTO | E12: DESCRIPCIÓN META DE PRODUCTO | F12: INDICADOR | G12: LINEA BASE | H12: META CUATRIENIO | I12: Valor Esperado | J12: =+$N$3 -> 2019 | K12: META ACUMULADA 1er SEMESTRE | L12: META ACUMULADA 1-Ener_31-Dic. | M12: ACTIVIDADES | N12: UNIDAD DE MEDIDA | O12: CANTIDADES CUATRIENIO | P12: Ejecutado 1-Ener_30-Jun. | Q12: Ejecutado 1-Ener_31-Dic. | R12: =SUM(R13:R19) -> 0 | S12: =SUM(S13:S19) -> 0 | T12: =SUM(T13:T19) -> 0 | U12: =SUM(U13:U19) -> 0 | V12: =SUM(V13:V19) -> 0 | W12: =SUM(W13:W19) -> 0 | X12: =SUM(X13:X19) -> 0 | Y12: =SUM(Y13:Y19) -> 0 | ... AZ12: =SUM(AZ13:AZ19) -> 0 | BA12: VERIFICACIÒN | BB12: COOPERANTE - RECURSOS GESTIONADOS | BC12: RESPONSABLE DIRECTO
B13: =VLOOKUP($D$9,'PROYECTOS REGISTRADOS'!$A$2:$D$82,4,0) -> Ampliación de los programas artìscticos y culturales Tocancipá, Cundinamarca, Centro Oriente | C13: =VLOOKUP($D$9,'PROYECTOS REGISTRADOS'!$A$2:$D$82,3,0) -> 2016-25817-00017 | D13: E1.P_C.MR1-MP01-1 | E13: =IF(D13=0,"0-0",(VLOOKUP(D13,'CONSOLIDADO PLAN DESARROLLO'!$EL$9:$ET$304,2,0))) -> Ampliar la participación intermunicipal en el Festival de la Colombianidad, como parte de la tradición e identidad pluricultural | F13: =IF(D13=0,"0-0",(VLOOKUP(D13,'CONSOLIDADO PLAN DESARROLLO'!$EL$9:$ET$304,3,0))) -> No. de municipios diferentes a Tocancipá participantes en el festival de la Colombianidad | G13: =IF(D13=0,"0-0",(VLOOKUP(D13,'CONSOLIDADO PLAN DESARROLLO'!$EL$9:$ET$304,4,0))) -> 24 | H13: =IF(D13=0,"0-0",(VLOOKUP(D13,'CONSOLIDADO PLAN DESARROLLO'!$EL$9:$ET$304,5,0))) -> 34 | I13: =IF(D13=0,"0-0",(VLOOKUP(D13,'CONSOLIDADO PLAN DESARROLLO'!$EL$9:$ET$304,$R$3,0))) -> 34 | M13: Contratación logística del festival de la colombianidad | N13: Número | O13: 4 | R13: =VLOOKUP($D13,'[4]Tablero Logro Metas 2019'!AK7:AS302,3,0) -> 0 | T13: =VLOOKUP($D13,'[4]Tablero Logro Metas 2019'!AK7:AS302,4,0) -> 0 | V13: =VLOOKUP($D13,'[4]Tablero Logro Metas 2019'!AK7:AS302,5,0) -> 0 | X13: =VLOOKUP($D13,'[4]Tablero Logro Metas 2019'!AK7:AS302,6,0) -> 0 | Z13: =VLOOKUP($D13,'[4]Tablero Logro Metas 2019'!AK7:AS302,7,0) -> 484000000 | AB13: =VLOOKUP($D13,'[4]Tablero Logro Metas 2019'!AK7:AS302,8,0) -> 0 | AD13: =VLOOKUP($D13,'[4]Tablero Logro Metas 2019'!AK7:AS302,9,0) -> 0 | AJ13: =+R13+T13+V13+X13+Z13+AB13+AD13+AF13+AH13 -> 484000000 | AK13: =AC13+AE13+AG13+S13+U13+W13+Y13+AA13+AI13 -> 0 | AR13: =SUM(AL13:AQ13) -> 0 | AU13: =SUM(AS13:AT13) -> 0
M14: Realización de convenios | N14: Número | O14: 4 | AK14: =AC14+AE14+AG14+S14+U14+W14+Y14+AA14+AI14 -> 0 | AR14: =SUM(AL14:AQ14) -> 0 | AU14: =SUM(AS14:AT14) -> 0
M15: Estímulos, premiación y jurados en desarrollo de la Festival de la Colombianidad | N15: Número | AK15: =AC15+AE15+AG15+S15+U15+W15+Y15+AA15+AI15 -> 0 | AR15: =SUM(AL15:AQ15) -> 0 | AU15: =SUM(AS15:AT15) -> 0
M16: Promoción y divulgación del Festival de la Colombianidad, la música, la cultura y la actividad lúdica | N16: Número | AK16: =AC16+AE16+AG16+S16+U16+W16+Y16+AA16+AI16 -> 0 | AR16: =SUM(AL16:AQ16) -> 0 | AU16: =SUM(AS16:AT16) -> 0
AK17: =AC17+AE17+AG17+S17+U17+W17+Y17+AA17+AI17 -> 0 | AR17: =SUM(AL17:AQ17) -> 0 | AU17: =SUM(AS17:AT17) -> 0
AK18: =AC18+AE18+AG18+S18+U18+W18+Y18+AA18+AI18 -> 0 | AR18: =SUM(AL18:AQ18) -> 0 | AU18: =SUM(AS18:AT18) -> 0
A21: 2 | B21: PROYECTO | C21: CODIGO REGISTRO PROYECTO | D21: CÓD. CONS. META PRODUCTO | E21: DESCRIPCIÓN META DE PRODUCTO | F21: INDICADOR | G21: LINEA BASE | H21: META CUATRIENIO | I21: Valor Esperado | J21: =+$N$3 -> 2019 | K21: META ACUMULADA 1er SEMESTRE | L21: META ACUMULADA 1-Ener_31-Dic. | M21: ACTIVIDADES | N21: UNIDAD DE MEDIDA | O21: CANTIDADES CUATRIENIO | P21: Ejecutado 1-Ener_30-Jun. | Q21: Ejecutado 1-Ener_31-Dic. | R21: =SUM(R22:R28) -> 0 | S21: =SUM(S22:S28) -> 0 | T21: =SUM(T22:T28) -> 0 | U21: =SUM(U22:U28) -> 0 | V21: =SUM(V22:V28) -> 0 | W21: =SUM(W22:W28) -> 0 | X21: =SUM(X22:X28) -> 0 | Y21: =SUM(Y22:Y28) -> 0 | ... AK21: =SUM(AK22:AK28) -> 0 | BA21: VERIFICACIÒN | BB21: COOPERANTE - RECURSOS GESTIONADOS | BC21: RESPONSABLE DIRECTO
B22: =VLOOKUP($D$9,'PROYECTOS REGISTRADOS'!$A$2:$D$82,4,0) -> Ampliación de los programas artìscticos y culturales Tocancipá, Cundinamarca, Centro Oriente | C22: =VLOOKUP($D$9,'PROYECTOS REGISTRADOS'!$A$2:$D$82,3,0) -> 2016-25817-00017 | D22: E1.P_C.MR1-MP02-1 | E22: =IF(D22=0,"0-0",(VLOOKUP(D22,'CONSOLIDADO PLAN DESARROLLO'!$EL$9:$ET$304,2,0))) -> Ampliar la institucionalización de los eventos Culturales y Artísticos | F22: =IF(D22=0,"0-0",(VLOOKUP(D22,'CONSOLIDADO PLAN DESARROLLO'!$EL$9:$ET$304,3,0))) -> Eventos Institucionalizados | G22: =IF(D22=0,"0-0",(VLOOKUP(D22,'CONSOLIDADO PLAN DESARROLLO'!$EL$9:$ET$304,4,0))) -> 3 | H22: =IF(D22=0,"0-0",(VLOOKUP(D22,'CONSOLIDADO PLAN DESARROLLO'!$EL$9:$ET$304,5,0))) -> 5 | I22: =IF(D22=0,"0-0",(VLOOKUP(D22,'CONSOLIDADO PLAN DESARROLLO'!$EL$9:$ET$304,$R$3,0))) -> 1 | M22: Presentación proyectos de Acuerdo | N22: Número | O22: 2 | R22: =VLOOKUP($D22,'[4]Tablero Logro Metas 2019'!AK7:AS302,3,0) -> 0 | T22: =VLOOKUP($D22,'[4]Tablero Logro Metas 2019'!AK7:AS302,4,0) -> 0 | V22: =VLOOKUP($D22,'[4]Tablero Logro Metas 2019'!AK7:AS302,5,0) -> 0 | X22: =VLOOKUP($D22,'[4]Tablero Logro Metas 2019'!AK7:AS302,6,0) -> 0 | Z22: =VLOOKUP($D22,'[4]Tablero Logro Metas 2019'!AK7:AS302,7,0) -> 0 | AB22: =VLOOKUP($D22,'[4]Tablero Logro Metas 2019'!AK7:AS302,8,0) -> 0 | AD22: =VLOOKUP($D22,'[4]Tablero Logro Metas 2019'!AK7:AS302,9,0) -> 0 | AJ22: =+R22+T22+V22+X22+Z22+AB22+AD22+AF22+AH22 -> 0 | AK22: =AC22+AE22+AG22+S22+U22+W22+Y22+AA22+AI22 -> 0 | AR22: =SUM(AL22:AQ22) -> 0 | AU22: =SUM(AS22:AT22) -> 0
AK23: =AC23+AE23+AG23+S23+U23+W23+Y23+AA23+AI23 -> 0 | AR23: =SUM(AL23:AQ23) -> 0 | AU23: =SUM(AS23:AT23) -> 0
AK24: =AC24+AE24+AG24+S24+U24+W24+Y24+AA24+AI24 -> 0 | AR24: =SUM(AL24:AQ24) -> 0 | AU24: =SUM(AS24:AT24) -> 0
AK25: =AC25+AE25+AG25+S25+U25+W25+Y25+AA25+AI25 -> 0 | AR25: =SUM(AL25:AQ25) -> 0 | AU25: =SUM(AS25:AT25) -> 0
AK26: =AC26+AE26+AG26+S26+U26+W26+Y26+AA26+AI26 -> 0 | AR26: =SUM(AL26:AQ26) -> 0 | AU26: =SUM(AS26:AT26) -> 0
AK27: =AC27+AE27+AG27+S27+U27+W27+Y27+AA27+AI27 -> 0 | AR27: =SUM(AL27:AQ27) -> 0 | AU27: =SUM(AS27:AT27) -> 0
A30: 3 | B30: PROYECTO | C30: CODIGO REGISTRO PROYECTO | D30: CÓD. CONS. META PRODUCTO | E30: DESCRIPCIÓN META DE PRODUCTO | F30: INDICADOR | G30: LINEA BASE | H30: META CUATRIENIO | I30: Valor Esperado | J30: =+$N$3 -> 2019 | K30: META ACUMULADA 1er SEMESTRE | L30: META ACUMULADA 1-Ener_31-Dic. | M30: ACTIVIDADES | N30: UNIDAD DE MEDIDA | O30: CANTIDADES CUATRIENIO | P30: Ejecutado 1-Ener_30-Jun. | Q30: Ejecutado 1-Ener_31-Dic. | R30: =SUM(R31:R37) -> 0 | S30: =SUM(S31:S37) -> 0 | T30: =SUM(T31:T37) -> 0 | U30: =SUM(U31:U37) -> 0 | V30: =SUM(V31:V37) -> 0 | W30: =SUM(W31:W37) -> 0 | X30: =SUM(X31:X37) -> 0 | Y30: =SUM(Y31:Y37) -> 0 | ... AK30: =SUM(AK31:AK37) -> 0 | BA30: VERIFICACIÒN | BB30: COOPERANTE - RECURSOS GESTIONADOS | BC30: RESPONSABLE DIRECTO
B31: =VLOOKUP($D$9,'PROYECTOS REGISTRADOS'!$A$2:$D$82,4,0) -> Ampliación de los programas artìscticos y culturales Tocancipá, Cundinamarca, Centro Oriente | C31: =VLOOKUP($D$9,'PROYECTOS REGISTRADOS'!$A$2:$D$82,3,0) -> 2016-25817-00017 | D31: E1.P_C.MR1-MP03-1 | E31: =IF(D31=0,"0-0",(VLOOKUP(D31,'CONSOLIDADO PLAN DESARROLLO'!$EL$9:$ET$304,2,0))) -> Ampliar los Eventos Culturales y Artísticos. | F31: =IF(D31=0,"0-0",(VLOOKUP(D31,'CONSOLIDADO PLAN DESARROLLO'!$EL$9:$ET$304,3,0))) -> No. de personas que participan en los festivales realizados | G31: =IF(D31=0,"0-0",(VLOOKUP(D31,'CONSOLIDADO PLAN DESARROLLO'!$EL$9:$ET$304,4,0))) -> 62 | H31: =IF(D31=0,"0-0",(VLOOKUP(D31,'CONSOLIDADO PLAN DESARROLLO'!$EL$9:$ET$304,5,0))) -> 120 | I31: =IF(D31=0,"0-0",(VLOOKUP(D31,'CONSOLIDADO PLAN DESARROLLO'!$EL$9:$ET$304,$R$3,0))) -> 30 | M31: Alumbrado Navideño | N31: Número | O31: 4 | R31: =VLOOKUP($D31,'[4]Tablero Logro Metas 2019'!AK7:AS302,3,0) -> 0 | T31: =VLOOKUP($D31,'[4]Tablero Logro Metas 2019'!AK7:AS302,4,0) -> 0 | V31: =VLOOKUP($D31,'[4]Tablero Logro Metas 2019'!AK7:AS302,5,0) -> 0 | X31: =VLOOKUP($D31,'[4]Tablero Logro Metas 2019'!AK7:AS302,6,0) -> 0 | Z31: =VLOOKUP($D31,'[4]Tablero Logro Metas 2019'!AK7:AS302,7,0) -> 11150000 | AB31: =VLOOKUP($D31,'[4]Tablero Logro Metas 2019'!AK7:AS302,8,0) -> 0 | AD31: =VLOOKUP($D31,'[4]Tablero Logro Metas 2019'!AK7:AS302,9,0) -> 0 | AJ31: =+R31+T31+V31+X31+Z31+AB31+AD31+AF31+AH31 -> 11150000 | AK31: =AC31+AE31+AG31+S31+U31+W31+Y31+AA31+AI31 -> 0 | AR31: =SUM(AL31:AQ31) -> 0 | AU31: =SUM(AS31:AT31) -> 0
M32: Contratación y logística de grupos artísticos y culturales para diferentes eventos | N32: Número | O32: 4 | AK32: =AC32+AE32+AG32+S32+U32+W32+Y32+AA32+AI32 -> 0 | AR32: =SUM(AL32:AQ32) -> 0 | AU32: =SUM(AS32:AT32) -> 0
M33: Contratación logística del festival de la colombianidad | N33: Número | AK33: =AC33+AE33+AG33+S33+U33+W33+Y33+AA33+AI33 -> 0 | AR33: =SUM(AL33:AQ33) -> 0 | AU33: =SUM(AS33:AT33) -> 0
AK34: =AC34+AE34+AG34+S34+U34+W34+Y34+AA34+AI34 -> 0 | AR34: =SUM(AL34:AQ34) -> 0 | AU34: =SUM(AS34:AT34) -> 0
AK35: =AC35+AE35+AG35+S35+U35+W35+Y35+AA35+AI35 -> 0 | AR35: =SUM(AL35:AQ35) -> 0 | AU35: =SUM(AS35:AT35) -> 0
AK36: =AC36+AE36+AG36+S36+U36+W36+Y36+AA36+AI36 -> 0 | AR36: =SUM(AL36:AQ36) -> 0 | AU36: =SUM(AS36:AT36) -> 0
A39: 4 | B39: PROYECTO | C39: CODIGO REGISTRO PROYECTO | D39: CÓD. CONS. META PRODUCTO | E39: DESCRIPCIÓN META DE PRODUCTO | F39: INDICADOR | G39: LINEA BASE | H39: META CUATRIENIO | I39: Valor Esperado | J39: =+$N$3 -> 2019 | K39: META ACUMULADA 1er SEMESTRE | L39: META ACUMULADA 1-Ener_31-Dic. | M39: ACTIVIDADES | N39: UNIDAD DE MEDIDA | O39: CANTIDADES CUATRIENIO | P39: Ejecutado 1-Ener_30-Jun. | Q39: Ejecutado 1-Ener_31-Dic. | R39: =SUM(R40:R55) -> 0 | S39: =SUM(S40:S55) -> 0 | T39: =SUM(T40:T55) -> 0 | U39: =SUM(U40:U55) -> 0 | V39: =SUM(V40:V55) -> 0 | W39: =SUM(W40:W55) -> 0 | X39: =SUM(X40:X55) -> 0 | Y39: =SUM(Y40:Y55) -> 0 | ... AK39: =SUM(AK40:AK55) -> 0 | BA39: VERIFICACIÒN | BB39: COOPERANTE - RECURSOS GESTIONADOS | BC39: RESPONSABLE DIRECTO
B40: =VLOOKUP($D$9,'PROYECTOS REGISTRADOS'!$A$2:$D$82,4,0) -> Ampliación de los programas artìscticos y culturales Tocancipá, Cundinamarca, Centro Oriente | C40: =VLOOKUP($D$9,'PROYECTOS REGISTRADOS'!$A$2:$D$82,3,0) -> 2016-25817-00017 | D40: E1.P_C.MR1-MP04-1 | E40: =IF(D40=0,"0-0",(VLOOKUP(D40,'CONSOLIDADO PLAN DESARROLLO'!$EL$9:$ET$304,2,0))) -> Fortalecer los y programas culturales y artísticos | F40: =IF(D40=0,"0-0",(VLOOKUP(D40,'CONSOLIDADO PLAN DESARROLLO'!$EL$9:$ET$304,3,0))) -> Procesos fortalecidos | G40: =IF(D40=0,"0-0",(VLOOKUP(D40,'CONSOLIDADO PLAN DESARROLLO'!$EL$9:$ET$304,4,0))) -> 5 | H40: =IF(D40=0,"0-0",(VLOOKUP(D40,'CONSOLIDADO PLAN DESARROLLO'!$EL$9:$ET$304,5,0))) -> 5 | I40: =IF(D40=0,"0-0",(VLOOKUP(D40,'CONSOLIDADO PLAN DESARROLLO'!$EL$9:$ET$304,$R$3,0))) -> 5 | M40: Contratación de formadores y personal de apoyo para los programas de formación artística y cultural | N40: Número | O40: 4 | R40: =VLOOKUP($D40,'[4]Tablero Logro Metas 2019'!AK7:AS302,3,0) -> 0 | T40: =VLOOKUP($D40,'[4]Tablero Logro Metas 2019'!AK7:AS302,4,0) -> 0 | V40: =VLOOKUP($D40,'[4]Tablero Logro Metas 2019'!AK7:AS302,5,0) -> 0 | X40: =VLOOKUP($D40,'[4]Tablero Logro Metas 2019'!AK7:AS302,6,0) -> 0 | Z40: =VLOOKUP($D40,'[4]Tablero Logro Metas 2019'!AK7:AS302,7,0) -> 2479560000 | AB40: =VLOOKUP($D40,'[4]Tablero Logro Metas 2019'!AK7:AS302,8,0) -> 141747115 | AD40: =VLOOKUP($D40,'[4]Tablero Logro Metas 2019'!AK7:AS302,9,0) -> 0 | AJ40: =+R40+T40+V40+X40+Z40+AB40+AD40+AF40+AH40 -> 2621307115 | AK40: =AC40+AE40+AG40+S40+U40+W40+Y40+AA40+AI40 -> 0 | AR40: =SUM(AL40:AQ40) -> 0 | AU40: =SUM(AS40:AT40) -> 0
M41: Compra de instrumentos de música para los diferentes programas de formación | N41: Número | O41: 2 | AK41: =AC41+AE41+AG41+S41+U41+W41+Y41+AA41+AI41 -> 0 | AR41: =SUM(AL41:AQ41) -> 0 | AU41: =SUM(AS41:AT41) -> 0
M42: Compra y dotación de materiales para las diferentes áreas artísticas | N42: Número | O42: 4 | AK42: =AC42+AE42+AG42+S42+U42+W42+Y42+AA42+AI42 -> 0 | AR42: =SUM(AL42:AQ42) -> 0 | AU42: =SUM(AS42:AT42) -> 0
M43: Mantenimiento y reparación de equipos e instrumentos musicales | N43: Número | O43: 4 | AK43: =AC43+AE43+AG43+S43+U43+W43+Y43+AA43+AI43 -> 0 | AR43: =SUM(AL43:AQ43) -> 0 | AU43: =SUM(AS43:AT43) -> 0
M44: Realización de capacitaciones | N44: Número | O44: 3 | AK44: =AC44+AE44+AG44+S44+U44+W44+Y44+AA44+AI44 -> 0 | AR44: =SUM(AL44:AQ44) -> 0 | AU44: =SUM(AS44:AT44) -> 0
M45: Adquisición e instlación de equipos tecnológicos para la automatización (sonido, iluminación, video) para el auditorio | N45: Número | O45: 2 | AK45: =AC45+AE45+AG45+S45+U45+W45+Y45+AA45+AI45 -> 0 | AR45: =SUM(AL45:AQ45) -> 0 | AU45: =SUM(AS45:AT45) -> 0
M46: Pago Seguridad Social Gestor Cultural | N46: Número | O46: 4 | AK46: =AC46+AE46+AG46+S46+U46+W46+Y46+AA46+AI46 -> 0 | AR46: =SUM(AL46:AQ46) -> 0 | AU46: =SUM(AS46:AT46) -> 0
M47: Dotación Auditorio Casa de la Cultura | N47: Número | O47: 1 | AK47: =AC47+AE47+AG47+S47+U47+W47+Y47+AA47+AI47 -> 0 | AR47: =SUM(AL47:AQ47) -> 0 | AU47: =SUM(AS47:AT47) -> 0
M48: Producción musical | N48: Número | O48: 1 | AK48: =AC48+AE48+AG48+S48+U48+W48+Y48+AA48+AI48 -> 0 | AR48: =SUM(AL48:AQ48) -> 0 | AU48: =SUM(AS48:AT48) -> 0
M49: Apoyar las iniciativas para la circulación de los productos artísticos de las artes escénicas | N49: Número | AK49: =AC49+AE49+AG49+S49+U49+W49+Y49+AA49+AI49 -> 0 | AR49: =SUM(AL49:AQ49) -> 0 | AU49: =SUM(AS49:AT49) -> 0
...

Sheet CONSOLIDADO PLAN DESARROLLO
B1: FORMATO BASICO PLAN DE ACCION POR DEPENDENCIA (Segundo semestre 2016)
A2: MUNICIPIO DE TOCANCIPÁ
A3: PLAN DE DESARROLLO MUNICIPAL "TOCANCIPÁ ALTA COMPETITIVIDAD CON DESARROLLO Y PROYECCIÓN"
A4: OBJETIVO GENERAL: El Plan de Desarrollo tiene como objetivo principal brindar a la Administración Municipal las herramientas para generar el desarrollo social, económico y la preservación ambiental que el municipio necesita.
A5: VISIÓN: Para el año 2026, Tocancipá será reconocido a nivel Nacional como un Municipio líder en garantía de derechos y servicios, con seguridad, altos niveles de avane e innovación para el desarrollo social, productivo y proyección de su economía en el crecimiento integral y eficiente de su comunidad, con capital humano capacitado y altamente competitivo, desde una perspectiva de inclusión y una política de responsabilidad social y ambiental a través de infraestruturas sostenibles.
A6: COD. EJE | B6: EJES | C6: OBJETIVO EJE | D6: Sectores Guía DNP | E6: COD. PROG. | F6: COD. CONS. PROG. | G6: PROGRAMAS DE INVERSIÓN | H6: OBJETIVOS PROGRÁMATICOS | I6: PROYECTOS (CÓD. SSEPI Y NOMBRE EBI) | J6: CÓD. MR | K6: CÓD. CONS. META RESULTADO | L6: DESCRIPCIÓN DE LAS METAS DE RESULTADO | M6: NOMBRE DEL INDICADOR DE RESULTADO | N6: Línea base | O6: Meta de Resultado Cuatrenio 2019 | P6: CÓD. MP | Q6: CÓD. CONS. META PRODUCTO | R6: Metas de Producto | S6: Indicador | T6: Lïnea base | U6: Meta de Producto Cuatrenio | V6: Orientación de la Meta de Producto | W6: Valor Esperado 2016 | X6: Valor Esperado 2017 | Y6: Valor Esperado 2018 | Z6: Valor Esperado 2019 | AA6: CUATRENIO | BC6: TOTAL 2016-2019 | BD6: Secretaria Responsable | BX6: 1 | BY6: 2 | BZ6: 3 | CA6: 4 | CB6: 5 | CC6: 6 | CD6: 7 | CE6: 8 | CF6: 9 | CG6: 10 | CH6: 11 | CI6: 12 | CJ6: 13 | CK6: 14 | CL6: 15 | CM6: 16 | CN6: 17 | CO6: 18 | CP6: 19 | CQ6: 20 | CR6: 21 | CS6: 22 | CT6: 23 | CU6: 24 | CV6: 25 | CW6: 26 | CX6: 27 | CY6: 28 | CZ6: 29 | DA6: 30 | DB6: 31
AA7: 2016 | AH7: 2017 | AO7: 2018 | AV7: 2019 | BF7: 1 | BG7: 2 | BI7: 1 | BJ7: 2 | BK7: 3 | BL7: 4 | BN7: 1 | BO7: 2 | BP7: 3 | BQ7: 4 | BS7: 1 | BT7: 2 | BU7: 3 | BV7: 4 | BZ7: 2016 | CG7: 2017 | CN7: 2018 | CU7: 2019 | DB7: TOTAL | DC7: 1 | DD7: 2 | DE7: 3 | DF7: 4 | DH7: 1 | DI7: 2 | DJ7: 3 | DK7: 4 | DL7: 5 | DN7: 1 | DO7: 2 | DQ7: 1 | DR7: 2 | DT7: 1 | DU7: 2 | DV7: 3 | DW7: 4 | DX7: 5 | DY7: 6 | DZ7: 7 | EB7: 1 | EC7: 2 | ED7: 3 | EE7: 4 | EF7: 5 | EG7: 6 | EH7: 7 | EI7: 8 | EJ7: 9 | EL7: 1 | EM7: 2 | EN7: 3 | EO7: 4 | EP7: 5 | EQ7: 6 | ER7: 7 | ES7: 8 | ET7: 9
AA8: RP | AB8: SGP | AC8: Cofinanciación | AD8: SGR | AE8: Crédito | AF8: Otros | AG8: Total 2016 | AH8: RP | AI8: SGP | AJ8: Cofinanciación | AK8: SGR | AL8: Crédito | AM8: Otros | AN8: Total 2017 | AO8: RP | AP8: SGP | AQ8: Cofinanciación | AR8: SGR | AS8: Crédito | AT8: Otros | AU8: Total 2018 | AV8: RP | AW8: SGP | AX8: Cofinanciación | AY8: SGR | AZ8: Crédito | BA8: Otros | BB8: Total 2019 | BF8: COD. EJE | BG8: EJES | BI8: COD. EJE | BJ8: EJES | BK8: COD. CONS. PROG. | BL8: PROGRAMAS DE INVERSIÓN | BN8: COD. CONS. PROG. | BO8: PROGRAMAS DE INVERSIÓN | BP8: CÓD. CONS. META RESULTADO | BQ8: DESCRIPCIÓN DE LAS METAS DE RESULTADO | BS8: CÓD. CONS. META RESULTADO | BT8: DESCRIPCIÓN DE LAS METAS DE RESULTADO | BU8: COD. CONCAT | BV8: Metas de Producto | BX8: COD. CONS. PROG. | BY8: PROGRAMAS DE INVERSIÓN | BZ8: RP | CA8: SGP | CB8: Cofinanciación | CC8: SGR | CD8: Crédito | CE8: Otros | CF8: Total 2016 | CG8: RP | CH8: SGP | CI8: Cofinanciación | CJ8: SGR | CK8: Crédito | CL8: Otros | CM8: Total 2017 | CN8: RP | CO8: SGP | CP8: Cofinanciación | CQ8: SGR | CR8: Crédito | CS8: Otros | CT8: Total 2018 | CU8: RP | CV8: SGP | CW8: Cofinanciación | CX8: SGR | CY8: Crédito | CZ8: Otros | DA8: Total 2019 | DC8: META DE RESULTADO: | DD8: EJES: | DE8: NOMBRE DEL PROGRAMA: | DF8: OBJETIVO DEL PROGRAMA: | DH8: META DE PRODUCTO: | DI8: EJES: | DJ8: NOMBRE DEL PROGRAMA: | DK8: OBJETIVO DEL PROGRAMA: | DL8: METAS DE RESULTADO: | DN8: CÓD. CONS. META RESULTADO | DO8: DESCRIPCIÓN DE LAS METAS DE RESULTADO | DQ8: COD. CONCAT | DR8: Metas de Producto | DT8: CÓD. CONS. META RESULTADO | DU8: META DE RESULTADO: | DV8: EJES: | DW8: OBJETIVO EJE: | DX8: SECTOR | DY8: NOMBRE DEL PROGRAMA: | DZ8: OBJETIVO DEL PROGRAMA: | EB8: CÓD. CONS. META RESULTADO | EC8: DESCRIPCIÓN DE LAS METAS DE RESULTADO | ED8: NOMBRE DEL INDICADOR DE RESULTADO | EE8: Línea base | EF8: Meta de Resultado Cuatrenio 2019 | EG8: Valor Esperado 2016 | EH8: Valor Esperado 2017 | EI8: Valor Esperado 2018 | EJ8: Valor Esperado 2019 | EL8: CÓD. CONS. META PRODUCTO | EM8: Metas de Producto | EN8: Indicador | EO8: Lïnea base | EP8: Meta de Producto Cuatrenio | EQ8: Valor Esperado INICIAL 2016 | ER8: Valor esperado VIGENTE 2017 | ES8: Valor esperado VIGENTE 2018 | ET8: Valor esperado VIGENTE 2019
A9: E1. | B9: SOCIAL: Desarrollo Social con alta competitividad y proyección | C9: Mejorar las condiciones de calidad de vida de toda la población del territorio y especialmente en los sectores más vulnerables, garantizando el acceso a sus derechos sociales, individuales y colectrivos en Educación, Salud, Cultura, Recreación y Deporte | D9: Educación | E9: P_A | F9: =+CONCATENATE(A9,E9) -> E1.P_A | G9: TOCANCIPA BIEN EDUCADA | H9: Garantizar calidad, cobertura, eficiencia y pertinencia en la oferta Educativa Municipal | I9: 2016-25817-0047 Mantenimiento de la cobertura en educación, para mejorar el resultado de pruebas SABER, Tocancipá, Cundinamarca, Centro Oriente | J9: MR1 | K9: =+CONCATENATE(F9,".",J9) -> E1.P_A.MR1 | L9: Mejorar los indicadores de resultado de las pruebas SABER en las Instituciones Educativas del Municipio | M9: Índice de resultado pruebas SABER | N9: 0 | O9: 0.1 | P9: MP01-1 | Q9: =+CONCATENATE(K9,"-",P9) -> E1.P_A.MR1-MP01-1 | R9: Constituir el mecanismo de gestión y financiación contemplados en el PDM para la creación de un complejo Universitario en el Municipio cofinanciado con el departamento, la nación y universidades públicas y privadas nacionales y/o internacionales | S9: Porcentaje de construcción del Complejo Universitario Municipal | T9: 0 | U9: 0.3 | V9: Incremento | W9: 0 | X9: 0.1 | Y9: 0.1 | Z9: 0.1 | AA9: =300000001+1900000000+5000000+100000000+1870000000+60000000+50000000+22000000+300000000+200000000+130000000+430000000+1328477+100000000-1684614000-28800153 -> 3754914325 | AB9: =399001658+30000+588865084+107188933 -> 1095085675 | AC9: 200000000 | AG9: =SUM(AA9:AF9) -> 5050000000 | AH9: =+AA9 -> 3754914325 | AI9: =+AB9 -> 1095085675 | AJ9: =+AC9 -> 200000000 | AK9: =+AD9 -> 0 | AL9: =+AE9 -> 0 | AM9: =+AF9 -> 0 | AN9: =+AG9 -> 5050000000 | AO9: =+AH9 -> 3754914325 | ... AT9: =+AM9 -> 0 | AU9: =SUM(AO9:AT9) -> 5050000000 | AV9: =+AO9 -> 3754914325 | AW9: =+AP9 -> 1095085675 | AX9: =+AQ9 -> 200000000 | AY9: =+AR9 -> 0 | AZ9: =+AS9 -> 0 | BA9: =+AT9 -> 0 | BB9: =SUM(AV9:BA9) -> 5050000000 | BC9: =+BB9+AU9+AN9+AG9 -> 20200000000 | BD9: Secretaria de Educación | BF9: E1. | BG9: SOCIAL: Desarrollo Social con alta competitividad y proyección | BI9: E1. | BJ9: SOCIAL: Desarrollo Social con alta competitividad y proyección | BK9: E1.P_A | BL9: TOCANCIPA BIEN EDUCADA | BN9: E1.P_A | BO9: TOCANCIPA BIEN EDUCADA | BP9: E1.P_A.MR1 | BQ9: Mejorar los indicadores de resultado de las pruebas SABER en las Instituciones Educativas del Municipio | BS9: 0-0 | BT9: 0-0 | BU9: 0-0 | BV9: 0-0 | BX9: E1.P_A | BY9: TOCANCIPA BIEN EDUCADA | BZ9: 3754914325 | CA9: 1095085675 | CB9: 200000000 | CF9: 5050000000 | CG9: 3754914325 | CH9: 1095085675 | CI9: 200000000 | CJ9: 0 | CK9: 0 | CL9: 0 | CM9: 5050000000 | CN9: 3754914325 | CO9: 1095085675 | CP9: 200000000 | CQ9: 0 | CR9: 0 | CS9: 0 | CT9: 5050000000 | CU9: 3754914325 | CV9: 1095085675 | CW9: 200000000 | CX9: 0 | CY9: 0 | CZ9: 0 | DA9: 5050000000 | DB9: 20200000000 | DC9: 0-0 | DD9: 0-0 | DE9: 0-0 | DF9: 0-0 | DH9: 0-0 | DI9: 0-0 | DJ9: 0-0 | DK9: 0-0 | DL9: 0-0 | DN9: 0-0 | DO9: 0-0 | DQ9: 0-0 | DR9: 0-0 | DT9: 0-0 | DU9: 0-0 | DV9: 0-0 | DW9: 0-0 | DX9: 0-0 | DY9: 0-0 | DZ9: 0-0 | EB9: 0-0 | EC9: 0-0 | ED9: 0-0 | EE9: 0-0 | EF9: 0-0 | EL9: E1.P_A.MR1-MP01-1 | EM9: Constituir el mecanismo de gestión y financiación contemplados en el PDM para la creación de un complejo Universitario en el Municipio cofinanciado con el departamento, la nación y universidades públicas y privadas nacionales y/o internacionales | EN9: Porcentaje de construcción del Complejo Universitario Municipal (%) | EO9: 0 | EP9: 30 | EQ9: 0 | ER9: 0 | ES9: 0 | ET9: 30
A10: E1. | B10: SOCIAL: Desarrollo Social con alta competitividad y proyección | C10: Mejorar las condiciones de calidad de vida de toda la población del territorio y especialmente en los sectores más vulnerables, garantizando el acceso a sus derechos sociales, individuales y colectrivos en Educación, Salud, Cultura, Recreación y Deporte | E10: P_A | F10: =+CONCATENATE(A10,E10) -> E1.P_A | G10: TOCANCIPA BIEN EDUCADA | H10: Garantizar calidad, cobertura, eficiencia y pertinencia en la oferta Educativa Municipal | J10: MR1 | K10: =+CONCATENATE(F10,".",J10) -> E1.P_A.MR1 | L10: Mejorar los indicadores de resultado de las pruebas SABER en las Instituciones Educativas del Municipio | M10: Índice de resultado pruebas SABER | N10: 0 | O10: 0.1 | P10: MP01-2 | Q10: =+CONCATENATE(K10,"-",P10) -> E1.P_A.MR1-MP01-2 | R10: Constituir el mecanismo de gestión y financiación contemplados en el PDM para la creación de un complejo Universitario en el Municipio cofinanciado con el departamento, la nación y universidades públicas y privadas nacionales y/o internacionales | S10: No. De mecanismos de gestión y financiación suscritos para la operación del Complejo Universitario Municipal | T10: 0 | U10: 1 | V10: Incremento | W10: 0 | X10: 30 | Y10: 40 | Z10: 30 | BD10: Secretaria de Educación | BF10: E2. | BG10: ECONÓMICO: Desarrollo Económico con alta competitividad y proyección | BK10: E1.P_B | BL10: SALUD CON ATENCIÓN DIGNA, PRIORITARIA Y DE CALIDAD | BN10: E1.P_A | BO10: TOCANCIPA BIEN EDUCADA | BP10: E1.P_A.MR2 | BQ10: Disminuir el número de estudiantes por equipo de cómputo | BS10: E1.P_A.MR1 | BT10: Mejorar los indicadores de resultado de las pruebas SABER en las Instituciones Educativas del Municipio | BU10: E1.P_A.MR1-MP01-1 | BV10: Constituir el mecanismo de gestión y financiación contemplados en el PDM para la creación de un complejo Universitario en el Municipio cofinanciado con el departamento, la nación y universidades públicas y privadas nacionales y/o internacionales | BX10: E1.P_B | BY10: SALUD CON ATENCIÓN DIGNA, PRIORITARIA Y DE CALIDAD | BZ10: 3533339430 | CA10: 1053933440 | CB10: 500000000 | CE10: 2679256984 | CF10: 7766529854 | CG10: 3.6570063e+09 | CH10: 1.0908211e+09 | CI10: 4.3e+08 | CJ10: 0 | CK10: 0 | CL10: 2.773031e+09 | CM10: 7.9508584e+09 | CN10: 1.2850015e+09 | CO10: 1.1289998e+09 | CP10: 3.5755e+08 | CQ10: 0 | CR10: 0 | CS10: 2.8700871e+09 | CT10: 5.6416384e+09 | CU10: 1.3299766e+09 | CV10: 1.1685148e+09 | CW10: 3.7006425e+08 | CX10: 0 | CY10: 0 | CZ10: 2.9705401e+09 | DA10: 5.8390958e+09 | DB10: 2.7198122e+10 | DC10: E1.P_A.MR1 - Mejorar los indicadores de resultado de las pruebas SABER en las Instituciones Educativas del Municipio | DD10: E1. - SOCIAL: Desarrollo Social con alta competitividad y proyección | DE10: E1.P_A - TOCANCIPA BIEN EDUCADA | DF10: Garantizar calidad, cobertura, eficiencia y pertinencia en la oferta Educativa Municipal | DH10: E1.P_A.MR1-MP01-1 - Constituir el mecanismo de gestión y financiación contemplados en el PDM para la creación de un complejo Universitario en el Municipio cofinanciado con el departamento, la nación | DI10: E1. - SOCIAL: Desarrollo Social con alta competitividad y proyección | DJ10: E1.P_A - TOCANCIPA BIEN EDUCADA | DK10: Garantizar calidad, cobertura, eficiencia y pertinencia en la oferta Educativa Municipal | DL10: E1.P_A.MR1 - Mejorar los indicadores de resultado de las pruebas SABER en las Instituciones Educativas del Municipio | DN10: E1.P_A.MR1 | DO10: Mejorar los indicadores de resultado de las pruebas SABER en las Instituciones Educativas del Municipio | DQ10: E1.P_A.MR1-MP01-1 | DR10: Constituir el mecanismo de gestión y financiación contemplados en el PDM para la creación de un complejo Universitario en el Municipio cofinanciado con el departamento, la nación y universidades públicas y privadas nacionales y/o internacionales | DT10: =+LEFT(DU10,10) -> E1.P_A.MR1 | DU10: E1.P_A.MR1 - Mejorar los indicadores de resultado de las pruebas SABER en las Instituciones Educativas del Municipio | DV10: E1. - SOCIAL: Desarrollo Social con alta competitividad y proyección | DW10: Mejorar las condiciones de calidad de vida de toda la población del territorio y especialmente en los sectores más vulnerables, garantizando el acceso a sus derechos sociales, individuales y colectrivos en Educación, Salud, Cultura, Recreación y Deporte | DX10: Educación | DY10: E1.P_A - TOCANCIPA BIEN EDUCADA | DZ10: Garantizar calidad, cobertura, eficiencia y pertinencia en la oferta Educativa Municipal | EB10: E1.P_A.MR1 | EC10: Mejorar los indicadores de resultado de las pruebas SABER en las Instituciones Educativas del Municipio | ED10: Índice de resultado pruebas SABER | EE10: 0 | EF10: 10 | EL10: E1.P_A.MR1-MP01-2 | EM10: Constituir el mecanismo de gestión y financiación contemplados en el PDM para la creación de un complejo Universitario en el Municipio cofinanciado con el departamento, la nación y universidades públicas y privadas nacionales y/o internacionales | EN10: No. De mecanismos de gestión y financiación suscritos para la operación del Complejo Universitario Municipal | EO10: 0 | EP10: 1 | EQ10: 0 | ER10: 0 | ES10: 0 | ET10: 1
A11: E1. | B11: SOCIAL: Desarrollo Social con alta competitividad y proyección | C11: Mejorar las condiciones de calidad de vida de toda la población del territorio y especialmente en los sectores más vulnerables, garantizando el acceso a sus derechos sociales, individuales y colectrivos en Educación, Salud, Cultura, Recreación y Deporte | E11: P_A | F11: =+CONCATENATE(A11,E11) -> E1.P_A | G11: TOCANCIPA BIEN EDUCADA | H11: Garantizar calidad, cobertura, eficiencia y pertinencia en la oferta Educativa Municipal | J11: MR1 | K11: =+CONCATENATE(F11,".",J11) -> E1.P_A.MR1 | L11: Mejorar los indicadores de resultado de las pruebas SABER en las Instituciones Educativas del Municipio | M11: Índice de resultado pruebas SABER | N11: 0 | O11: 0.1 | P11: MP02-1 | Q11: =+CONCATENATE(K11,"-",P11) -> E1.P_A.MR1-MP02-1 | R11: implementar acciones para mejorar los resultados de las Pruebas Saber 3°, 5°, 7°, 9° y 11 | S11: No. De acciones implementadas | T11: 1 | U11: 2 | V11: Incremento | W11: 0 | X11: 1 | Y11: 0.5 | Z11: 0.5 | BD11: Secretaria de Educación | BF11: E3. | BG11: Infraestructura, Planeación, Ambiente y Servicios Públicos | BK11: E1.P_C | BL11: CULTURA DE TODOS Y PARA TODOS | BN11: E1.P_A | BO11: TOCANCIPA BIEN EDUCADA | BP11: E1.P_A.MR3 | BQ11: Mantener las tasas de cobertura bruta por niveles | BS11: E1.P_A.MR1 | BT11: Mejorar los indicadores de resultado de las pruebas SABER en las Instituciones Educativas del Municipio | BU11: E1.P_A.MR1-MP01-2 | BV11: Constituir el mecanismo de gestión y financiación contemplados en el PDM para la creación de un complejo Universitario en el Municipio cofinanciado con el departamento, la nación y universidades públicas y privadas nacionales y/o internacionales | BX11: E1.P_C | BY11: CULTURA DE TODOS Y PARA TODOS | BZ11: 1878153364 | CA11: 934669035 | CB11: 200000000 | CE11: 37177601 | CF11: 3050000000 | CG11: 1878153364 | CH11: 934669035 | CI11: 200000000 | CJ11: 0 | CK11: 0 | CL11: 37177601 | CM11: 3050000000 | CN11: 1878153364 | CO11: 934669035 | CP11: 200000000 | CQ11: 0 | CR11: 0 | CS11: 37177601 | CT11: 3050000000 | CU11: 1878153364 | CV11: 934669035 | CW11: 200000000 | CX11: 0 | CY11: 0 | CZ11: 37177601 | DA11: 3050000000 | DB11: 12200000000 | DC11: E1.P_A.MR1 - Mejorar los indicadores de resultado de las pruebas SABER en las Instituciones Educativas del Municipio (Restaurantes Escolares) | DD11: E1. - SOCIAL: Desarrollo Social con alta competitividad y proyección | DE11: E1.P_A - TOCANCIPA BIEN EDUCADA | DF11: Garantizar calidad, cobertura, eficiencia y pertinencia en la oferta Educativa Municipal | DH11: E1.P_A.MR1-MP01-2 - Constituir el mecanismo de gestión y financiación contemplados en el PDM para la creación de un complejo Universitario en el Municipio cofinanciado con el departamento, la nación | DI11: E1. - SOCIAL: Desarrollo Social con alta competitividad y proyección | DJ11: E1.P_A - TOCANCIPA BIEN EDUCADA | DK11: Garantizar calidad, cobertura, eficiencia y pertinencia en la oferta Educativa Municipal | DL11: E1.P_A.MR1 - Mejorar los indicadores de resultado de las pruebas SABER en las Instituciones Educativas del Municipio | DN11: E1.P_A.MR2 | DO11: Disminuir el número de estudiantes por equipo de cómputo | DQ11: E1.P_A.MR1-MP01-2 | DR11: Constituir el mecanismo de gestión y financiación contemplados en el PDM para la creación de un complejo Universitario en el Municipio cofinanciado con el departamento, la nación y universidades públicas y privadas nacionales y/o internacionales | DT11: =+LEFT(DU11,10) -> E1.P_A.MR1 | DU11: E1.P_A.MR1 - Mejorar los indicadores de resultado de las pruebas SABER en las Instituciones Educativas del Municipio (Restaurantes Escolares) | DV11: E1. - SOCIAL: Desarrollo Social con alta competitividad y proyección | DW11: Mejorar las condiciones de calidad de vida de toda la población del territorio y especialmente en los sectores más vulnerables, garantizando el acceso a sus derechos sociales, individuales y colectrivos en Educación, Salud, Cultura, Recreación y Deporte | DX11: Educación | DY11: E1.P_A - TOCANCIPA BIEN EDUCADA | DZ11: Garantizar calidad, cobertura, eficiencia y pertinencia en la oferta Educativa Municipal | EB11: E1.P_A.MR1 | EC11: Mejorar los indicadores de resultado de las pruebas SABER en las Instituciones Educativas del Municipio (Restaurantes Escolares) | ED11: Índice de resultado pruebas SABER | EE11: 0 | EF11: 10 | EL11: E1.P_A.MR1-MP02-1 | EM11: implementar acciones para mejorar los resultados de las Pruebas Saber 3°, 5°, 7°, 9° y 11 | EN11: No. De acciones implementadas | EO11: 1 | EP11: 2 | EQ11: 0 | ER11: 0.5 | ES11: 0.5 | ET11: 1
A12: E1. | B12: SOCIAL: Desarrollo Social con alta competitividad y proyección | C12: Mejorar las condiciones de calidad de vida de toda la población del territorio y especialmente en los sectores más vulnerables, garantizando el acceso a sus derechos sociales, individuales y colectrivos en Educación, Salud, Cultura, Recreación y Deporte | E12: P_A | F12: =+CONCATENATE(A12,E12) -> E1.P_A | G12: TOCANCIPA BIEN EDUCADA | H12: Garantizar calidad, cobertura, eficiencia y pertinencia en la oferta Educativa Municipal | J12: MR1 | K12: =+CONCATENATE(F12,".",J12) -> E1.P_A.MR1 | L12: Mejorar los indicadores de resultado de las pruebas SABER en las Instituciones Educativas del Municipio | M12: Índice de resultado pruebas SABER | N12: 0 | O12: 0.1 | P12: MP03-1 | Q12: =+CONCATENATE(K12,"-",P12) -> E1.P_A.MR1-MP03-1 | R12: Mantener la cobertura del servicio de transporte escolar | S12: Tasa de Cobertura de Transporte Escolar según distancia legal para los estudiantes que lo requieren | T12: 0.98 | U12: 0.98 | V12: Mantenimiento | W12: 0.98 | X12: 0.98 | Y12: 0.98 | Z12: 0.98 | BD12: Secretaria de Educación | BF12: E4. | BG12: Seguridad y Justicia, La Integración Comunitaria y la Administración Pública son con la Gente y por la Gente | BK12: E1.P_D | BL12: DEPORTE Y RECREACIÓN PARA EL MEJORAMIENTO DE LA CALIDAD DE VIDA Y LA SANA CONVIVENCIA | BN12: E1.P_A | BO12: TOCANCIPA BIEN EDUCADA | BP12: E1.P_A.MR4 | BQ12: Mejorar el perfil ocupacional de la población | BS12: E1.P_A.MR1 | BT12: Mejorar los indicadores de resultado de las pruebas SABER en las Instituciones Educativas del Municipio | BU12: E1.P_A.MR1-MP02-1 | BV12: implementar acciones para mejorar los resultados de las Pruebas Saber 3°, 5°, 7°, 9° y 11 | BX12: E1.P_D | BY12: DEPORTE Y RECREACIÓN PARA EL MEJORAMIENTO DE LA CALIDAD DE VIDA Y LA SANA CONVIVENCIA | BZ12: 717603684 | CA12: 1146292679 | CB12: 100000000 | CE12: 104103637 | CF12: 2068000000 | CG12: 717603684 | CH12: 1146292679 | CI12: 100000000 | CJ12: 0 | CK12: 0 | CL12: 104103637 | CM12: 2068000000 | CN12: 717603684 | CO12: 1146292679 | CP12: 100000000 | CQ12: 0 | CR12: 0 | CS12: 104103637 | CT12: 2068000000 | CU12: 717603684 | CV12: 1146292679 | CW12: 100000000 | CX12: 0 | CY12: 0 | CZ12: 104103637 | DA12: 2068000000 | DB12: 8272000000 | DC12: E1.P_A.MR2 - Disminuir el número de estudiantes por equipo de cómputo | DD12: E1. - SOCIAL: Desarrollo Social con alta competitividad y proyección | DE12: E1.P_A - TOCANCIPA BIEN EDUCADA | DF12: Garantizar calidad, cobertura, eficiencia y pertinencia en la oferta Educativa Municipal | DH12: E1.P_A.MR1-MP02-1 - implementar acciones para mejorar los resultados de las Pruebas Saber 3°, 5°, 7°, 9° y 11 | DI12: E1. - SOCIAL: Desarrollo Social con alta competitividad y proyección | DJ12: E1.P_A - TOCANCIPA BIEN EDUCADA | DK12: Garantizar calidad, cobertura, eficiencia y pertinencia en la oferta Educativa Municipal | DL12: E1.P_A.MR1 - Mejorar los indicadores de resultado de las pruebas SABER en las Instituciones Educativas del Municipio | DN12: E1.P_A.MR3 | DO12: Mantener las tasas de cobertura bruta por niveles | DQ12: E1.P_A.MR1-MP02-1 | DR12: implementar acciones para mejorar los resultados de las Pruebas Saber 3°, 5°, 7°, 9° y 11 | DT12: =+LEFT(DU12,10) -> E1.P_A.MR2 | DU12: E1.P_A.MR2 - Disminuir el número de estudiantes por equipo de cómputo | DV12: E1. - SOCIAL: Desarrollo Social con alta competitividad y proyección | DW12: Mejorar las condiciones de calidad de vida de toda la población del territorio y especialmente en los sectores más vulnerables, garantizando el acceso a sus derechos sociales, individuales y colectrivos en Educación, Salud, Cultura, Recreación y Deporte | DX12: Educación | DY12: E1.P_A - TOCANCIPA BIEN EDUCADA | DZ12: Garantizar calidad, cobertura, eficiencia y pertinencia en la oferta Educativa Municipal | EB12: E1.P_A.MR2 | EC12: Disminuir el número de estudiantes por equipo de cómputo | ED12: No. de estudiantes por equipo de cómputo | EE12: 3 | EF12: 2 | EL12: E1.P_A.MR1-MP03-1 | EM12: Mantener la cobertura del servicio de transporte escolar | EN12: Tasa de Cobertura de Transporte Escolar según distancia legal para los estudiantes que lo requieren (%) | EO12: 98 | EP12: 98 | EQ12: 98 | ER12: 98 | ES12: 98 | ET12: 98
A13: E1. | B13: SOCIAL: Desarrollo Social con alta competitividad y proyección | C13: Mejorar las condiciones de calidad de vida de toda la población del territorio y especialmente en los sectores más vulnerables, garantizando el acceso a sus derechos sociales, individuales y colectrivos en Educación, Salud, Cultura, Recreación y Deporte | E13: P_A | F13: =+CONCATENATE(A13,E13) -> E1.P_A | G13: TOCANCIPA BIEN EDUCADA | H13: Garantizar calidad, cobertura, eficiencia y pertinencia en la oferta Educativa Municipal | J13: MR1 | K13: =+CONCATENATE(F13,".",J13) -> E1.P_A.MR1 | L13: Mejorar los indicadores de resultado de las pruebas SABER en las Instituciones Educativas del Municipio | M13: Índice de resultado pruebas SABER | N13: 0 | O13: 0.1 | P13: MP04-1 | Q13: =+CONCATENATE(K13,"-",P13) -> E1.P_A.MR1-MP04-1 | R13: Implementar semilleros de investigación en tecnología e innovación | S13: No. de semilleros de investigación en tecnología e innovación implementados | T13: 0 | U13: 3 | V13: Incremento | W13: 0.5 | X13: 0.5 | Y13: 1 | Z13: 1 | BD13: Secretaria de Educación | BK13: E1.P_E | BL13: ATENCIÓN INTEGRAL DEL ADULTO MAYOR | BN13: E1.P_A | BO13: TOCANCIPA BIEN EDUCADA | BP13: E1.P_A.MR5 | BQ13: Desarrollar una estrategia para fomentar el acceso de la población a la educación técnica, tecnológica y profesional | BS13: E1.P_A.MR1 | BT13: Mejorar los indicadores de resultado de las pruebas SABER en las Instituciones Educativas del Municipio | BU13: E1.P_A.MR1-MP03-1 | BV13: Mantener la cobertura del servicio de transporte escolar | BX13: E1.P_E | BY13: ATENCIÓN INTEGRAL DEL ADULTO MAYOR | BZ13: 240000000 | CB13: 0 | CF13: 240000000 | CG13: 240000000 | CH13: 0 | CI13: 0 | CJ13: 0 | CK13: 0 | CL13: 0 | CM13: 240000000 | CN13: 240000000 | CO13: 0 | CP13: 0 | CQ13: 0 | CR13: 0 | CS13: 0 | CT13: 240000000 | CU13: 240000000 | CV13: 0 | CW13: 0 | CX13: 0 | CY13: 0 | CZ13: 0 | DA13: 240000000 | DB13: 960000000 | DC13: E1.P_A.MR3 - Mantener las tasas de cobertura bruta por niveles | DD13: E1. - SOCIAL: Desarrollo Social con alta competitividad y proyección | DE13: E1.P_A - TOCANCIPA BIEN EDUCADA | DF13: Garantizar calidad, cobertura, eficiencia y pertinencia en la oferta Educativa Municipal | DH13: E1.P_A.MR1-MP03-1 - Mantener la cobertura del servicio de transporte escolar | DI13: E1. - SOCIAL: Desarrollo Social con alta competitividad y proyección | DJ13: E1.P_A - TOCANCIPA BIEN EDUCADA | DK13: Garantizar calidad, cobertura, eficiencia y pertinencia en la oferta Educativa Municipal | DL13: E1.P_A.MR1 - Mejorar los indicadores de resultado de las pruebas SABER en las Instituciones Educativas del Municipio | DN13: E1.P_A.MR4 | DO13: Mejorar el perfil ocupacional de la población | DQ13: E1.P_A.MR1-MP03-1 | DR13: Mantener la cobertura del servicio de transporte escolar | DT13: =+LEFT(DU13,10) -> E1.P_A.MR3 | DU13: E1.P_A.MR3 - Mantener las tasas de cobertura bruta por niveles | DV13: E1. - SOCIAL: Desarrollo Social con alta competitividad y proyección | DW13: Mejorar las condiciones de calidad de vida de toda la población del territorio y especialmente en los sectores más vulnerables, garantizando el acceso a sus derechos sociales, individuales y colectrivos en Educación, Salud, Cultura, Recreación y Deporte | DX13: Educación | DY13: E1.P_A - TOCANCIPA BIEN EDUCADA | DZ13: Garantizar calidad, cobertura, eficiencia y pertinencia en la oferta Educativa Municipal | EB13: E1.P_A.MR3 | EC13: Mantener las tasas de cobertura bruta por niveles | ED13: Tasa de cobertura transición Tasa de cobertura primaria Tasa de cobertura secundaria Tasa de cobertura media | EE13: 104% 108% 126% 90,83% | EF13: 104% 108% 126% 90,83% | EL13: E1.P_A.MR1-MP04-1 | EM13: Implementar semilleros de investigación en tecnología e innovación | EN13: No. de semilleros de investigación en tecnología e innovación implementados | EO13: 0 | EP13: 3 | EQ13: 0.5 | ER13: 0.5 | ES13: 1 | ET13: 1
A14: E1. | B14: SOCIAL: Desarrollo Social con alta competitividad y proyección | C14: Mejorar las condiciones de calidad de vida de toda la población del territorio y especialmente en los sectores más vulnerables, garantizando el acceso a sus derechos sociales, individuales y colectrivos en Educación, Salud, Cultura, Recreación y Deporte | E14: P_A | F14: =+CONCATENATE(A14,E14) -> E1.P_A | G14: TOCANCIPA BIEN EDUCADA | H14: Garantizar calidad, cobertura, eficiencia y pertinencia en la oferta Educativa Municipal | J14: MR1 | K14: =+CONCATENATE(F14,".",J14) -> E1.P_A.MR1 | L14: Mejorar los indicadores de resultado de las pruebas SABER en las Instituciones Educativas del Municipio | M14: Índice de resultado pruebas SABER | N14: 0 | O14: 0.1 | P14: MP05-1 | Q14: =+CONCATENATE(K14,"-",P14) -> E1.P_A.MR1-MP05-1 | R14: Mantener las Dotaciones de las I.E.D en Infraestructura Educativa y en Material y Medios Pedagógicos para el Aprendizaje | S14: No. de instituciones dotadas | T14: 3 | U14: 3 | V14: Mantenimiento | W14: 3 | X14: 3 | Y14: 3 | Z14: 3 | BD14: Secretaria de Educación | BK14: E1.P_F | BL14: PRIMERA INFANCIA, INFANCIA, ADOLESCENCIA Y JUVENTUD CON DESARROLLO Y PROYECCIÓN | BN14: E1.P_B | BO14: SALUD CON ATENCIÓN DIGNA, PRIORITARIA Y DE CALIDAD | BP14: E1.P_B.MR1 | BQ14: Terminación, equipamiento y operación del Hospital Municipal | BS14: E1.P_A.MR1 | BT14: Mejorar los indicadores de resultado de las pruebas SABER en las Instituciones Educativas del Municipio | BU14: E1.P_A.MR1-MP04-1 | BV14: Implementar semilleros de investigación en tecnología e innovación | BX14: E1.P_F | BY14: PRIMERA INFANCIA, INFANCIA, ADOLESCENCIA Y JUVENTUD CON DESARROLLO Y PROYECCIÓN | BZ14: 1566108662 | CA14: 1384562012 | CB14: 0 | CE14: 110329326 | CF14: 3061000000 | CG14: 1566108662 | CH14: 1384562012 | CI14: 0 | CJ14: 0 | CK14: 0 | CL14: 110329326 | CM14: 3061000000 | CN14: 1566108662 | CO14: 1384562012 | CP14: 0 | CQ14: 0 | CR14: 0 | CS14: 110329326 | CT14: 3061000000 | CU14: 1566108662 | CV14: 1384562012 | CW14: 0 | CX14: 0 | CY14: 0 | CZ14: 110329326 | DA14: 3061000000 | DB14: 12244000000 | DC14: E1.P_A.MR4 - Mejorar el perfil ocupacional de la población | DD14: E1. - SOCIAL: Desarrollo Social con alta competitividad y proyección | DE14: E1.P_A - TOCANCIPA BIEN EDUCADA | DF14: Garantizar calidad, cobertura, eficiencia y pertinencia en la oferta Educativa Municipal | DH14: E1.P_A.MR1-MP04-1 - Implementar semilleros de investigación en tecnología e innovación | DI14: E1. - SOCIAL: Desarrollo Social con alta competitividad y proyección | DJ14: E1.P_A - TOCANCIPA BIEN EDUCADA | DK14: Garantizar calidad, cobertura, eficiencia y pertinencia en la oferta Educativa Municipal | DL14: E1.P_A.MR1 - Mejorar los indicadores de resultado de las pruebas SABER en las Instituciones Educativas del Municipio | DN14: E1.P_A.MR5 | DO14: Desarrollar una estrategia para fomentar el acceso de la población a la educación técnica, tecnológica y profesional | DQ14: E1.P_A.MR1-MP04-1 | DR14: Implementar semilleros de investigación en tecnología e innovación | DT14: =+LEFT(DU14,10) -> E1.P_A.MR4 | DU14: E1.P_A.MR4 - Mejorar el perfil ocupacional de la población | DV14: E1. - SOCIAL: Desarrollo Social con alta competitividad y proyección | DW14: Mejorar las condiciones de calidad de vida de toda la población del territorio y especialmente en los sectores más vulnerables, garantizando el acceso a sus derechos sociales, individuales y colectrivos en Educación, Salud, Cultura, Recreación y Deporte | DX14: Educación | DY14: E1.P_A - TOCANCIPA BIEN EDUCADA | DZ14: Garantizar calidad, cobertura, eficiencia y pertinencia en la oferta Educativa Municipal | EB14: E1.P_A.MR4 | EC14: Mejorar el perfil ocupacional de la población | ED14: Índice de perfil ocupacional | EE14: 0 | EF14: 4 | EL14: E1.P_A.MR1-MP05-1 | EM14: Mantener las Dotaciones de las I.E.D en Infraestructura Educativa y en Material y Medios Pedagógicos para el Aprendizaje | EN14: No. de instituciones dotadas | EO14: 3 | EP14: 3 | EQ14: 3 | ER14: 3 | ES14: 3 | ET14: 3
A15: E1. | B15: SOCIAL: Desarrollo Social con alta competitividad y proyección | C15: Mejorar las condiciones de calidad de vida de toda la población del territorio y especialmente en los sectores más vulnerables, garantizando el acceso a sus derechos sociales, individuales y colectrivos en Educación, Salud, Cultura, Recreación y Deporte | E15: P_A | F15: =+CONCATENATE(A15,E15) -> E1.P_A | G15: TOCANCIPA BIEN EDUCADA | H15: Garantizar calidad, cobertura, eficiencia y pertinencia en la oferta Educativa Municipal | J15: MR1 | K15: =+CONCATENATE(F15,".",J15) -> E1.P_A.MR1 | L15: Mejorar los indicadores de resultado de las pruebas SABER en las Instituciones Educativas del Municipio | M15: Índice de resultado pruebas SABER | N15: 0 | O15: 0.1 | P15: MP06-1 | Q15: =+CONCATENATE(K15,"-",P15) -> E1.P_A.MR1-MP06-1 | R15: Mantener la infraestructura educativa y recursos de aprendizaje de las I.E.D | S15: No. de I.E.D a las que se ha realizado mantenimiento | T15: 3 | U15: 3 | V15: Mantenimiento | W15: 3 | X15: 3 | Y15: 3 | Z15: 3 | BD15: Secretaria de Educación | BK15: E1.P_G | BL15: EMPODERAMIENTO E INCLUSIÓN DE GÉNERO Y POBLACIÓN LGTBI | BN15: E1.P_B | BO15: SALUD CON ATENCIÓN DIGNA, PRIORITARIA Y DE CALIDAD | BP15: E1.P_B.MR2 | BQ15: Mantener el programa de aseguramiento SGSSS y fortalecer la prestación de servicios de salud | BS15: E1.P_A.MR1 | BT15: Mejorar los indicadores de resultado de las pruebas SABER en las Instituciones Educativas del Municipio | BU15: E1.P_A.MR1-MP05-1 | BV15: Mantener las Dotaciones de las I.E.D en Infraestructura Educativa y en Material y Medios Pedagógicos para el Aprendizaje | BX15: E1.P_G | BY15: EMPODERAMIENTO E INCLUSIÓN DE GÉNERO Y POBLACIÓN LGTBI | BZ15: 120000000 | CB15: 0 | CF15: 120000000 | CG15: 120000000 | CH15: 0 | CI15: 0 | CJ15: 0 | CK15: 0 | CL15: 0 | CM15: 120000000 | CN15: 120000000 | CO15: 0 | CP15: 0 | CQ15: 0 | CR15: 0 | CS15: 0 | CT15: 120000000 | CU15: 120000000 | CV15: 0 | CW15: 0 | CX15: 0 | CY15: 0 | CZ15: 0 | DA15: 120000000 | DB15: 480000000 | DC15: E1.P_A.MR5 - Desarrollar una estrategia para fomentar el acceso de la población a la educación técnica, tecnológica y profesional | DD15: E1. - SOCIAL: Desarrollo Social con alta competitividad y proyección | DE15: E1.P_A - TOCANCIPA BIEN EDUCADA | DF15: Garantizar calidad, cobertura, eficiencia y pertinencia en la oferta Educativa Municipal | DH15: E1.P_A.MR1-MP05-1 - Mantener las Dotaciones de las I.E.D en Infraestructura Educativa y en Material y Medios Pedagógicos para el Aprendizaje | DI15: E1. - SOCIAL: Desarrollo Social con alta competitividad y proyección | DJ15: E1.P_A - TOCANCIPA BIEN EDUCADA | DK15: Garantizar calidad, cobertura, eficiencia y pertinencia en la oferta Educativa Municipal | DL15: E1.P_A.MR1 - Mejorar los indicadores de resultado de las pruebas SABER en las Instituciones Educativas del Municipio | DN15: E1.P_B.MR1 | DO15: Terminación, equipamiento y operación del Hospital Municipal | DQ15: E1.P_A.MR1-MP05-1 | DR15: Mantener las Dotaciones de las I.E.D en Infraestructura Educativa y en Material y Medios Pedagógicos para el Aprendizaje | DT15: =+LEFT(DU15,10) -> E1.P_A.MR5 | DU15: E1.P_A.MR5 - Desarrollar una estrategia para fomentar el acceso de la población a la educación técnica, tecnológica y profesional | DV15: E1. - SOCIAL: Desarrollo Social con alta competitividad y proyección | DW15: Mejorar las condiciones de calidad de vida de toda la población del territorio y especialmente en los sectores más vulnerables, garantizando el acceso a sus derechos sociales, individuales y colectrivos en Educación, Salud, Cultura, Recreación y Deporte | DX15: Educación | DY15: E1.P_A - TOCANCIPA BIEN EDUCADA | DZ15: Garantizar calidad, cobertura, eficiencia y pertinencia en la oferta Educativa Municipal | EB15: E1.P_A.MR5 | EC15: Desarrollar una estrategia para fomentar el acceso de la población a la educación técnica, tecnológica y profesional | ED15: Estrategia desarrollada | EE15: 0 | EF15: 1 | EL15: E1.P_A.MR1-MP06-1 | EM15: Mantener la infraestructura educativa y recursos de aprendizaje de las I.E.D | EN15: No. de I.E.D a las que se ha realizado mantenimiento | EO15: 3 | EP15: 3 | EQ15: 3 | ER15: 3 | ES15: 3 | ET15: 3
