Workbook
Name _001_Recursos__Propios: '[1]FUENTES DE RECURSOS '!$E$2:$E$50
Name _001_Recursos__Propios: '[1]FUENTES DE RECURSOS '!$E$2:$E$50
Name CARGOS: [2]DEPENDENCIAS!$B$2:$B$43
Name COD_MR: '[3]CONSOLIDADO PLAN DESARROLLO'!$DT$9:$DT$62
Name COD_MR: 'CONSOLIDADO PLAN DESARROLLO'!$DT$9:$DT$62
Name E1.: 'CONSOLIDADO PLAN DESARROLLO'!$BK$9:$BK$18
Name E1.P_A: 'CONSOLIDADO PLAN DESARROLLO'!$BP$9:$BP$13
Name E1.P_A.MR1: 'CONSOLIDADO PLAN DESARROLLO'!$BU$10:$BU$18
Name E1.P_A.MR2: 'CONSOLIDADO PLAN DESARROLLO'!$BU$19:$BU$22
Name E1.P_A.MR3: 'CONSOLIDADO PLAN DESARROLLO'!$BU$23:$BU$27
Name E1.P_A.MR4: 'CONSOLIDADO PLAN DESARROLLO'!$BU$28:$BU$32
Name E1.P_A.MR5: 'CONSOLIDADO PLAN DESARROLLO'!$BU$33:$BU$36
Name E1.P_B: 'CONSOLIDADO PLAN DESARROLLO'!$BP$14:$BP$16
Name E1.P_B.MR1: 'CONSOLIDADO PLAN DESARROLLO'!$BU$37:$BU$40
Name E1.P_B.MR2: 'CONSOLIDADO PLAN DESARROLLO'!$BU$41:$BU$43
Name E1.P_B.MR3: 'CONSOLIDADO PLAN DESARROLLO'!$BU$44:$BU$53
Name E1.P_C: 'CONSOLIDADO PLAN DESARROLLO'!$BP$17
Name E1.P_C.MR1: 'CONSOLIDADO PLAN DESARROLLO'!$BU$54:$BU$69
Name E1.P_D: 'CONSOLIDADO PLAN DESARROLLO'!$BP$18
Name E1.P_D.MR1: 'CONSOLIDADO PLAN DESARROLLO'!$BU$70:$BU$82
Name E1.P_E: 'CONSOLIDADO PLAN DESARROLLO'!$BP$19
Name E1.P_E.MR1: 'CONSOLIDADO PLAN DESARROLLO'!$BU$83:$BU$87
Name E1.P_F: 'CONSOLIDADO PLAN DESARROLLO'!$BP$20:$BP$21
Name E1.P_F.MR1: 'CONSOLIDADO PLAN DESARROLLO'!$BU$88:$BU$91
Name E1.P_F.MR2: 'CONSOLIDADO PLAN DESARROLLO'!$BU$92:$BU$95
Name E1.P_G: 'CONSOLIDADO PLAN DESARROLLO'!$BP$22:$BP$23
Name E1.P_G.MR1: 'CONSOLIDADO PLAN DESARROLLO'!$BU$96:$BU$98
Name E1.P_G.MR2: 'CONSOLIDADO PLAN DESARROLLO'!$BU$99
Name E1.P_H: 'CONSOLIDADO PLAN DESARROLLO'!$BP$24
Name E1.P_H.MR1: 'CONSOLIDADO PLAN DESARROLLO'!$BU$100:$BU$106
Name E1.P_I: 'CONSOLIDADO PLAN DESARROLLO'!$BP$25
Name E1.P_I.MR1: 'CONSOLIDADO PLAN DESARROLLO'!$BU$107:$BU$109
Name E1.P_J: 'CONSOLIDADO PLAN DESARROLLO'!$BP$26
Name E1.P_J.MR1: 'CONSOLIDADO PLAN DESARROLLO'!$BU$110:$BU$111
Name E2.: 'CONSOLIDADO PLAN DESARROLLO'!$BK$19:$BK$24
Name E2.P_A: 'CONSOLIDADO PLAN DESARROLLO'!$BP$27
Name E2.P_A.MR1: 'CONSOLIDADO PLAN DESARROLLO'!$BU$112:$BU$121
Name E2.P_B: 'CONSOLIDADO PLAN DESARROLLO'!$BP$28
Name E2.P_B.MR1: 'CONSOLIDADO PLAN DESARROLLO'!$BU$122:$BU$125
Name E2.P_C: 'CONSOLIDADO PLAN DESARROLLO'!$BP$29
Name E2.P_C.MR1: 'CONSOLIDADO PLAN DESARROLLO'!$BU$126:$BU$128
Name E2.P_D: 'CONSOLIDADO PLAN DESARROLLO'!$BP$30
Name E2.P_D.MR1: 'CONSOLIDADO PLAN DESARROLLO'!$BU$129:$BU$133
Name E2.P_E: 'CONSOLIDADO PLAN DESARROLLO'!$BP$31
Name E2.P_E.MR1: 'CONSOLIDADO PLAN DESARROLLO'!$BU$134:$BU$139
Name E2.P_F: 'CONSOLIDADO PLAN DESARROLLO'!$BP$32:$BP$33
Name E2.P_F.MR1: 'CONSOLIDADO PLAN DESARROLLO'!$BU$140:$BU$144
Name E2.P_F.MR2: 'CONSOLIDADO PLAN DESARROLLO'!$BU$145:$BU$148
Name E3.: 'CONSOLIDADO PLAN DESARROLLO'!$BK$25:$BK$36
Name E3.P_A: 'CONSOLIDADO PLAN DESARROLLO'!$BP$34
Name E3.P_A.MR1: 'CONSOLIDADO PLAN DESARROLLO'!$BU$149:$BU$169
Name E3.P_B: 'CONSOLIDADO PLAN DESARROLLO'!$BP$35
Name E3.P_B.MR1: 'CONSOLIDADO PLAN DESARROLLO'!$BU$170:$BU$182
Name E3.P_C: 'CONSOLIDADO PLAN DESARROLLO'!$BP$36:$BP$37
Name E3.P_C.MR1: 'CONSOLIDADO PLAN DESARROLLO'!$BU$183:$BU$185
Name E3.P_C.MR2: 'CONSOLIDADO PLAN DESARROLLO'!$BU$186
Name E3.P_D: 'CONSOLIDADO PLAN DESARROLLO'!$BP$38:$BP$39
Name E3.P_D.MR1: 'CONSOLIDADO PLAN DESARROLLO'!$BU$187:$BU$192
Name E3.P_D.MR2: 'CONSOLIDADO PLAN DESARROLLO'!$BU$193:$BU$195
Name E3.P_E: 'CONSOLIDADO PLAN DESARROLLO'!$BP$40

Sheet PLAN DE ACCION 2019
B2: PLAN DE DESARROLLO MUNICIPAL "TOCANCIPÁ ALTA COMPETITIVIDAD CON DESARROLLO Y PROYECCIÓN" | BF2: DILIGENCIE O ELIJA DE LA LISTA DESPLAGABLE ÚNICAMENTE EN LAS CELDAS MARCADAS CON ESTE COLOR. NOTA: ABSTÉNGASE DE DIGITAR O MODIFICAR EL CONTENIDO DE LAS OTRAS CELDAS.
B3: COMPONENTE DE EFICACIA - PLAN DE ACCIÒN - VIGENCIA | N3: 2019 | Q3: =VLOOKUP(N3,#REF!,2,0) -> #REF! | R3: =VLOOKUP(N3,$N$331:$O$335,2,0) -> 9
B5: EJE: | C5: =VLOOKUP($D$9,'CONSOLIDADO PLAN DESARROLLO'!$DT$9:$DZ$62,3,0) -> E3. - Infraestructura, Planeación, Ambiente y Servicios Públicos | J5: SECTOR: | L5: =VLOOKUP($D$9,'CONSOLIDADO PLAN DESARROLLO'!$DT$9:$DZ$62,5,0) -> Servicios Públicos | V5: OBJETIVO DEL EJE: | Y5: =VLOOKUP($D$9,'CONSOLIDADO PLAN DESARROLLO'!$DT$9:$DZ$62,4,0) -> Desarrollar infraestructuras sostenibles y de calidad, que interactúen de manera armónica con el medio ambiente y el cambio climático basado en el desarrollo económico y el bienestar social, promoviendo el acceso equitativo de servicios básicos esenciales para todos los grupos de población
B6: PROGRAMA: | C6: =VLOOKUP($D$9,'CONSOLIDADO PLAN DESARROLLO'!$DT$9:$DZ$62,6,0) -> E3.P_L - ACUEDUCTO, ALCANTARILLADO Y ASEO | G6: OBJETIVO PROGRAMA: | K6: =VLOOKUP($D$9,'CONSOLIDADO PLAN DESARROLLO'!$DT$9:$DZ$62,7,0) -> Ampliar las coberturas los servicios públicos de Acueducto, Alcantarillado y Aseo | R6: RECURSOS FINANCIEROS ($) | AL6: GERENCIA
B7: RESPONSABLE | D7: CÓD. CONS. META RESULTADO | E7: DESCRIPCIÓN META DE RESULTADO | F7: INDICADOR | G7: LINEA BASE | H7: META CUATRIENIO | I7: Valor Esperado | J7: =+$N$3 -> 2019 | K7: META ACUMULADA 1er SEMESTRE | L7: META ACUMULADA 1-Ener_31-Dic. | R7: COFINANCIACIÓN DEPARTAMENTO | T7: COFINACIACIÓN NACIÓN | V7: CRÉDITO | X7: OTROS | Z7: RECURSOS PROPIOS | AB7: SGP | AD7: REGALÍAS | AF7: RECURSOS FUNCIONAMIENTO | AH7: RECURSOS GESTIONADOS | AJ7: TOTALES | AL7: POBLACIÓN BENEFICIADA POR CICLO VITAL | AS7: POBLACIÓN BENEFICIADA POR GÉNERO | AV7: POBLACIÓN BENEFICIADA CONDICIONES ESPECIALES | BA7: VERIFICACIÒN | BB7: COOPERANTE - RECURSOS GESTIONADOS | BC7: RESPONSABLE DIRECTO
R8: Programado - apropiado | S8: Ejecutado - compromisos | T8: Programado - apropiado | U8: Ejecutado - compromisos | V8: Programado - apropiado | W8: Ejecutado - compromisos | X8: Programado - apropiado | Y8: Ejecutado - compromisos | Z8: Programado - apropiado | AA8: Ejecutado - compromisos | AB8: Programado - apropiado | AC8: Ejecutado - compromisos | AD8: Programado - apropiado | AE8: Ejecutado - compromisos | AF8: Programado - apropiado | AG8: Ejecutado - compromisos | AH8: Programado - apropiado | AI8: Ejecutado - compromisos | AJ8: Programado - apropiado | AK8: Ejecutado - compromisos | AL8: P.I | AM8: I | AN8: ADO | AO8: JUV | AP8: ADU | AQ8: AD-M | AR8: TOT. CICLO VITAL | AS8: M | AT8: H | AU8: TOT. GÉNERO | AV8: VCA | AW8: LGTBI | AX8: DISCAP | AY8: AFRO | AZ8: INDIG
B9: ELVA JEANNETTE CUEVAS BAUTISTA - GERENTE EMPRESA DE SERVICIOS PÚBLICOS | D9: E3.P_L.MR2 | E9: =VLOOKUP($D$9,'CONSOLIDADO PLAN DESARROLLO'!$EB$9:$EF$62,2,0) -> Mantener la cobertura de alcantarillado en el área urbana y el área rural | F9: =VLOOKUP($D$9,'CONSOLIDADO PLAN DESARROLLO'!$EB$9:$EF$62,3,0) -> % cobertura urbana % cobertura rural | G9: =VLOOKUP($D$9,'CONSOLIDADO PLAN DESARROLLO'!$EB$9:$EF$62,4,0) -> 100% 75,7% | H9: =VLOOKUP($D$9,'CONSOLIDADO PLAN DESARROLLO'!$EB$9:$EF$62,5,0) -> 100% 75,7% | I9: 100% 88% | K9: 100% 88% | L9: 100% 88% | R9: =+R12+R30+R39+R52+R69+R78+R87+R96+R105+R114+R123+R132+R141+R150+R159+R168+R177+R186+R195+R204+R213 -> 0 | S9: =+S12+S30+S39+S52+S69+S78+S87+S96+S105+S114+S123+S132+S141+S150+S159+S168+S177+S186+S195+S204+S213 -> 0 | T9: =+T12+T30+T39+T52+T69+T78+T87+T96+T105+T114+T123+T132+T141+T150+T159+T168+T177+T186+T195+T204+T213 -> 440386423 | U9: =+U12+U30+U39+U52+U69+U78+U87+U96+U105+U114+U123+U132+U141+U150+U159+U168+U177+U186+U195+U204+U213 -> 0 | V9: =+V12+V30+V39+V52+V69+V78+V87+V96+V105+V114+V123+V132+V141+V150+V159+V168+V177+V186+V195+V204+V213 -> 0 | W9: =+W12+W30+W39+W52+W69+W78+W87+W96+W105+W114+W123+W132+W141+W150+W159+W168+W177+W186+W195+W204+W213 -> 0 | X9: =+X12+X30+X39+X52+X69+X78+X87+X96+X105+X114+X123+X132+X141+X150+X159+X168+X177+X186+X195+X204+X213 -> 0 | Y9: =+Y12+Y30+Y39+Y52+Y69+Y78+Y87+Y96+Y105+Y114+Y123+Y132+Y141+Y150+Y159+Y168+Y177+Y186+Y195+Y204+Y213 -> 0 | ... AZ9: =+AZ12+AZ30+AZ39+AZ52+AZ69+AZ78+AZ87+AZ96+AZ105+AZ114+AZ123+AZ132+AZ141+AZ150+AZ159+AZ168+AZ177+AZ186+AZ195+AZ204+AZ213 -> 0
B10: JORGE ANDRES PORRAS VARGAS - GERENTE EMPRESA DE SERVICIOS PUBLICOS | C10: 040104-MR1b | D10: =VLOOKUP($D$9,#REF!,2,0) -> #REF! | K10: =VLOOKUP($D$9,#REF!,3,0) -> #REF! | L10: =VLOOKUP($D$9,#REF!,4,0) -> #REF! | M10: =VLOOKUP($D$9,#REF!,5,0) -> #REF! | N10: =VLOOKUP($D$9,#REF!,Q3,0) -> #REF! | Q10: 5555
A12: 1 | B12: PROYECTO | C12: CODIGO REGISTRO PROYECTO | D12: CÓD. CONS. META PRODUCTO | E12: DESCRIPCIÓN META DE PRODUCTO | F12: INDICADOR | G12: LINEA BASE | H12: META CUATRIENIO | I12: Valor Esperado | J12: =+$N$3 -> 2019 | K12: META ACUMULADA 1er SEMESTRE | L12: META ACUMULADA 1-Ener_31-Dic. | M12: ACTIVIDADES | N12: UNIDAD DE MEDIDA | O12: CANTIDADES CUATRIENIO | P12: Ejecutado 1-Ener_30-Jun. | Q12: Ejecutado 1-Ener_31-Dic. | R12: =SUM(R13:R28) -> 0 | S12: =SUM(S13:S28) -> 0 | T12: =SUM(T13:T28) -> 0 | U12: =SUM(U13:U28) -> 0 | V12: =SUM(V13:V28) -> 0 | W12: =SUM(W13:W28) -> 0 | X12: =SUM(X13:X28) -> 0 | Y12: =SUM(Y13:Y28) -> 0 | ... AK12: =SUM(AK13:AK28) -> 902272454 | BA12: VERIFICACIÒN | BB12: COOPERANTE - RECURSOS GESTIONADOS | BC12: RESPONSABLE DIRECTO
B13: =VLOOKUP($D$9,'PROYECTOS REGISTRADOS'!$A$2:$D$82,4,0) -> Mejoramiento de la Cobertura de Alcantarillado en el Área Urbana y Área Rural en el Municipio de Tocancipá, Cundinamarca, Centro Oriente | C13: =VLOOKUP($D$9,'PROYECTOS REGISTRADOS'!$A$2:$D$82,3,0) -> 2016-25817-0033 | D13: E3.P_L.MR2-MP01-1 | E13: =IF(D13=0,"0-0",(VLOOKUP(D13,'CONSOLIDADO PLAN DESARROLLO'!$EL$9:$ET$304,2,0))) -> Cumplir con los requisitos legales de vertimientos a través de la estabilización y optimización de las Plantas de Tratamiento de Aguas Residuales - PTAR´s | F13: =IF(D13=0,"0-0",(VLOOKUP(D13,'CONSOLIDADO PLAN DESARROLLO'!$EL$9:$ET$304,3,0))) -> No. de plantas de tratamiento de aguas residuales cumpliendo requisitos legales de vertimientos | G13: =IF(D13=0,"0-0",(VLOOKUP(D13,'CONSOLIDADO PLAN DESARROLLO'!$EL$9:$ET$304,4,0))) -> 0 | H13: =IF(D13=0,"0-0",(VLOOKUP(D13,'CONSOLIDADO PLAN DESARROLLO'!$EL$9:$ET$304,5,0))) -> 5 | I13: =IF(D13=0,"0-0",(VLOOKUP(D13,'CONSOLIDADO PLAN DESARROLLO'!$EL$9:$ET$304,$R$3,0))) -> 0.1 | K13: 0.05 | L13: 3.55 | M13: Suscripción y legalización de convenios y/o contratos interadministrativos | N13: Número | O13: 3 | P13: 0 | Q13: 0 | R13: =VLOOKUP($D13,'[4]Tablero Logro Metas 2019'!$AK$7:$AS$302,3,0) -> 0 | S13: 0 | T13: =VLOOKUP($D13,'[4]Tablero Logro Metas 2019'!$AK$7:$AS$302,4,0) -> 0 | U13: 0 | V13: =VLOOKUP($D13,'[4]Tablero Logro Metas 2019'!$AK$7:$AS$302,5,0) -> 0 | W13: 0 | X13: =VLOOKUP($D13,'[4]Tablero Logro Metas 2019'!$AK$7:$AS$302,6,0) -> 0 | Y13: 0 | Z13: =VLOOKUP($D13,'[4]Tablero Logro Metas 2019'!$AK$7:$AS$302,7,0) -> 0 | AA13: 0 | AB13: =VLOOKUP($D13,'[4]Tablero Logro Metas 2019'!$AK$7:$AS$302,8,0) -> 0 | AC13: 0 | AD13: =VLOOKUP($D13,'[4]Tablero Logro Metas 2019'!$AK$7:$AS$302,9,0) -> 0 | AE13: 0 | AF13: 902272454 | AG13: 0 | AI13: 0 | AJ13: =+R13+T13+V13+X13+Z13+AB13+AD13+AF13+AH13 -> 902272454 | AK13: =AC13+AE13+AG13+S13+U13+W13+Y13+AA13+AI13 -> 0 | AL13: 0 | AM13: 0 | AN13: 0 | AO13: 0 | AP13: 0 | AQ13: 0 | AR13: =SUM(AL13:AQ13) -> 0 | AS13: 0 | AT13: 0 | AU13: 0 | AV13: 0 | AW13: 0 | AX13: 0 | AY13: 0 | AZ13: 0 | BA13: N/A | BB13: N/A | BC13: N/A
M14: Construcción de la estructura de descarga de acuerdo a la normatividad legal vigente de la PTAR Verganzo | N14: Número | O14: 1 | P14: 0 | Q14: 0 | S14: 0 | U14: 0 | W14: 0 | Y14: 0 | AA14: 0 | AC14: 0 | AE14: 0 | AG14: 0 | AI14: 0 | AK14: =AC14+AE14+AG14+S14+U14+W14+Y14+AA14+AI14 -> 0 | AL14: 0 | AM14: 0 | AN14: 0 | AO14: 0 | AP14: 0 | AQ14: 0 | AR14: =SUM(AL14:AQ14) -> 0 | AS14: 0 | AT14: 0 | AU14: 0 | AV14: 0 | AW14: 0 | AX14: 0 | AY14: 0 | AZ14: 0 | BA14: N/A | BB14: N/A | BC14: N/A
M15: Interventoria del estructura de descarga de acuerdo a la normatividad legal vigente de la PTAR Verganzo | N15: Número | O15: 1 | P15: 0 | Q15: 0 | S15: 0 | U15: 0 | W15: 0 | Y15: 0 | AA15: 0 | AC15: 0 | AE15: 0 | AG15: 0 | AI15: 0 | AK15: =AC15+AE15+AG15+S15+U15+W15+Y15+AA15+AI15 -> 0 | AL15: 0 | AM15: 0 | AN15: 0 | AO15: 0 | AP15: 0 | AQ15: 0 | AR15: =SUM(AL15:AQ15) -> 0 | AS15: 0 | AT15: 0 | AU15: 0 | AV15: 0 | AW15: 0 | AX15: 0 | AY15: 0 | AZ15: 0 | BA15: N/A | BB15: N/A | BC15: N/A
M16: Estudios y diseños de las estructuras de descarga de las PTAR | N16: Número | O16: 1 | P16: 0 | Q16: 0 | S16: 0 | U16: 0 | W16: 0 | Y16: 0 | AA16: 0 | AC16: 0 | AE16: 0 | AG16: 0 | AI16: 0 | AK16: =AC16+AE16+AG16+S16+U16+W16+Y16+AA16+AI16 -> 0 | AL16: 0 | AM16: 0 | AN16: 0 | AO16: 0 | AP16: 0 | AQ16: 0 | AR16: =SUM(AL16:AQ16) -> 0 | AS16: 0 | AT16: 0 | AU16: 0 | AV16: 0 | AW16: 0 | AX16: 0 | AY16: 0 | AZ16: 0 | BA16: N/A | BB16: N/A | BC16: N/A
M17: Interventoria Estudios y diseños de las estructuras de descarga de las PTAR | N17: Número | O17: 1 | P17: 0 | Q17: 0 | S17: 0 | U17: 0 | W17: 0 | Y17: 0 | AA17: 0 | AC17: 0 | AE17: 0 | AG17: 0 | AI17: 0 | AK17: =AC17+AE17+AG17+S17+U17+W17+Y17+AA17+AI17 -> 0 | AL17: 0 | AM17: 0 | AN17: 0 | AO17: 0 | AP17: 0 | AQ17: 0 | AR17: =SUM(AL17:AQ17) -> 0 | AS17: 0 | AT17: 0 | AU17: 0 | AV17: 0 | AW17: 0 | AX17: 0 | AY17: 0 | AZ17: 0 | BA17: N/A | BB17: N/A | BC17: N/A
M18: Obtener el permiso de vertimiento, ocupacion de cause y tratamiento y disposicion de lodos de las PTAR´s | N18: Número | O18: 5 | P18: 1.5 | Q18: 1 | S18: 0 | U18: 0 | W18: 0 | Y18: 0 | AA18: 0 | AC18: 0 | AE18: 0 | AG18: 3900000 | AI18: 0 | AK18: =AC18+AE18+AG18+S18+U18+W18+Y18+AA18+AI18 -> 3900000 | AL18: 2444 | AM18: 3872 | AN18: 4033 | AO18: 7785 | AP18: 14556 | AQ18: 2316 | AR18: =SUM(AL18:AQ18) -> 35006 | AS18: 17977 | AT18: 17029 | AU18: =SUM(AS18:AT18) -> 35006 | AV18: 0 | AW18: 0 | AX18: 786 | AY18: 0 | AZ18: 0 | BA18: Honorarios Directora PTAP y PTAR | BB18: Empresa de Servicios Públicos de Tocancipá S.A. ESP | BC18: Empresa de Servicios Públicos de Tocancipá S.A. ESP
M19: Avaluo, Compra y legalizacion de predios | N19: Número | O19: 2 | P19: 0 | Q19: 0 | S19: 0 | U19: 0 | W19: 0 | Y19: 0 | AA19: 0 | AC19: 0 | AE19: 0 | AG19: 0 | AI19: 0 | AK19: =AC19+AE19+AG19+S19+U19+W19+Y19+AA19+AI19 -> 0 | AL19: 0 | AM19: 0 | AN19: 0 | AO19: 0 | AP19: 0 | AQ19: 0 | AR19: =SUM(AL19:AQ19) -> 0 | AS19: 0 | AT19: 0 | AU19: 0 | AV19: 0 | AW19: 0 | AX19: 0 | AY19: 0 | AZ19: 0 | BA19: N/A | BB19: N/A | BC19: N/A
M20: Ampliación y optimización de los sistemas de tratamiento de aguas residuales con normatividad vigente | N20: Número | O20: 3 | P20: 0.5 | Q20: 0.5 | S20: 0 | U20: 0 | W20: 0 | Y20: 0 | AA20: 0 | AC20: 0 | AE20: 0 | AG20: 46800000 | AI20: 0 | AK20: =AC20+AE20+AG20+S20+U20+W20+Y20+AA20+AI20 -> 46800000 | AL20: 2444 | AM20: 3872 | AN20: 4033 | AO20: 7785 | AP20: 14556 | AQ20: 2316 | AR20: =SUM(AL20:AQ20) -> 35006 | AS20: 17977 | AT20: 17029 | AU20: =SUM(AS20:AT20) -> 35006 | AV20: 0 | AW20: 0 | AX20: 786 | AY20: 0 | AZ20: 0 | BA20: Honorarios profesional Universitario PTAR | BB20: Empresa de Servicios Públicos de Tocancipá S.A. ESP | BC20: Empresa de Servicios Públicos de Tocancipá S.A. ESP
M21: Interventoria de la ampliación y optimización de los sistemas de tratamiento de aguas residuales con normatividad vigente | N21: Número | O21: 3 | P21: 0.5 | Q21: 0.5 | S21: 0 | U21: 0 | W21: 0 | Y21: 0 | AA21: 0 | AC21: 0 | AE21: 0 | AG21: 24369230 | AI21: 0 | AK21: =AC21+AE21+AG21+S21+U21+W21+Y21+AA21+AI21 -> 24369230 | AL21: 2444 | AM21: 3872 | AN21: 4033 | AO21: 7785 | AP21: 14556 | AQ21: 2316 | AR21: =SUM(AL21:AQ21) -> 35006 | AS21: 17977 | AT21: 17029 | AU21: =SUM(AS21:AT21) -> 35006 | AV21: 0 | AW21: 0 | AX21: 786 | AY21: 0 | AZ21: 0 | BA21: Solicitud de pago Acta No 05 Contrato 076 de 2017. | BB21: Alcldia Municipal de Tocancipá | BC21: Empresa de Servicios Públicos de Tocncipá S.A ESP.
M22: Diagnostico, estudios y diseños para la ampliación de los sistemas de tratamiento de aguas residuales según normatividad vigente. | N22: Número | O22: 3 | P22: 0 | Q22: 0 | S22: 0 | U22: 0 | W22: 0 | Y22: 0 | AA22: 0 | AC22: 0 | AE22: 0 | AG22: 0 | AI22: 0 | AK22: =AC22+AE22+AG22+S22+U22+W22+Y22+AA22+AI22 -> 0 | AL22: 0 | AM22: 0 | AN22: 0 | AO22: 0 | AP22: 0 | AQ22: 0 | AR22: =SUM(AL22:AQ22) -> 0 | AS22: 0 | AT22: 0 | AU22: 0 | AV22: 0 | AW22: 0 | AX22: 0 | AY22: 0 | AZ22: 0 | BA22: N/A | BB22: N/A | BC22: N/A
M23: Interventoria para el diagnostico, estudios y diseños para la ampliación de los sistemas de tratamiento de aguas residuales según normatividad vigente. | N23: Número | O23: 3 | P23: 0 | Q23: 0 | S23: 0 | U23: 0 | W23: 0 | Y23: 0 | AA23: 0 | AC23: 0 | AE23: 0 | AG23: 0 | AI23: 0 | AK23: =AC23+AE23+AG23+S23+U23+W23+Y23+AA23+AI23 -> 0 | AL23: 0 | AM23: 0 | AN23: 0 | AO23: 0 | AP23: 0 | AQ23: 0 | AR23: =SUM(AL23:AQ23) -> 0 | AS23: 0 | AT23: 0 | AU23: 0 | AV23: 0 | AW23: 0 | AX23: 0 | AY23: 0 | AZ23: 0 | BA23: N/A | BB23: N/A | BC23: N/A
M24: Actualización del estudio tarifario del servicios de alcantarillado de acuerdo a la normatividad vigente | N24: Número | O24: 1 | P24: 0 | Q24: 0 | S24: 0 | U24: 0 | W24: 0 | Y24: 0 | AA24: 0 | AC24: 0 | AE24: 0 | AG24: 0 | AI24: 0 | AK24: =AC24+AE24+AG24+S24+U24+W24+Y24+AA24+AI24 -> 0 | AL24: 0 | AM24: 0 | AN24: 0 | AO24: 0 | AP24: 0 | AQ24: 0 | AR24: =SUM(AL24:AQ24) -> 0 | AS24: 0 | AT24: 0 | AU24: 0 | AV24: 0 | AW24: 0 | AX24: 0 | AY24: 0 | AZ24: 0 | BA24: N/A | BB24: N/A | BC24: N/A
M25: Conformación de barreras vivas con especies nativas para la mitigazión de olores en las PTAR´s | N25: Número | O25: 4 | P25: 0 | Q25: 0 | S25: 0 | U25: 0 | W25: 0 | Y25: 0 | AA25: 0 | AC25: 0 | AE25: 0 | AG25: 0 | AI25: 0 | AK25: =AC25+AE25+AG25+S25+U25+W25+Y25+AA25+AI25 -> 0 | AL25: 0 | AM25: 0 | AN25: 0 | AO25: 0 | AP25: 0 | AQ25: 0 | AR25: =SUM(AL25:AQ25) -> 0 | AS25: 0 | AT25: 0 | AU25: 0 | AV25: 0 | AW25: 0 | AX25: 0 | AY25: 0 | AZ25: 0 | BA25: N/A | BB25: N/A | BC25: N/A
M26: Operación de las Plantas de Tratamiento de Aguas Residuales | N26: Número | O26: 4 | P26: 1 | Q26: 1 | S26: 0 | U26: 0 | W26: 0 | Y26: 0 | AA26: 0 | AC26: 0 | AE26: 0 | AG26: 807836786 | AI26: 0 | AK26: =AC26+AE26+AG26+S26+U26+W26+Y26+AA26+AI26 -> 807836786 | AL26: 2444 | AM26: 3872 | AN26: 4033 | AO26: 7785 | AP26: 14556 | AQ26: 2316 | AR26: =SUM(AL26:AQ26) -> 35006 | AS26: 17977 | AT26: 17029 | AU26: =SUM(AS26:AT26) -> 35006 | AV26: 0 | AW26: 0 | AX26: 786 | AY26: 0 | AZ26: 0 | BA26: Pagos de Energia/Pagos a contratistas, Pagos a personal de planta y pagos a personal de vigilancia. | BB26: Empresa de Servicios Públicos de Tocancipá S.A. ESP | BC26: Empresa de Servicios Públicos de Tocancipá S.A. ESP
M27: Análisis y caracterizacion de los vertimientos por laboratorios acreditados | N27: Número | O27: 4 | P27: 1 | Q27: 1 | S27: 0 | U27: 0 | W27: 0 | Y27: 0 | AA27: 0 | AC27: 0 | AE27: 0 | AG27: 19366438 | AI27: 0 | AK27: =AC27+AE27+AG27+S27+U27+W27+Y27+AA27+AI27 -> 19366438 | AL27: 2444 | AM27: 3872 | AN27: 4033 | AO27: 7785 | AP27: 14556 | AQ27: 2316 | AR27: =SUM(AL27:AQ27) -> 35006 | AS27: 17977 | AT27: 17029 | AU27: =SUM(AS27:AT27) -> 35006 | AV27: 0 | AW27: 0 | AX27: 786 | AY27: 0 | AZ27: 0 | BA27: Contrato 081 de 2019 | BB27: Empresa de Servicios Públicos de Tocancipá S.A. ESP | BC27: Empresa de Servicios Públicos de Tocancipá S.A. ESP
A30: 2 | B30: PROYECTO | C30: CODIGO REGISTRO PROYECTO | D30: CÓD. CONS. META PRODUCTO | E30: DESCRIPCIÓN META DE PRODUCTO | F30: INDICADOR | G30: LINEA BASE | H30: META CUATRIENIO | I30: Valor Esperado | J30: =+$N$3 -> 2019 | K30: META ACUMULADA 1er SEMESTRE | L30: META ACUMULADA 1-Ener_31-Dic. | M30: ACTIVIDADES | N30: UNIDAD DE MEDIDA | O30: CANTIDADES CUATRIENIO | P30: Ejecutado 1-Ener_30-Jun. | Q30: Ejecutado 1-Ener_31-Dic. | R30: =SUM(R31:R37) -> 0 | S30: =SUM(S31:S37) -> 0 | T30: =SUM(T31:T37) -> 0 | U30: =SUM(U31:U37) -> 0 | V30: =SUM(V31:V37) -> 0 | W30: =SUM(W31:W37) -> 0 | X30: =SUM(X31:X37) -> 0 | Y30: =SUM(Y31:Y37) -> 0 | ... AK30: =SUM(AK31:AK37) -> 0 | BA30: VERIFICACIÒN | BB30: COOPERANTE - RECURSOS GESTIONADOS | BC30: RESPONSABLE DIRECTO
B31: =VLOOKUP($D$9,'PROYECTOS REGISTRADOS'!$A$2:$D$82,4,0) -> Mejoramiento de la Cobertura de Alcantarillado en el Área Urbana y Área Rural en el Municipio de Tocancipá, Cundinamarca, Centro Oriente | C31: =VLOOKUP($D$9,'PROYECTOS REGISTRADOS'!$A$2:$D$82,3,0) -> 2016-25817-0033 | D31: E3.P_L.MR2-MP02-1 | E31: =IF(D31=0,"0-0",(VLOOKUP(D31,'CONSOLIDADO PLAN DESARROLLO'!$EL$9:$ET$304,2,0))) -> Diseñar y construir Plantas de Tratamiento de Aguas Residuales | F31: =IF(D31=0,"0-0",(VLOOKUP(D31,'CONSOLIDADO PLAN DESARROLLO'!$EL$9:$ET$304,3,0))) -> No. de Plantas de Tratamiento de Aguas Residuales diseñadas | G31: =IF(D31=0,"0-0",(VLOOKUP(D31,'CONSOLIDADO PLAN DESARROLLO'!$EL$9:$ET$304,4,0))) -> 0 | H31: =IF(D31=0,"0-0",(VLOOKUP(D31,'CONSOLIDADO PLAN DESARROLLO'!$EL$9:$ET$304,5,0))) -> 1 | I31: =IF(D31=0,"0-0",(VLOOKUP(D31,'CONSOLIDADO PLAN DESARROLLO'!$EL$9:$ET$304,$R$3,0))) -> 0 | K31: 0 | L31: 1 | M31: Suscripción y legalización de convenios y/o contratos interadministrativos | N31: Número | O31: 1 | P31: 0 | Q31: 0 | R31: =VLOOKUP($D31,'[4]Tablero Logro Metas 2019'!$AK$7:$AS$302,3,0) -> 0 | S31: 0 | T31: =VLOOKUP($D31,'[4]Tablero Logro Metas 2019'!$AK$7:$AS$302,4,0) -> 0 | U31: 0 | V31: =VLOOKUP($D31,'[4]Tablero Logro Metas 2019'!$AK$7:$AS$302,5,0) -> 0 | W31: 0 | X31: =VLOOKUP($D31,'[4]Tablero Logro Metas 2019'!$AK$7:$AS$302,6,0) -> 0 | Y31: 0 | Z31: =VLOOKUP($D31,'[4]Tablero Logro Metas 2019'!$AK$7:$AS$302,7,0) -> 0 | AA31: 0 | AB31: =VLOOKUP($D31,'[4]Tablero Logro Metas 2019'!$AK$7:$AS$302,8,0) -> 0 | AC31: 0 | AD31: =VLOOKUP($D31,'[4]Tablero Logro Metas 2019'!$AK$7:$AS$302,9,0) -> 0 | AE31: 0 | AG31: 0 | AI31: 0 | AJ31: =+R31+T31+V31+X31+Z31+AB31+AD31+AF31+AH31 -> 0 | AK31: =AC31+AE31+AG31+S31+U31+W31+Y31+AA31+AI31 -> 0 | AL31: 0 | AM31: 0 | AN31: 0 | AO31: 0 | AP31: 0 | AQ31: 0 | AR31: =SUM(AL31:AQ31) -> 0 | AS31: 0 | AT31: 0 | AU31: 0 | AV31: 0 | AW31: 0 | AX31: 0 | AY31: 0 | AZ31: 0 | BA31: N/A | BB31: N/A | BC31: N/A
M32: Estudios y diseños para la cosntrucción de una PTAR | N32: Número | O32: 1 | P32: 0 | Q32: 0 | S32: 0 | U32: 0 | W32: 0 | Y32: 0 | AA32: 0 | AC32: 0 | AE32: 0 | AG32: 0 | AI32: 0 | AK32: =AC32+AE32+AG32+S32+U32+W32+Y32+AA32+AI32 -> 0 | AL32: 0 | AM32: 0 | AN32: 0 | AO32: 0 | AP32: 0 | AQ32: 0 | AR32: =SUM(AL32:AQ32) -> 0 | AS32: 0 | AT32: 0 | AU32: 0 | AV32: 0 | AW32: 0 | AX32: 0 | AY32: 0 | AZ32: 0 | BA32: N/A | BB32: N/A | BC32: N/A
M33: Interventoria Estudios y diseños para la construcción de una PTAR | N33: Número | O33: 1 | P33: 0 | Q33: 0 | S33: 0 | U33: 0 | W33: 0 | Y33: 0 | AA33: 0 | AC33: 0 | AE33: 0 | AG33: 0 | AI33: 0 | AK33: =AC33+AE33+AG33+S33+U33+W33+Y33+AA33+AI33 -> 0 | AL33: 0 | AM33: 0 | AN33: 0 | AO33: 0 | AP33: 0 | AQ33: 0 | AR33: =SUM(AL33:AQ33) -> 0 | AS33: 0 | AT33: 0 | AU33: 0 | AV33: 0 | AW33: 0 | AX33: 0 | AY33: 0 | AZ33: 0 | BA33: N/A | BB33: N/A | BC33: N/A
AK34: =AC34+AE34+AG34+S34+U34+W34+Y34+AA34+AI34 -> 0 | AR34: =SUM(AL34:AQ34) -> 0 | AU34: =SUM(AS34:AT34) -> 0
AK35: =AC35+AE35+AG35+S35+U35+W35+Y35+AA35+AI35 -> 0 | AR35: =SUM(AL35:AQ35) -> 0 | AU35: =SUM(AS35:AT35) -> 0
AK36: =AC36+AE36+AG36+S36+U36+W36+Y36+AA36+AI36 -> 0 | AR36: =SUM(AL36:AQ36) -> 0 | AU36: =SUM(AS36:AT36) -> 0
A39: 3 | B39: PROYECTO | C39: CODIGO REGISTRO PROYECTO | D39: CÓD. CONS. META PRODUCTO | E39: DESCRIPCIÓN META DE PRODUCTO | F39: INDICADOR | G39: LINEA BASE | H39: META CUATRIENIO | I39: Valor Esperado | J39: =+$N$3 -> 2019 | K39: META ACUMULADA 1er SEMESTRE | L39: META ACUMULADA 1-Ener_31-Dic. | M39: ACTIVIDADES | N39: UNIDAD DE MEDIDA | O39: CANTIDADES CUATRIENIO | P39: Ejecutado 1-Ener_30-Jun. | Q39: Ejecutado 1-Ener_31-Dic. | R39: =SUM(R40:R50) -> 0 | S39: =SUM(S40:S50) -> 0 | T39: =SUM(T40:T50) -> 440386423 | U39: =SUM(U40:U50) -> 0 | V39: =SUM(V40:V50) -> 0 | W39: =SUM(W40:W50) -> 0 | X39: =SUM(X40:X50) -> 0 | Y39: =SUM(Y40:Y50) -> 0 | ... AK39: =SUM(AK40:AK50) -> 2087379147 | BA39: VERIFICACIÒN | BB39: COOPERANTE - RECURSOS GESTIONADOS | BC39: RESPONSABLE DIRECTO
B40: =VLOOKUP($D$9,'PROYECTOS REGISTRADOS'!$A$2:$D$82,4,0) -> Mejoramiento de la Cobertura de Alcantarillado en el Área Urbana y Área Rural en el Municipio de Tocancipá, Cundinamarca, Centro Oriente | C40: =VLOOKUP($D$9,'PROYECTOS REGISTRADOS'!$A$2:$D$82,3,0) -> 2016-25817-0033 | D40: E3.P_L.MR2-MP02-2 | E40: =IF(D40=0,"0-0",(VLOOKUP(D40,'CONSOLIDADO PLAN DESARROLLO'!$EL$9:$ET$304,2,0))) -> Diseñar y construir Plantas de Tratamiento de Aguas Residuales | F40: =IF(D40=0,"0-0",(VLOOKUP(D40,'CONSOLIDADO PLAN DESARROLLO'!$EL$9:$ET$304,3,0))) -> No. de Plantas de Tratamiento de Aguas Residuales construidas | G40: =IF(D40=0,"0-0",(VLOOKUP(D40,'CONSOLIDADO PLAN DESARROLLO'!$EL$9:$ET$304,4,0))) -> 5 | H40: =IF(D40=0,"0-0",(VLOOKUP(D40,'CONSOLIDADO PLAN DESARROLLO'!$EL$9:$ET$304,5,0))) -> 1 | I40: =IF(D40=0,"0-0",(VLOOKUP(D40,'CONSOLIDADO PLAN DESARROLLO'!$EL$9:$ET$304,$R$3,0))) -> 0 | K40: 0.65 | L40: 1 | M40: Suscripción y legalización de convenios y/o contratos interadministrativos | N40: Número | O40: 1 | P40: 0 | Q40: 0 | R40: =VLOOKUP($D40,'[4]Tablero Logro Metas 2019'!$AK$7:$AS$302,3,0) -> 0 | S40: 0 | T40: =VLOOKUP($D40,'[4]Tablero Logro Metas 2019'!$AK$7:$AS$302,4,0) -> 440386423 | U40: 0 | V40: =VLOOKUP($D40,'[4]Tablero Logro Metas 2019'!$AK$7:$AS$302,5,0) -> 0 | W40: 0 | X40: =VLOOKUP($D40,'[4]Tablero Logro Metas 2019'!$AK$7:$AS$302,6,0) -> 0 | Y40: 0 | Z40: =VLOOKUP($D40,'[4]Tablero Logro Metas 2019'!$AK$7:$AS$302,7,0) -> 0 | AA40: 0 | AB40: =VLOOKUP($D40,'[4]Tablero Logro Metas 2019'!$AK$7:$AS$302,8,0) -> 741382230 | AC40: 0 | AD40: =VLOOKUP($D40,'[4]Tablero Logro Metas 2019'!$AK$7:$AS$302,9,0) -> 0 | AE40: 0 | AG40: 0 | AH40: 1391925808 | AI40: 0 | AJ40: =+R40+T40+V40+X40+Z40+AB40+AD40+AF40+AH40 -> 2573694461 | AK40: =AC40+AE40+AG40+S40+U40+W40+Y40+AA40+AI40 -> 0 | AL40: 0 | AM40: 0 | AN40: 0 | AO40: 0 | AP40: 0 | AQ40: 0 | AR40: =SUM(AL40:AQ40) -> 0 | AS40: 0 | AT40: 0 | AU40: 0 | AV40: 0 | AW40: 0 | AX40: 0 | AY40: 0 | AZ40: 0 | BA40: N/A | BB40: N/A | BC40: N/A
M41: Avaluo, Compra y legalizacion de predios | N41: Número | O41: 1 | P41: 0 | Q41: 0 | S41: 0 | U41: 0 | W41: 0 | Y41: 0 | AA41: 0 | AC41: 0 | AE41: 0 | AG41: 0 | AI41: 0 | AK41: =AC41+AE41+AG41+S41+U41+W41+Y41+AA41+AI41 -> 0 | AL41: 0 | AM41: 0 | AN41: 0 | AO41: 0 | AP41: 0 | AQ41: 0 | AR41: =SUM(AL41:AQ41) -> 0 | AS41: 0 | AT41: 0 | AU41: 0 | AV41: 0 | AW41: 0 | AX41: 0 | AY41: 0 | AZ41: 0 | BA41: N/A | BB41: N/A | BC41: N/A
M42: Construcción de una Planta de Tratamiento de Agua Residual | N42: Número | O42: 1 | P42: 0.25 | Q42: 0.25 | S42: 0 | U42: 0 | W42: 0 | Y42: 0 | AA42: 0 | AC42: 467502214 | AE42: 0 | AG42: 0 | AI42: 1391925808 | AK42: =AC42+AE42+AG42+S42+U42+W42+Y42+AA42+AI42 -> 1859428022 | AL42: 163 | AM42: 259 | AN42: 269 | AO42: 521 | AP42: 974 | AQ42: 155 | AR42: =SUM(AL42:AQ42) -> 2341 | AS42: 1205 | AT42: 1141 | AU42: =SUM(AS42:AT42) -> 2346 | AV42: 0 | AW42: 0 | AX42: 53 | AY42: 0 | AZ42: 0 | BA42: Acta No 1 del contrato de obra 059 de 2019 | BB42: Alcaldia Municipal de Tocancipa | BC42: Empresa de Servicios Públicos de Tocancipá S.A. ESP
M43: Interventoria para la construcción de una Planta de Tratamiento de Agua Residual | N43: Número | O43: 1 | P43: 0.25 | Q43: 0.25 | S43: 0 | U43: 0 | W43: 0 | Y43: 0 | AA43: 0 | AC43: 227951125 | AE43: 0 | AG43: 0 | AI43: 0 | AK43: =AC43+AE43+AG43+S43+U43+W43+Y43+AA43+AI43 -> 227951125 | AL43: 163 | AM43: 259 | AN43: 269 | AO43: 521 | AP43: 974 | AQ43: 155 | AR43: =SUM(AL43:AQ43) -> 2341 | AS43: 1205 | AT43: 1141 | AU43: =SUM(AS43:AT43) -> 2346 | AV43: 0 | AW43: 0 | AX43: 53 | AY43: 0 | AZ43: 0 | BA43: Acta No 1 del contrato de Interventoria 069 de 2019 | BB43: Alcaldia Municipal de Tocancipa | BC43: Empresa de Servicios Públicos de Tocancipá S.A. ESP
M44: Estabilizacion y puesta en marcha de la PTAR | N44: Número | O44: 1 | P44: 0 | Q44: 0 | S44: 0 | U44: 0 | W44: 0 | Y44: 0 | AA44: 0 | AC44: 0 | AE44: 0 | AG44: 0 | AI44: 0 | AK44: =AC44+AE44+AG44+S44+U44+W44+Y44+AA44+AI44 -> 0 | AL44: 0 | AM44: 0 | AN44: 0 | AO44: 0 | AP44: 0 | AQ44: 0 | AR44: =SUM(AL44:AQ44) -> 0 | AS44: 0 | AT44: 0 | AU44: 0 | AV44: 0 | AW44: 0 | AX44: 0 | AY44: 0 | AZ44: 0 | BA44: N/A | BB44: N/A | BC44: N/A
M45: Interventoria para puesta en marcha de la PTAR | N45: Número | O45: 1 | P45: 0 | Q45: 0 | S45: 0 | U45: 0 | W45: 0 | Y45: 0 | AA45: 0 | AC45: 0 | AE45: 0 | AG45: 0 | AI45: 0 | AK45: =AC45+AE45+AG45+S45+U45+W45+Y45+AA45+AI45 -> 0 | AL45: 0 | AM45: 0 | AN45: 0 | AO45: 0 | AP45: 0 | AQ45: 0 | AR45: =SUM(AL45:AQ45) -> 0 | AS45: 0 | AT45: 0 | AU45: 0 | AV45: 0 | AW45: 0 | AX45: 0 | AY45: 0 | AZ45: 0 | BA45: N/A | BB45: N/A | BC45: N/A
M46: Obtener el permiso de vertimiento, ocupación de cause y tratamiento y disposición de lodos de las PTAR´s | N46: Número | O46: 1 | P46: 0.15 | Q46: 0.15 | S46: 0 | U46: 0 | W46: 0 | Y46: 0 | AA46: 0 | AC46: 0 | AE46: 0 | AI46: 0 | AK46: =AC46+AE46+AG46+S46+U46+W46+Y46+AA46+AI46 -> 0 | AL46: 163 | AM46: 259 | AN46: 269 | AO46: 521 | AP46: 974 | AQ46: 155 | AR46: =SUM(AL46:AQ46) -> 2341 | AS46: 1205 | AT46: 1141 | AU46: =SUM(AS46:AT46) -> 2346 | AV46: 0 | AW46: 0 | AX46: 53 | AY46: 0 | AZ46: 0 | BA46: Contrato 059 de 2019 | BB46: Alcaldia Minucipal de Tocancipá | BC46: Empresa de Servicios Públicos de Tocancipá
M47: Operación de las Plantas de Tratamiento de Aguas Residuales | N47: Número | O47: 2 | P47: 0 | Q47: 0 | S47: 0 | U47: 0 | W47: 0 | Y47: 0 | AA47: 0 | AC47: 0 | AE47: 0 | AG47: 0 | AI47: 0 | AK47: =AC47+AE47+AG47+S47+U47+W47+Y47+AA47+AI47 -> 0 | AL47: 0 | AM47: 0 | AN47: 0 | AO47: 0 | AP47: 0 | AQ47: 0 | AR47: =SUM(AL47:AQ47) -> 0 | AS47: 0 | AT47: 0 | AU47: 0 | AV47: 0 | AW47: 0 | AX47: 0 | AY47: 0 | AZ47: 0 | BA47: N/A | BB47: N/A | BC47: N/A
...

Sheet CONSOLIDADO PLAN DESARROLLO
B1: FORMATO BASICO PLAN DE ACCION POR DEPENDENCIA (Segundo semestre 2016)
A2: MUNICIPIO DE TOCANCIPÁ
A3: PLAN DE DESARROLLO MUNICIPAL "TOCANCIPÁ ALTA COMPETITIVIDAD CON DESARROLLO Y PROYECCIÓN"
A4: OBJETIVO GENERAL: El Plan de Desarrollo tiene como objetivo principal brindar a la Administración Municipal las herramientas para generar el desarrollo social, económico y la preservación ambiental que el municipio necesita.
A5: VISIÓN: Para el año 2026, Tocancipá será reconocido a nivel Nacional como un Municipio líder en garantía de derechos y servicios, con seguridad, altos niveles de avane e innovación para el desarrollo social, productivo y proyección de su economía en el crecimiento integral y eficiente de su comunidad, con capital humano capacitado y altamente competitivo, desde una perspectiva de inclusión y una política de responsabilidad social y ambiental a través de infraestruturas sostenibles.
A6: COD. EJE | B6: EJES | C6: OBJETIVO EJE | D6: Sectores Guía DNP | E6: COD. PROG. | F6: COD. CONS. PROG. | G6: PROGRAMAS DE INVERSIÓN | H6: OBJETIVOS PROGRÁMATICOS | I6: PROYECTOS (CÓD. SSEPI Y NOMBRE EBI) | J6: CÓD. MR | K6: CÓD. CONS. META RESULTADO | L6: DESCRIPCIÓN DE LAS METAS DE RESULTADO | M6: NOMBRE DEL INDICADOR DE RESULTADO | N6: Línea base | O6: Meta de Resultado Cuatrenio 2019 | P6: CÓD. MP | Q6: CÓD. CONS. META PRODUCTO | R6: Metas de Producto | S6: Indicador | T6: Lïnea base | U6: Meta de Producto Cuatrenio | V6: Orientación de la Meta de Producto | W6: Valor Esperado 2016 | X6: Valor Esperado 2017 | Y6: Valor Esperado 2018 | Z6: Valor Esperado 2019 | AA6: CUATRENIO | BC6: TOTAL 2016-2019 | BD6: Secretaria Responsable | BX6: 1 | BY6: 2 | BZ6: 3 | CA6: 4 | CB6: 5 | CC6: 6 | CD6: 7 | CE6: 8 | CF6: 9 | CG6: 10 | CH6: 11 | CI6: 12 | CJ6: 13 | CK6: 14 | CL6: 15 | CM6: 16 | CN6: 17 | CO6: 18 | CP6: 19 | CQ6: 20 | CR6: 21 | CS6: 22 | CT6: 23 | CU6: 24 | CV6: 25 | CW6: 26 | CX6: 27 | CY6: 28 | CZ6: 29 | DA6: 30 | DB6: 31
AA7: 2016 | AH7: 2017 | AO7: 2018 | AV7: 2019 | BF7: 1 | BG7: 2 | BI7: 1 | BJ7: 2 | BK7: 3 | BL7: 4 | BN7: 1 | BO7: 2 | BP7: 3 | BQ7: 4 | BS7: 1 | BT7: 2 | BU7: 3 | BV7: 4 | BZ7: 2016 | CG7: 2017 | CN7: 2018 | CU7: 2019 | DB7: TOTAL | DC7: 1 | DD7: 2 | DE7: 3 | DF7: 4 | DH7: 1 | DI7: 2 | DJ7: 3 | DK7: 4 | DL7: 5 | DN7: 1 | DO7: 2 | DQ7: 1 | DR7: 2 | DT7: 1 | DU7: 2 | DV7: 3 | DW7: 4 | DX7: 5 | DY7: 6 | DZ7: 7 | EB7: 1 | EC7: 2 | ED7: 3 | EE7: 4 | EF7: 5 | EG7: 6 | EH7: 7 | EI7: 8 | EJ7: 9 | EL7: 1 | EM7: 2 | EN7: 3 | EO7: 4 | EP7: 5 | EQ7: 6 | ER7: 7 | ES7: 8 | ET7: 9
AA8: RP | AB8: SGP | AC8: Cofinanciación | AD8: SGR | AE8: Crédito | AF8: Otros | AG8: Total 2016 | AH8: RP | AI8: SGP | AJ8: Cofinanciación | AK8: SGR | AL8: Crédito | AM8: Otros | AN8: Total 2017 | AO8: RP | AP8: SGP | AQ8: Cofinanciación | AR8: SGR | AS8: Crédito | AT8: Otros | AU8: Total 2018 | AV8: RP | AW8: SGP | AX8: Cofinanciación | AY8: SGR | AZ8: Crédito | BA8: Otros | BB8: Total 2019 | BF8: COD. EJE | BG8: EJES | BI8: COD. EJE | BJ8: EJES | BK8: COD. CONS. PROG. | BL8: PROGRAMAS DE INVERSIÓN | BN8: COD. CONS. PROG. | BO8: PROGRAMAS DE INVERSIÓN | BP8: CÓD. CONS. META RESULTADO | BQ8: DESCRIPCIÓN DE LAS METAS DE RESULTADO | BS8: CÓD. CONS. META RESULTADO | BT8: DESCRIPCIÓN DE LAS METAS DE RESULTADO | BU8: COD. CONCAT | BV8: Metas de Producto | BX8: COD. CONS. PROG. | BY8: PROGRAMAS DE INVERSIÓN | BZ8: RP | CA8: SGP | CB8: Cofinanciación | CC8: SGR | CD8: Crédito | CE8: Otros | CF8: Total 2016 | CG8: RP | CH8: SGP | CI8: Cofinanciación | CJ8: SGR | CK8: Crédito | CL8: Otros | CM8: Total 2017 | CN8: RP | CO8: SGP | CP8: Cofinanciación | CQ8: SGR | CR8: Crédito | CS8: Otros | CT8: Total 2018 | CU8: RP | CV8: SGP | CW8: Cofinanciación | CX8: SGR | CY8: Crédito | CZ8: Otros | DA8: Total 2019 | DC8: META DE RESULTADO: | DD8: EJES: | DE8: NOMBRE DEL PROGRAMA: | DF8: OBJETIVO DEL PROGRAMA: | DH8: META DE PRODUCTO: | DI8: EJES: | DJ8: NOMBRE DEL PROGRAMA: | DK8: OBJETIVO DEL PROGRAMA: | DL8: METAS DE RESULTADO: | DN8: CÓD. CONS. META RESULTADO | DO8: DESCRIPCIÓN DE LAS METAS DE RESULTADO | DQ8: COD. CONCAT | DR8: Metas de Producto | DT8: CÓD. CONS. META RESULTADO | DU8: META DE RESULTADO: | DV8: EJES: | DW8: OBJETIVO EJE: | DX8: SECTOR | DY8: NOMBRE DEL PROGRAMA: | DZ8: OBJETIVO DEL PROGRAMA: | EB8: CÓD. CONS. META RESULTADO | EC8: DESCRIPCIÓN DE LAS METAS DE RESULTADO | ED8: NOMBRE DEL INDICADOR DE RESULTADO | EE8: Línea base | EF8: Meta de Resultado Cuatrenio 2019 | EG8: Valor Esperado 2016 | EH8: Valor Esperado 2017 | EI8: Valor Esperado 2018 | EJ8: Valor Esperado 2019 | EL8: CÓD. CONS. META PRODUCTO | EM8: Metas de Producto | EN8: Indicador | EO8: Lïnea base | EP8: Meta de Producto Cuatrenio | EQ8: Valor Esperado INICIAL 2016 | ER8: Valor esperado VIGENTE 2017 | ES8: Valor esperado VIGENTE 2018 | ET8: Valor esperado VIGENTE 2019
A9: E1. | B9: SOCIAL: Desarrollo Social con alta competitividad y proyección | C9: Mejorar las condiciones de calidad de vida de toda la población del territorio y especialmente en los sectores más vulnerables, garantizando el acceso a sus derechos sociales, individuales y colectrivos en Educación, Salud, Cultura, Recreación y Deporte | D9: Educación | E9: P_A | F9: =+CONCATENATE(A9,E9) -> E1.P_A | G9: TOCANCIPA BIEN EDUCADA | H9: Garantizar calidad, cobertura, eficiencia y pertinencia en la oferta Educativa Municipal | I9: 2016-25817-0047 Mantenimiento de la cobertura en educación, para mejorar el resultado de pruebas SABER, Tocancipá, Cundinamarca, Centro Oriente | J9: MR1 | K9: =+CONCATENATE(F9,".",J9) -> E1.P_A.MR1 | L9: Mejorar los indicadores de resultado de las pruebas SABER en las Instituciones Educativas del Municipio | M9: Índice de resultado pruebas SABER | N9: 0 | O9: 0.1 | P9: MP01-1 | Q9: =+CONCATENATE(K9,"-",P9) -> E1.P_A.MR1-MP01-1 | R9: Constituir el mecanismo de gestión y financiación contemplados en el PDM para la creación de un complejo Universitario en el Municipio cofinanciado con el departamento, la nación y universidades públicas y privadas nacionales y/o internacionales | S9: Porcentaje de construcción del Complejo Universitario Municipal | T9: 0 | U9: 0.3 | V9: Incremento | W9: 0 | X9: 0.1 | Y9: 0.1 | Z9: 0.1 | AA9: =300000001+1900000000+5000000+100000000+1870000000+60000000+50000000+22000000+300000000+200000000+130000000+430000000+1328477+100000000-1684614000-28800153 -> 3754914325 | AB9: =399001658+30000+588865084+107188933 -> 1095085675 | AC9: 200000000 | AG9: =SUM(AA9:AF9) -> 5050000000 | AH9: =+AA9 -> 3754914325 | AI9: =+AB9 -> 1095085675 | AJ9: =+AC9 -> 200000000 | AK9: =+AD9 -> 0 | AL9: =+AE9 -> 0 | AM9: =+AF9 -> 0 | AN9: =+AG9 -> 5050000000 | AO9: =+AH9 -> 3754914325 | ... AT9: =+AM9 -> 0 | AU9: =SUM(AO9:AT9) -> 5050000000 | AV9: =+AO9 -> 3754914325 | AW9: =+AP9 -> 1095085675 | AX9: =+AQ9 -> 200000000 | AY9: =+AR9 -> 0 | AZ9: =+AS9 -> 0 | BA9: =+AT9 -> 0 | BB9: =SUM(AV9:BA9) -> 5050000000 | BC9: =+BB9+AU9+AN9+AG9 -> 20200000000 | BD9: Secretaria de Educación | BF9: E1. | BG9: SOCIAL: Desarrollo Social con alta competitividad y proyección | BI9: E1. | BJ9: SOCIAL: Desarrollo Social con alta competitividad y proyección | BK9: E1.P_A | BL9: TOCANCIPA BIEN EDUCADA | BN9: E1.P_A | BO9: TOCANCIPA BIEN EDUCADA | BP9: E1.P_A.MR1 | BQ9: Mejorar los indicadores de resultado de las pruebas SABER en las Instituciones Educativas del Municipio | BS9: 0-0 | BT9: 0-0 | BU9: 0-0 | BV9: 0-0 | BX9: E1.P_A | BY9: TOCANCIPA BIEN EDUCADA | BZ9: 3754914325 | CA9: 1095085675 | CB9: 200000000 | CF9: 5050000000 | CG9: 3754914325 | CH9: 1095085675 | CI9: 200000000 | CJ9: 0 | CK9: 0 | CL9: 0 | CM9: 5050000000 | CN9: 3754914325 | CO9: 1095085675 | CP9: 200000000 | CQ9: 0 | CR9: 0 | CS9: 0 | CT9: 5050000000 | CU9: 3754914325 | CV9: 1095085675 | CW9: 200000000 | CX9: 0 | CY9: 0 | CZ9: 0 | DA9: 5050000000 | DB9: 20200000000 | DC9: 0-0 | DD9: 0-0 | DE9: 0-0 | DF9: 0-0 | DH9: 0-0 | DI9: 0-0 | DJ9: 0-0 | DK9: 0-0 | DL9: 0-0 | DN9: 0-0 | DO9: 0-0 | DQ9: 0-0 | DR9: 0-0 | DT9: 0-0 | DU9: 0-0 | DV9: 0-0 | DW9: 0-0 | DX9: 0-0 | DY9: 0-0 | DZ9: 0-0 | EB9: 0-0 | EC9: 0-0 | ED9: 0-0 | EE9: 0-0 | EF9: 0-0 | EL9: E1.P_A.MR1-MP01-1 | EM9: Constituir el mecanismo de gestión y financiación contemplados en el PDM para la creación de un complejo Universitario en el Municipio cofinanciado con el departamento, la nación y universidades públicas y privadas nacionales y/o internacionales | EN9: Porcentaje de construcción del Complejo Universitario Municipal (%) | EO9: 0 | EP9: 30 | EQ9: 0 | ER9: 0 | ES9: 0 | ET9: 30
A10: E1. | B10: SOCIAL: Desarrollo Social con alta competitividad y proyección | C10: Mejorar las condiciones de calidad de vida de toda la población del territorio y especialmente en los sectores más vulnerables, garantizando el acceso a sus derechos sociales, individuales y colectrivos en Educación, Salud, Cultura, Recreación y Deporte | E10: P_A | F10: =+CONCATENATE(A10,E10) -> E1.P_A | G10: TOCANCIPA BIEN EDUCADA | H10: Garantizar calidad, cobertura, eficiencia y pertinencia en la oferta Educativa Municipal | J10: MR1 | K10: =+CONCATENATE(F10,".",J10) -> E1.P_A.MR1 | L10: Mejorar los indicadores de resultado de las pruebas SABER en las Instituciones Educativas del Municipio | M10: Índice de resultado pruebas SABER | N10: 0 | O10: 0.1 | P10: MP01-2 | Q10: =+CONCATENATE(K10,"-",P10) -> E1.P_A.MR1-MP01-2 | R10: Constituir el mecanismo de gestión y financiación contemplados en el PDM para la creación de un complejo Universitario en el Municipio cofinanciado con el departamento, la nación y universidades públicas y privadas nacionales y/o internacionales | S10: No. De mecanismos de gestión y financiación suscritos para la operación del Complejo Universitario Municipal | T10: 0 | U10: 1 | V10: Incremento | W10: 0 | X10: 30 | Y10: 40 | Z10: 30 | BD10: Secretaria de Educación | BF10: E2. | BG10: ECONÓMICO: Desarrollo Económico con alta competitividad y proyección | BK10: E1.P_B | BL10: SALUD CON ATENCIÓN DIGNA, PRIORITARIA Y DE CALIDAD | BN10: E1.P_A | BO10: TOCANCIPA BIEN EDUCADA | BP10: E1.P_A.MR2 | BQ10: Disminuir el número de estudiantes por equipo de cómputo | BS10: E1.P_A.MR1 | BT10: Mejorar los indicadores de resultado de las pruebas SABER en las Instituciones Educativas del Municipio | BU10: E1.P_A.MR1-MP01-1 | BV10: Constituir el mecanismo de gestión y financiación contemplados en el PDM para la creación de un complejo Universitario en el Municipio cofinanciado con el departamento, la nación y universidades públicas y privadas nacionales y/o internacionales | BX10: E1.P_B | BY10: SALUD CON ATENCIÓN DIGNA, PRIORITARIA Y DE CALIDAD | BZ10: 3533339430 | CA10: 1053933440 | CB10: 500000000 | CE10: 2679256984 | CF10: 7766529854 | CG10: 3.6570063e+09 | CH10: 1.0908211e+09 | CI10: 4.3e+08 | CJ10: 0 | CK10: 0 | CL10: 2.773031e+09 | CM10: 7.9508584e+09 | CN10: 1.2850015e+09 | CO10: 1.1289998e+09 | CP10: 3.5755e+08 | CQ10: 0 | CR10: 0 | CS10: 2.8700871e+09 | CT10: 5.6416384e+09 | CU10: 1.3299766e+09 | CV10: 1.1685148e+09 | CW10: 3.7006425e+08 | CX10: 0 | CY10: 0 | CZ10: 2.9705401e+09 | DA10: 5.8390958e+09 | DB10: 2.7198122e+10 | DC10: E1.P_A.MR1 - Mejorar los indicadores de resultado de las pruebas SABER en las Instituciones Educativas del Municipio | DD10: E1. - SOCIAL: Desarrollo Social con alta competitividad y proyección | DE10: E1.P_A - TOCANCIPA BIEN EDUCADA | DF10: Garantizar calidad, cobertura, eficiencia y pertinencia en la oferta Educativa Municipal | DH10: E1.P_A.MR1-MP01-1 - Constituir el mecanismo de gestión y financiación contemplados en el PDM para la creación de un complejo Universitario en el Municipio cofinanciado con el departamento, la nación | DI10: E1. - SOCIAL: Desarrollo Social con alta competitividad y proyección | DJ10: E1.P_A - TOCANCIPA BIEN EDUCADA | DK10: Garantizar calidad, cobertura, eficiencia y pertinencia en la oferta Educativa Municipal | DL10: E1.P_A.MR1 - Mejorar los indicadores de resultado de las pruebas SABER en las Instituciones Educativas del Municipio | DN10: E1.P_A.MR1 | DO10: Mejorar los indicadores de resultado de las pruebas SABER en las Instituciones Educativas del Municipio | DQ10: E1.P_A.MR1-MP01-1 | DR10: Constituir el mecanismo de gestión y financiación contemplados en el PDM para la creación de un complejo Universitario en el Municipio cofinanciado con el departamento, la nación y universidades públicas y privadas nacionales y/o internacionales | DT10: =+LEFT(DU10,10) -> E1.P_A.MR1 | DU10: E1.P_A.MR1 - Mejorar los indicadores de resultado de las pruebas SABER en las Instituciones Educativas del Municipio | DV10: E1. - SOCIAL: Desarrollo Social con alta competitividad y proyección | DW10: Mejorar las condiciones de calidad de vida de toda la población del territorio y especialmente en los sectores más vulnerables, garantizando el acceso a sus derechos sociales, individuales y colectrivos en Educación, Salud, Cultura, Recreación y Deporte | DX10: Educación | DY10: E1.P_A - TOCANCIPA BIEN EDUCADA | DZ10: Garantizar calidad, cobertura, eficiencia y pertinencia en la oferta Educativa Municipal | EB10: E1.P_A.MR1 | EC10: Mejorar los indicadores de resultado de las pruebas SABER en las Instituciones Educativas del Municipio | ED10: Índice de resultado pruebas SABER | EE10: 0 | EF10: 10 | EL10: E1.P_A.MR1-MP01-2 | EM10: Constituir el mecanismo de gestión y financiación contemplados en el PDM para la creación de un complejo Universitario en el Municipio cofinanciado con el departamento, la nación y universidades públicas y privadas nacionales y/o internacionales | EN10: No. De mecanismos de gestión y financiación suscritos para la operación del Complejo Universitario Municipal | EO10: 0 | EP10: 1 | EQ10: 0 | ER10: 0 | ES10: 0 | ET10: 1
A11: E1. | B11: SOCIAL: Desarrollo Social con alta competitividad y proyección | C11: Mejorar las condiciones de calidad de vida de toda la población del territorio y especialmente en los sectores más vulnerables, garantizando el acceso a sus derechos sociales, individuales y colectrivos en Educación, Salud, Cultura, Recreación y Deporte | E11: P_A | F11: =+CONCATENATE(A11,E11) -> E1.P_A | G11: TOCANCIPA BIEN EDUCADA | H11: Garantizar calidad, cobertura, eficiencia y pertinencia en la oferta Educativa Municipal | J11: MR1 | K11: =+CONCATENATE(F11,".",J11) -> E1.P_A.MR1 | L11: Mejorar los indicadores de resultado de las pruebas SABER en las Instituciones Educativas del Municipio | M11: Índice de resultado pruebas SABER | N11: 0 | O11: 0.1 | P11: MP02-1 | Q11: =+CONCATENATE(K11,"-",P11) -> E1.P_A.MR1-MP02-1 | R11: implementar acciones para mejorar los resultados de las Pruebas Saber 3°, 5°, 7°, 9° y 11 | S11: No. De acciones implementadas | T11: 1 | U11: 2 | V11: Incremento | W11: 0 | X11: 1 | Y11: 0.5 | Z11: 0.5 | BD11: Secretaria de Educación | BF11: E3. | BG11: Infraestructura, Planeación, Ambiente y Servicios Públicos | BK11: E1.P_C | BL11: CULTURA DE TODOS Y PARA TODOS | BN11: E1.P_A | BO11: TOCANCIPA BIEN EDUCADA | BP11: E1.P_A.MR3 | BQ11: Mantener las tasas de cobertura bruta por niveles | BS11: E1.P_A.MR1 | BT11: Mejorar los indicadores de resultado de las pruebas SABER en las Instituciones Educativas del Municipio | BU11: E1.P_A.MR1-MP01-2 | BV11: Constituir el mecanismo de gestión y financiación contemplados en el PDM para la creación de un complejo Universitario en el Municipio cofinanciado con el departamento, la nación y universidades públicas y privadas nacionales y/o internacionales | BX11: E1.P_C | BY11: CULTURA DE TODOS Y PARA TODOS | BZ11: 1878153364 | CA11: 934669035 | CB11: 200000000 | CE11: 37177601 | CF11: 3050000000 | CG11: 1878153364 | CH11: 934669035 | CI11: 200000000 | CJ11: 0 | CK11: 0 | CL11: 37177601 | CM11: 3050000000 | CN11: 1878153364 | CO11: 934669035 | CP11: 200000000 | CQ11: 0 | CR11: 0 | CS11: 37177601 | CT11: 3050000000 | CU11: 1878153364 | CV11: 934669035 | CW11: 200000000 | CX11: 0 | CY11: 0 | CZ11: 37177601 | DA11: 3050000000 | DB11: 12200000000 | DC11: E1.P_A.MR1 - Mejorar los indicadores de resultado de las pruebas SABER en las Instituciones Educativas del Municipio (Restaurantes Escolares) | DD11: E1. - SOCIAL: Desarrollo Social con alta competitividad y proyección | DE11: E1.P_A - TOCANCIPA BIEN EDUCADA | DF11: Garantizar calidad, cobertura, eficiencia y pertinencia en la oferta Educativa Municipal | DH11: E1.P_A.MR1-MP01-2 - Constituir el mecanismo de gestión y financiación contemplados en el PDM para la creación de un complejo Universitario en el Municipio cofinanciado con el departamento, la nación | DI11: E1. - SOCIAL: Desarrollo Social con alta competitividad y proyección | DJ11: E1.P_A - TOCANCIPA BIEN EDUCADA | DK11: Garantizar calidad, cobertura, eficiencia y pertinencia en la oferta Educativa Municipal | DL11: E1.P_A.MR1 - Mejorar los indicadores de resultado de las pruebas SABER en las Instituciones Educativas del Municipio | DN11: E1.P_A.MR2 | DO11: Disminuir el número de estudiantes por equipo de cómputo | DQ11: E1.P_A.MR1-MP01-2 | DR11: Constituir el mecanismo de gestión y financiación contemplados en el PDM para la creación de un complejo Universitario en el Municipio cofinanciado con el departamento, la nación y universidades públicas y privadas nacionales y/o internacionales | DT11: =+LEFT(DU11,10) -> E1.P_A.MR1 | DU11: E1.P_A.MR1 - Mejorar los indicadores de resultado de las pruebas SABER en las Instituciones Educativas del Municipio (Restaurantes Escolares) | DV11: E1. - SOCIAL: Desarrollo Social con alta competitividad y proyección | DW11: Mejorar las condiciones de calidad de vida de toda la población del territorio y especialmente en los sectores más vulnerables, garantizando el acceso a sus derechos sociales, individuales y colectrivos en Educación, Salud, Cultura, Recreación y Deporte | DX11: Educación | DY11: E1.P_A - TOCANCIPA BIEN EDUCADA | DZ11: Garantizar calidad, cobertura, eficiencia y pertinencia en la oferta Educativa Municipal | EB11: E1.P_A.MR1 | EC11: Mejorar los indicadores de resultado de las pruebas SABER en las Instituciones Educativas del Municipio (Restaurantes Escolares) | ED11: Índice de resultado pruebas SABER | EE11: 0 | EF11: 10 | EL11: E1.P_A.MR1-MP02-1 | EM11: implementar acciones para mejorar los resultados de las Pruebas Saber 3°, 5°, 7°, 9° y 11 | EN11: No. De acciones implementadas | EO11: 1 | EP11: 2 | EQ11: 0 | ER11: 0.5 | ES11: 0.5 | ET11: 1
A12: E1. | B12: SOCIAL: Desarrollo Social con alta competitividad y proyección | C12: Mejorar las condiciones de calidad de vida de toda la población del territorio y especialmente en los sectores más vulnerables, garantizando el acceso a sus derechos sociales, individuales y colectrivos en Educación, Salud, Cultura, Recreación y Deporte | E12: P_A | F12: =+CONCATENATE(A12,E12) -> E1.P_A | G12: TOCANCIPA BIEN EDUCADA | H12: Garantizar calidad, cobertura, eficiencia y pertinencia en la oferta Educativa Municipal | J12: MR1 | K12: =+CONCATENATE(F12,".",J12) -> E1.P_A.MR1 | L12: Mejorar los indicadores de resultado de las pruebas SABER en las Instituciones Educativas del Municipio | M12: Índice de resultado pruebas SABER | N12: 0 | O12: 0.1 | P12: MP03-1 | Q12: =+CONCATENATE(K12,"-",P12) -> E1.P_A.MR1-MP03-1 | R12: Mantener la cobertura del servicio de transporte escolar | S12: Tasa de Cobertura de Transporte Escolar según distancia legal para los estudiantes que lo requieren | T12: 0.98 | U12: 0.98 | V12: Mantenimiento | W12: 0.98 | X12: 0.98 | Y12: 0.98 | Z12: 0.98 | BD12: Secretaria de Educación | BF12: E4. | BG12: Seguridad y Justicia, La Integración Comunitaria y la Administración Pública son con la Gente y por la Gente | BK12: E1.P_D | BL12: DEPORTE Y RECREACIÓN PARA EL MEJORAMIENTO DE LA CALIDAD DE VIDA Y LA SANA CONVIVENCIA | BN12: E1.P_A | BO12: TOCANCIPA BIEN EDUCADA | BP12: E1.P_A.MR4 | BQ12: Mejorar el perfil ocupacional de la población | BS12: E1.P_A.MR1 | BT12: Mejorar los indicadores de resultado de las pruebas SABER en las Instituciones Educativas del Municipio | BU12: E1.P_A.MR1-MP02-1 | BV12: implementar acciones para mejorar los resultados de las Pruebas Saber 3°, 5°, 7°, 9° y 11 | BX12: E1.P_D | BY12: DEPORTE Y RECREACIÓN PARA EL MEJORAMIENTO DE LA CALIDAD DE VIDA Y LA SANA CONVIVENCIA | BZ12: 717603684 | CA12: 1146292679 | CB12: 100000000 | CE12: 104103637 | CF12: 2068000000 | CG12: 717603684 | CH12: 1146292679 | CI12: 100000000 | CJ12: 0 | CK12: 0 | CL12: 104103637 | CM12: 2068000000 | CN12: 717603684 | CO12: 1146292679 | CP12: 100000000 | CQ12: 0 | CR12: 0 | CS12: 104103637 | CT12: 2068000000 | CU12: 717603684 | CV12: 1146292679 | CW12: 100000000 | CX12: 0 | CY12: 0 | CZ12: 104103637 | DA12: 2068000000 | DB12: 8272000000 | DC12: E1.P_A.MR2 - Disminuir el número de estudiantes por equipo de cómputo | DD12: E1. - SOCIAL: Desarrollo Social con alta competitividad y proyección | DE12: E1.P_A - TOCANCIPA BIEN EDUCADA | DF12: Garantizar calidad, cobertura, eficiencia y pertinencia en la oferta Educativa Municipal | DH12: E1.P_A.MR1-MP02-1 - implementar acciones para mejorar los resultados de las Pruebas Saber 3°, 5°, 7°, 9° y 11 | DI12: E1. - SOCIAL: Desarrollo Social con alta competitividad y proyección | DJ12: E1.P_A - TOCANCIPA BIEN EDUCADA | DK12: Garantizar calidad, cobertura, eficiencia y pertinencia en la oferta Educativa Municipal | DL12: E1.P_A.MR1 - Mejorar los indicadores de resultado de las pruebas SABER en las Instituciones Educativas del Municipio | DN12: E1.P_A.MR3 | DO12: Mantener las tasas de cobertura bruta por niveles | DQ12: E1.P_A.MR1-MP02-1 | DR12: implementar acciones para mejorar los resultados de las Pruebas Saber 3°, 5°, 7°, 9° y 11 | DT12: =+LEFT(DU12,10) -> E1.P_A.MR2 | DU12: E1.P_A.MR2 - Disminuir el número de estudiantes por equipo de cómputo | DV12: E1. - SOCIAL: Desarrollo Social con alta competitividad y proyección | DW12: Mejorar las condiciones de calidad de vida de toda la población del territorio y especialmente en los sectores más vulnerables, garantizando el acceso a sus derechos sociales, individuales y colectrivos en Educación, Salud, Cultura, Recreación y Deporte | DX12: Educación | DY12: E1.P_A - TOCANCIPA BIEN EDUCADA | DZ12: Garantizar calidad, cobertura, eficiencia y pertinencia en la oferta Educativa Municipal | EB12: E1.P_A.MR2 | EC12: Disminuir el número de estudiantes por equipo de cómputo | ED12: No. de estudiantes por equipo de cómputo | EE12: 3 | EF12: 2 | EL12: E1.P_A.MR1-MP03-1 | EM12: Mantener la cobertura del servicio de transporte escolar | EN12: Tasa de Cobertura de Transporte Escolar según distancia legal para los estudiantes que lo requieren (%) | EO12: 98 | EP12: 98 | EQ12: 98 | ER12: 98 | ES12: 98 | ET12: 98
A13: E1. | B13: SOCIAL: Desarrollo Social con alta competitividad y proyección | C13: Mejorar las condiciones de calidad de vida de toda la población del territorio y especialmente en los sectores más vulnerables, garantizando el acceso a sus derechos sociales, individuales y colectrivos en Educación, Salud, Cultura, Recreación y Deporte | E13: P_A | F13: =+CONCATENATE(A13,E13) -> E1.P_A | G13: TOCANCIPA BIEN EDUCADA | H13: Garantizar calidad, cobertura, eficiencia y pertinencia en la oferta Educativa Municipal | J13: MR1 | K13: =+CONCATENATE(F13,".",J13) -> E1.P_A.MR1 | L13: Mejorar los indicadores de resultado de las pruebas SABER en las Instituciones Educativas del Municipio | M13: Índice de resultado pruebas SABER | N13: 0 | O13: 0.1 | P13: MP04-1 | Q13: =+CONCATENATE(K13,"-",P13) -> E1.P_A.MR1-MP04-1 | R13: Implementar semilleros de investigación en tecnología e innovación | S13: No. de semilleros de investigación en tecnología e innovación implementados | T13: 0 | U13: 3 | V13: Incremento | W13: 0.5 | X13: 0.5 | Y13: 1 | Z13: 1 | BD13: Secretaria de Educación | BK13: E1.P_E | BL13: ATENCIÓN INTEGRAL DEL ADULTO MAYOR | BN13: E1.P_A | BO13: TOCANCIPA BIEN EDUCADA | BP13: E1.P_A.MR5 | BQ13: Desarrollar una estrategia para fomentar el acceso de la población a la educación técnica, tecnológica y profesional | BS13: E1.P_A.MR1 | BT13: Mejorar los indicadores de resultado de las pruebas SABER en las Instituciones Educativas del Municipio | BU13: E1.P_A.MR1-MP03-1 | BV13: Mantener la cobertura del servicio de transporte escolar | BX13: E1.P_E | BY13: ATENCIÓN INTEGRAL DEL ADULTO MAYOR | BZ13: 240000000 | CB13: 0 | CF13: 240000000 | CG13: 240000000 | CH13: 0 | CI13: 0 | CJ13: 0 | CK13: 0 | CL13: 0 | CM13: 240000000 | CN13: 240000000 | CO13: 0 | CP13: 0 | CQ13: 0 | CR13: 0 | CS13: 0 | CT13: 240000000 | CU13: 240000000 | CV13: 0 | CW13: 0 | CX13: 0 | CY13: 0 | CZ13: 0 | DA13: 240000000 | DB13: 960000000 | DC13: E1.P_A.MR3 - Mantener las tasas de cobertura bruta por niveles | DD13: E1. - SOCIAL: Desarrollo Social con alta competitividad y proyección | DE13: E1.P_A - TOCANCIPA BIEN EDUCADA | DF13: Garantizar calidad, cobertura, eficiencia y pertinencia en la oferta Educativa Municipal | DH13: E1.P_A.MR1-MP03-1 - Mantener la cobertura del servicio de transporte escolar | DI13: E1. - SOCIAL: Desarrollo Social con alta competitividad y proyección | DJ13: E1.P_A - TOCANCIPA BIEN EDUCADA | DK13: Garantizar calidad, cobertura, eficiencia y pertinencia en la oferta Educativa Municipal | DL13: E1.P_A.MR1 - Mejorar los indicadores de resultado de las pruebas SABER en las Instituciones Educativas del Municipio | DN13: E1.P_A.MR4 | DO13: Mejorar el perfil ocupacional de la población | DQ13: E1.P_A.MR1-MP03-1 | DR13: Mantener la cobertura del servicio de transporte escolar | DT13: =+LEFT(DU13,10) -> E1.P_A.MR3 | DU13: E1.P_A.MR3 - Mantener las tasas de cobertura bruta por niveles | DV13: E1. - SOCIAL: Desarrollo Social con alta competitividad y proyección | DW13: Mejorar las condiciones de calidad de vida de toda la población del territorio y especialmente en los sectores más vulnerables, garantizando el acceso a sus derechos sociales, individuales y colectrivos en Educación, Salud, Cultura, Recreación y Deporte | DX13: Educación | DY13: E1.P_A - TOCANCIPA BIEN EDUCADA | DZ13: Garantizar calidad, cobertura, eficiencia y pertinencia en la oferta Educativa Municipal | EB13: E1.P_A.MR3 | EC13: Mantener las tasas de cobertura bruta por niveles | ED13: Tasa de cobertura transición Tasa de cobertura primaria Tasa de cobertura secundaria Tasa de cobertura media | EE13: 104% 108% 126% 90,83% | EF13: 104% 108% 126% 90,83% | EL13: E1.P_A.MR1-MP04-1 | EM13: Implementar semilleros de investigación en tecnología e innovación | EN13: No. de semilleros de investigación en tecnología e innovación implementados | EO13: 0 | EP13: 3 | EQ13: 0.5 | ER13: 0.5 | ES13: 1 | ET13: 1
A14: E1. | B14: SOCIAL: Desarrollo Social con alta competitividad y proyección | C14: Mejorar las condiciones de calidad de vida de toda la población del territorio y especialmente en los sectores más vulnerables, garantizando el acceso a sus derechos sociales, individuales y colectrivos en Educación, Salud, Cultura, Recreación y Deporte | E14: P_A | F14: =+CONCATENATE(A14,E14) -> E1.P_A | G14: TOCANCIPA BIEN EDUCADA | H14: Garantizar calidad, cobertura, eficiencia y pertinencia en la oferta Educativa Municipal | J14: MR1 | K14: =+CONCATENATE(F14,".",J14) -> E1.P_A.MR1 | L14: Mejorar los indicadores de resultado de las pruebas SABER en las Instituciones Educativas del Municipio | M14: Índice de resultado pruebas SABER | N14: 0 | O14: 0.1 | P14: MP05-1 | Q14: =+CONCATENATE(K14,"-",P14) -> E1.P_A.MR1-MP05-1 | R14: Mantener las Dotaciones de las I.E.D en Infraestructura Educativa y en Material y Medios Pedagógicos para el Aprendizaje | S14: No. de instituciones dotadas | T14: 3 | U14: 3 | V14: Mantenimiento | W14: 3 | X14: 3 | Y14: 3 | Z14: 3 | BD14: Secretaria de Educación | BK14: E1.P_F | BL14: PRIMERA INFANCIA, INFANCIA, ADOLESCENCIA Y JUVENTUD CON DESARROLLO Y PROYECCIÓN | BN14: E1.P_B | BO14: SALUD CON ATENCIÓN DIGNA, PRIORITARIA Y DE CALIDAD | BP14: E1.P_B.MR1 | BQ14: Terminación, equipamiento y operación del Hospital Municipal | BS14: E1.P_A.MR1 | BT14: Mejorar los indicadores de resultado de las pruebas SABER en las Instituciones Educativas del Municipio | BU14: E1.P_A.MR1-MP04-1 | BV14: Implementar semilleros de investigación en tecnología e innovación | BX14: E1.P_F | BY14: PRIMERA INFANCIA, INFANCIA, ADOLESCENCIA Y JUVENTUD CON DESARROLLO Y PROYECCIÓN | BZ14: 1566108662 | CA14: 1384562012 | CB14: 0 | CE14: 110329326 | CF14: 3061000000 | CG14: 1566108662 | CH14: 1384562012 | CI14: 0 | CJ14: 0 | CK14: 0 | CL14: 110329326 | CM14: 3061000000 | CN14: 1566108662 | CO14: 1384562012 | CP14: 0 | CQ14: 0 | CR14: 0 | CS14: 110329326 | CT14: 3061000000 | CU14: 1566108662 | CV14: 1384562012 | CW14: 0 | CX14: 0 | CY14: 0 | CZ14: 110329326 | DA14: 3061000000 | DB14: 12244000000 | DC14: E1.P_A.MR4 - Mejorar el perfil ocupacional de la población | DD14: E1. - SOCIAL: Desarrollo Social con alta competitividad y proyección | DE14: E1.P_A - TOCANCIPA BIEN EDUCADA | DF14: Garantizar calidad, cobertura, eficiencia y pertinencia en la oferta Educativa Municipal | DH14: E1.P_A.MR1-MP04-1 - Implementar semilleros de investigación en tecnología e innovación | DI14: E1. - SOCIAL: Desarrollo Social con alta competitividad y proyección | DJ14: E1.P_A - TOCANCIPA BIEN EDUCADA | DK14: Garantizar calidad, cobertura, eficiencia y pertinencia en la oferta Educativa Municipal | DL14: E1.P_A.MR1 - Mejorar los indicadores de resultado de las pruebas SABER en las Instituciones Educativas del Municipio | DN14: E1.P_A.MR5 | DO14: Desarrollar una estrategia para fomentar el acceso de la población a la educación técnica, tecnológica y profesional | DQ14: E1.P_A.MR1-MP04-1 | DR14: Implementar semilleros de investigación en tecnología e innovación | DT14: =+LEFT(DU14,10) -> E1.P_A.MR4 | DU14: E1.P_A.MR4 - Mejorar el perfil ocupacional de la población | DV14: E1. - SOCIAL: Desarrollo Social con alta competitividad y proyección | DW14: Mejorar las condiciones de calidad de vida de toda la población del territorio y especialmente en los sectores más vulnerables, garantizando el acceso a sus derechos sociales, individuales y colectrivos en Educación, Salud, Cultura, Recreación y Deporte | DX14: Educación | DY14: E1.P_A - TOCANCIPA BIEN EDUCADA | DZ14: Garantizar calidad, cobertura, eficiencia y pertinencia en la oferta Educativa Municipal | EB14: E1.P_A.MR4 | EC14: Mejorar el perfil ocupacional de la población | ED14: Índice de perfil ocupacional | EE14: 0 | EF14: 4 | EL14: E1.P_A.MR1-MP05-1 | EM14: Mantener las Dotaciones de las I.E.D en Infraestructura Educativa y en Material y Medios Pedagógicos para el Aprendizaje | EN14: No. de instituciones dotadas | EO14: 3 | EP14: 3 | EQ14: 3 | ER14: 3 | ES14: 3 | ET14: 3
