Workbook

Sheet Consolidado_Vigencias
A1: ALCALDÍA MUNICIPAL DE TOCANCIPÁ - CUNDINAMARCA
A2: RELACIÓN DE PROYECTOS RADICADOS ANTE LA GERENCIA DE PLANEACIÓN
A3: NIVELES DEL PLAN DE DESARROLLO: | E3: REGISTRO DEL PROYECTO | G3: FECHA RADICACIÓN DEL PROYECTO | J3: FUNCIONARIO RESPONSABLE RADICACIÓN | L3: ANEXOS DEL PROYECTO: | V3: FOLIOS | X3: VALOR INICIAL | Y3: TIPO DE PROYECTO | Z3: ENTIDADES COFINANCIADORAS | AA3: OBSERVACIONES | AB3: NÚMERO DE ORDEN | AC3: CÓDIGO | AD3: DESCRIPCIÓN | AE3: NOMBRE DE LA SERIE, SUBSERIE O ASUNTO | AF3: FECHAS EXTREMAS | AH3: UNIDAD DE CONSERVACIÓN | AN3: NÚMERO DE FOLIOS | AO3: SOPORTE | AP3: FRECUENCIA DE CONSULTA
A4: POLÍTICA ESTRATÉGICA: | B4: NOMBRE DEL PROGRAMA: | C4: OBJETIVO DEL PROGRAMA: | D4: NOMBRE DEL PROYECTO DEL PD: | E4: CÓDIGO SSEPI | F4: NOMBRE ASIGNADO EN LA FICHA EBI: | G4: DÍA | H4: MES | I4: AÑO | J4: NOMBRES RESPONSABLE | K4: CARGO | L4: Ficha EBI (firmada) | M4: Proyecto formulado en MGA (con archivo "Transmi") | N4: Árbol del problema | O4: Árbol de objetivos | P4: Ficha de Programa y/o Proyecto | Q4: Ficha de Control de Recursos - Consolidado Total de Recursos | R4: Ficha de Control de Recursos - Consolidado Anual de Recursos | S4: Ficha de Control de Recursos (Detallado del proyecto) | T4: Otros anexos técnicos (diseños, estudios, etc. NOTA: Cuando el proyecto lo requiera) | U4: CD o DVD de datos (con las memorias de todo el proyecto) | V4: FOLIOS INICIALES | W4: FOLIOS FINALES | AF4: INICIAL | AG4: FINAL | AH4: EST | AI4: ENT | AJ4: CAJA | AK4: CARPETA | AL4: TOMO | AM4: OTRO
A5: =VLOOKUP(D5,$A$175:$G$224,2,0) -> 0401-Tocancipá sostenible y sustentable: Municipio proyectado y planificado a largo plazo | B5: =VLOOKUP(D5,$A$175:$G$224,4,0) -> 040102-Espacios que se entrelazan y entornos para soñar | C5: =VLOOKUP(D5,$A$175:$G$224,5,0) -> Desarrollar y recuperar espacios de turismo ecológico y paisajismo en el municipio de Tocancipá. | D5: 04010201-Construcción, adecuación y mantenimiento de la malla vial. | E5: 2012-25817-0020 | F5: CONTRUCCION ADECUACION Y MANTENIMIENTO DE LA MALLA VIAL DEL MUNICIPIO DE TOCANCIPA | G5: 26 | H5: 09 | I5: 2012 | J5: =VLOOKUP(K5,$N$138:$O$155,2,0) -> GUILLERMO LEON GUALTEROS ROCHA | K5: GERENTE DE FOMENTO DE LA INFRAESTRUCTURA | L5: Cumple | M5: Cumple | N5: Cumple | O5: Cumple | P5: Cumple | Q5: Cumple | R5: Cumple | S5: No Cumple | T5: No Aplica | U5: Cumple | X5: 48924322670 | Y5: GENERAL | AB5: =VLOOKUP(D5,[1]Hoja3!$A$2:$E$50,2,0) -> 35 | AE5: =+CONCATENATE("Proyecto: ",D5,";"," Nombre Ficha EBI: ",F5,"; ","Código SSEPI: ",E5,".") -> Proyecto: 04010201-Construcción, adecuación y mantenimiento de la malla vial.; Nombre Ficha EBI: CONTRUCCION ADECUACION Y MANTENIMIENTO DE LA MALLA VIAL DEL MUNICIPIO DE TOCANCIPA; Código SSEPI: 2012-25817-0020. | AJ5: =VLOOKUP(D5,[1]Hoja3!$A$2:$E$50,5,0) -> 4
A6: =VLOOKUP(D6,$A$175:$G$224,2,0) -> 0401-Tocancipá sostenible y sustentable: Municipio proyectado y planificado a largo plazo | B6: =VLOOKUP(D6,$A$175:$G$224,4,0) -> 040105-Mejoramiento otros servicios públicos | C6: =VLOOKUP(D6,$A$175:$G$224,5,0) -> Ampliar el aprovechamiento de los residuos sólidos del municipio de Tocancipá. | D6: 04010501-Servicios públicos complementarios para la comunidad_Alumbrado | E6: 2012-25817-0021 | F6: SERVICIOS PUBLICOS COMPLEMENTARIOS PARA LA COMUNIDAD EN EL MUNICIPIO DE TOCANCIPA | G6: 26 | H6: 09 | I6: 2012 | J6: =VLOOKUP(K6,$N$138:$O$155,2,0) -> GUILLERMO LEON GUALTEROS ROCHA | K6: GERENTE DE FOMENTO DE LA INFRAESTRUCTURA | L6: Cumple | M6: Cumple | N6: Cumple | O6: Cumple | P6: Cumple | Q6: Cumple | R6: Cumple | S6: Cumple | T6: No Aplica | U6: Cumple | X6: 1856000000 | Y6: GENERAL | AB6: =VLOOKUP(D6,[1]Hoja3!$A$2:$E$50,2,0) -> 40_2 | AE6: =+CONCATENATE("Proyecto: ",D6,";"," Nombre Ficha EBI: ",F6,"; ","Código SSEPI: ",E6,".") -> Proyecto: 04010501-Servicios públicos complementarios para la comunidad_Alumbrado; Nombre Ficha EBI: SERVICIOS PUBLICOS COMPLEMENTARIOS PARA LA COMUNIDAD EN EL MUNICIPIO DE TOCANCIPA; Código SSEPI: 2012-25817-0021. | AJ6: =VLOOKUP(D6,[1]Hoja3!$A$2:$E$50,5,0) -> 6
A7: =VLOOKUP(D7,$A$175:$G$224,2,0) -> 0401-Tocancipá sostenible y sustentable: Municipio proyectado y planificado a largo plazo | B7: =VLOOKUP(D7,$A$175:$G$224,4,0) -> 040102-Espacios que se entrelazan y entornos para soñar | C7: =VLOOKUP(D7,$A$175:$G$224,5,0) -> Desarrollar y recuperar espacios de turismo ecológico y paisajismo en el municipio de Tocancipá. | D7: 04010202-Mejoramiento y ampliación del espacio público. | E7: 2012-25817-0022 | F7: MEJORAMIENTO Y AMPLIACION DEL ESPACIO PUBLICO DEL MUNICIPIO DE TOCANCIPÁ | G7: 26 | H7: 09 | I7: 2012 | J7: =VLOOKUP(K7,$N$138:$O$155,2,0) -> GUILLERMO LEON GUALTEROS ROCHA | K7: GERENTE DE FOMENTO DE LA INFRAESTRUCTURA | L7: Cumple | M7: Cumple | N7: Cumple | O7: Cumple | P7: Cumple | Q7: Cumple | R7: Cumple | S7: Cumple | T7: No Aplica | U7: Cumple | X7: 9.1816773e+09 | Y7: GENERAL | AB7: =VLOOKUP(D7,[1]Hoja3!$A$2:$E$50,2,0) -> 36 | AE7: =+CONCATENATE("Proyecto: ",D7,";"," Nombre Ficha EBI: ",F7,"; ","Código SSEPI: ",E7,".") -> Proyecto: 04010202-Mejoramiento y ampliación del espacio público.; Nombre Ficha EBI: MEJORAMIENTO Y AMPLIACION DEL ESPACIO PUBLICO DEL MUNICIPIO DE TOCANCIPÁ; Código SSEPI: 2012-25817-0022. | AJ7: =VLOOKUP(D7,[1]Hoja3!$A$2:$E$50,5,0) -> 5
A8: =VLOOKUP(D8,$A$175:$G$224,2,0) -> 0501-Por una Tocancipá Productiva y Competitiva | B8: =VLOOKUP(D8,$A$175:$G$224,4,0) -> 050103-Comerciantes trabajando en conjunto y campesino pujante y participativo | C8: =VLOOKUP(D8,$A$175:$G$224,5,0) -> Fortalecer el campo, apoyar al productor agropecuario, la agroindustria y al comerciante. | D8: 05010301-Fortalecimiento de procesos productivos. | E8: 2012-25817-0002 | F8: FORTALECIMIENTO DE LOS PROCESOS PRODUCTIVOS AGROPECUARIOS DEL MUNICIPIO CON BIOTECNOLOGIAS DE PUNTA EN EL MUNICIPIO DE TOCANCIPA-DEPARTAMENTO DE CUNDINAMARCA | G8: 2 | H8: 08 | I8: 2012 | J8: =VLOOKUP(K8,$N$138:$O$155,2,0) -> FRANCISCO RODRIGUEZ SANTOS | K8: GERENTE DE DESARROLLO ECONOMICO | L8: Cumple | M8: Cumple | N8: Cumple | O8: Cumple | P8: Cumple | Q8: Cumple | R8: Cumple | S8: Cumple | T8: No Aplica | U8: Cumple | X8: 908000000 | Y8: GENERAL | AB8: =VLOOKUP(D8,[1]Hoja3!$A$2:$E$50,2,0) -> 43 | AE8: =+CONCATENATE("Proyecto: ",D8,";"," Nombre Ficha EBI: ",F8,"; ","Código SSEPI: ",E8,".") -> Proyecto: 05010301-Fortalecimiento de procesos productivos.; Nombre Ficha EBI: FORTALECIMIENTO DE LOS PROCESOS PRODUCTIVOS AGROPECUARIOS DEL MUNICIPIO CON BIOTECNOLOGIAS DE PUNTA EN EL MUNICIPIO DE TOCANCIPA-DEPARTAMENTO DE CUNDINAMARCA; Código SSEPI: 2012-25817-0002. | AJ8: =VLOOKUP(D8,[1]Hoja3!$A$2:$E$50,5,0) -> 7
A9: =VLOOKUP(D9,$A$175:$G$224,2,0) -> 0105-Desarrollo armónico e integral del ser humano por medio del deporte | B9: =VLOOKUP(D9,$A$175:$G$224,4,0) -> 010501-Fomento del deporte | C9: =VLOOKUP(D9,$A$175:$G$224,5,0) -> Incrementar la cultura deportiva a través, del fortalecimiento de las escuelas de formación. | D9: 01050101-Fomento del deporte. | E9: 2012-25817-0003 | F9: FORTALECIMIENTO DE LAS ESCUELAS DE FORMACION DEPORTIVA. EN EL MUNICIPIO DE TOCANCIPA DEPARTAMENTO DE CUNDINAMARCA | G9: 2 | H9: 08 | I9: 2012 | J9: =VLOOKUP(K9,$N$138:$O$155,2,0) -> EDWIN ALFONSO VARGAS FORERO | K9: DIRECTOR EJECUTIVO INSTITUTO DE RECREACION Y DEPORTE | L9: Cumple | M9: Cumple | N9: Cumple | O9: Cumple | P9: Cumple | Q9: Cumple | R9: Cumple | S9: Cumple | T9: No Aplica | U9: Cumple | X9: 3500000000 | Y9: GENERAL | AB9: =VLOOKUP(D9,[1]Hoja3!$A$2:$E$50,2,0) -> 20 | AE9: =+CONCATENATE("Proyecto: ",D9,";"," Nombre Ficha EBI: ",F9,"; ","Código SSEPI: ",E9,".") -> Proyecto: 01050101-Fomento del deporte.; Nombre Ficha EBI: FORTALECIMIENTO DE LAS ESCUELAS DE FORMACION DEPORTIVA. EN EL MUNICIPIO DE TOCANCIPA DEPARTAMENTO DE CUNDINAMARCA; Código SSEPI: 2012-25817-0003. | AJ9: =VLOOKUP(D9,[1]Hoja3!$A$2:$E$50,5,0) -> 2
A10: =VLOOKUP(D10,$A$175:$G$224,2,0) -> 0401-Tocancipá sostenible y sustentable: Municipio proyectado y planificado a largo plazo | B10: =VLOOKUP(D10,$A$175:$G$224,4,0) -> 040103-Equipamiento para todos | C10: =VLOOKUP(D10,$A$175:$G$224,5,0) -> Mejorar y mantener la infraestructura pública municipal, representada en edificios públicos, Instituciones educativas, escenarios deportivos, salones comunales y parques. | D10: 04010301-Infraestructura al servicio de la comunidad | E10: 2012-25817-0015 | F10: CONTRUCCIÓN INFRAESTRUCTURA AL SERVICIO DE LA COMUNIDAD DEL MUNICIPIO DE TOCANCIPÁ | G10: 10 | H10: 09 | I10: 2012 | J10: =VLOOKUP(K10,$N$138:$O$155,2,0) -> GUILLERMO LEON GUALTEROS ROCHA | K10: GERENTE DE FOMENTO DE LA INFRAESTRUCTURA | L10: Cumple | M10: Cumple | N10: Cumple | O10: Cumple | P10: Cumple | Q10: Cumple | R10: Cumple | S10: Cumple | T10: No Aplica | U10: Cumple | X10: 5.474e+10 | Y10: GENERAL | AB10: =VLOOKUP(D10,[1]Hoja3!$A$2:$E$50,2,0) -> 37 | AE10: =+CONCATENATE("Proyecto: ",D10,";"," Nombre Ficha EBI: ",F10,"; ","Código SSEPI: ",E10,".") -> Proyecto: 04010301-Infraestructura al servicio de la comunidad; Nombre Ficha EBI: CONTRUCCIÓN INFRAESTRUCTURA AL SERVICIO DE LA COMUNIDAD DEL MUNICIPIO DE TOCANCIPÁ; Código SSEPI: 2012-25817-0015. | AJ10: =VLOOKUP(D10,[1]Hoja3!$A$2:$E$50,5,0) -> 5
A11: =VLOOKUP(D11,$A$175:$G$224,2,0) -> 0105-Desarrollo armónico e integral del ser humano por medio del deporte | B11: =VLOOKUP(D11,$A$175:$G$224,4,0) -> 010502-Todos Competitivos y todos por nuestros talentos | C11: =VLOOKUP(D11,$A$175:$G$224,5,0) -> Fomentar programas de formación deportiva, actividades recreativas y físico-saludables como garantía de derechos para la población de Tocancipá. | D11: 01050201-Todos competitivos y todos por nuestros talentos. | E11: 2012-25817-0004 | F11: IMPLEMENTACION DE PROGRAMA DE ALTO RENDIMINETO Y PROMOCION DEL DEPORTE Y LA RECREACION, COMO UN ESTILO DE VIDA. EN EL MUNICIPIO DE TOCANCIPA-DEPARTAMENTO CUNDINAMARCA | G11: 2 | H11: 08 | I11: 2012 | J11: =VLOOKUP(K11,$N$138:$O$155,2,0) -> EDWIN ALFONSO VARGAS FORERO | K11: DIRECTOR EJECUTIVO INSTITUTO DE RECREACION Y DEPORTE | L11: Cumple | M11: Cumple | N11: Cumple | O11: Cumple | P11: Cumple | Q11: Cumple | R11: Cumple | S11: Cumple | T11: No Aplica | U11: Cumple | X11: 3950000000 | Y11: GENERAL | AB11: =VLOOKUP(D11,[1]Hoja3!$A$2:$E$50,2,0) -> 21 | AE11: =+CONCATENATE("Proyecto: ",D11,";"," Nombre Ficha EBI: ",F11,"; ","Código SSEPI: ",E11,".") -> Proyecto: 01050201-Todos competitivos y todos por nuestros talentos.; Nombre Ficha EBI: IMPLEMENTACION DE PROGRAMA DE ALTO RENDIMINETO Y PROMOCION DEL DEPORTE Y LA RECREACION, COMO UN ESTILO DE VIDA. EN EL MUNICIPIO DE TOCANCIPA-DEPARTAMENTO CUNDINAMARCA; Código SSEPI: 2012-25817-0004. | AJ11: =VLOOKUP(D11,[1]Hoja3!$A$2:$E$50,5,0) -> 2
A12: =VLOOKUP(D12,$A$175:$G$224,2,0) -> 0401-Tocancipá sostenible y sustentable: Municipio proyectado y planificado a largo plazo | B12: =VLOOKUP(D12,$A$175:$G$224,4,0) -> 040104-Entorno sostenible / Agua potable y saneamiento básico | C12: =VLOOKUP(D12,$A$175:$G$224,5,0) -> Optimizar el servicio de acueducto y alcantarillado en el municipio de Tocancipá. | D12: 04010401-Agua potable y saneamiento básico para el municipio. | E12: 2012-25817-0008 | F12: SANEAMIENTO BASICO Y AGUA POTABLE MUNICIPIO DE TOCANCIPÁ | G12: 3 | H12: 08 | I12: 2012 | J12: =VLOOKUP(K12,$N$138:$O$155,2,0) -> JORGE ANDRES PORRAS VARGAS | K12: GERENTE EMPRESA DE SERVICIOS PUBLICOS | L12: Cumple | M12: Cumple | N12: Cumple | O12: Cumple | P12: Cumple | Q12: Cumple | R12: Cumple | S12: Cumple | T12: No Aplica | U12: Cumple | X12: 98061000003 | Y12: GENERAL | AB12: =VLOOKUP(D12,[1]Hoja3!$A$2:$E$50,2,0) -> 39 | AE12: =+CONCATENATE("Proyecto: ",D12,";"," Nombre Ficha EBI: ",F12,"; ","Código SSEPI: ",E12,".") -> Proyecto: 04010401-Agua potable y saneamiento básico para el municipio.; Nombre Ficha EBI: SANEAMIENTO BASICO Y AGUA POTABLE MUNICIPIO DE TOCANCIPÁ; Código SSEPI: 2012-25817-0008. | AJ12: =VLOOKUP(D12,[1]Hoja3!$A$2:$E$50,5,0) -> 6
A13: =VLOOKUP(D13,$A$175:$G$224,2,0) -> 0104-Nuevos Vientos Culturales y Turísticos | B13: =VLOOKUP(D13,$A$175:$G$224,4,0) -> 010401-Difusión de la Cultu ra y formación de Artistas | C13: =VLOOKUP(D13,$A$175:$G$224,5,0) -> Promover la cultura de Tocancipá. (mediante la Institucionalización de la escuela de artes, participación en eventos artísticos y culturales y la formulación del plan decenal de cultura del municipio de Tocancipá). | D13: 01040101-Promoción de la cultura. | E13: 2012-25817-0001 | F13: APROVECHAMIENTO Y PROMOCIÓN DE LA CULTURA MUNICIPIO DE TOCANCIPÁ DEPARTAMENTO DE CUNDINMARCA COLOMBIA | G13: 1 | H13: 08 | I13: 2012 | J13: =VLOOKUP(K13,$N$138:$O$155,2,0) -> GERMAN HERNANDEZ CASTRO | K13: GERENTE DE CULTURA Y TURISMO | L13: Cumple | M13: Cumple | N13: Cumple | O13: Cumple | P13: Cumple | Q13: Cumple | R13: Cumple | S13: Cumple | T13: No Aplica | U13: Cumple | X13: 17005010000 | Y13: GENERAL | AB13: =VLOOKUP(D13,[1]Hoja3!$A$2:$E$50,2,0) -> 17 | AE13: =+CONCATENATE("Proyecto: ",D13,";"," Nombre Ficha EBI: ",F13,"; ","Código SSEPI: ",E13,".") -> Proyecto: 01040101-Promoción de la cultura.; Nombre Ficha EBI: APROVECHAMIENTO Y PROMOCIÓN DE LA CULTURA MUNICIPIO DE TOCANCIPÁ DEPARTAMENTO DE CUNDINMARCA COLOMBIA; Código SSEPI: 2012-25817-0001. | AJ13: =VLOOKUP(D13,[1]Hoja3!$A$2:$E$50,5,0) -> 2
A14: =VLOOKUP(D14,$A$175:$G$224,2,0) -> 0101-Camino para la construcción de un ciudadano participativo, productivo y competitivo | B14: =VLOOKUP(D14,$A$175:$G$224,4,0) -> 010101-Calidad, eficiencia y cobertura educativa | C14: =VLOOKUP(D14,$A$175:$G$224,5,0) -> Garantizar el acceso a la educación con calidad en el servicio. | D14: 01010101-Tocancipá por la calidad de la educación. | E14: 2012-25817-0023 | F14: IMPLEMENTACION DE UN MODELO EDUCATIVO INNOVADOR EN EL MUNICIPIO DE TOCANCIPA | G14: 26 | H14: 09 | I14: 2012 | J14: =VLOOKUP(K14,$N$138:$O$155,2,0) -> CARLOS ENRIQUE DELGADO RUEDA | K14: GERENTE DE EDUCACION | L14: Cumple | M14: Cumple | N14: Cumple | O14: Cumple | P14: Cumple | Q14: Cumple | R14: Cumple | S14: Cumple | T14: No Aplica | U14: Cumple | X14: 3202864000 | Y14: GENERAL | AB14: =VLOOKUP(D14,[1]Hoja3!$A$2:$E$50,2,0) -> 01 | AE14: =+CONCATENATE("Proyecto: ",D14,";"," Nombre Ficha EBI: ",F14,"; ","Código SSEPI: ",E14,".") -> Proyecto: 01010101-Tocancipá por la calidad de la educación.; Nombre Ficha EBI: IMPLEMENTACION DE UN MODELO EDUCATIVO INNOVADOR EN EL MUNICIPIO DE TOCANCIPA; Código SSEPI: 2012-25817-0023. | AJ14: =VLOOKUP(D14,[1]Hoja3!$A$2:$E$50,5,0) -> 1
A15: =VLOOKUP(D15,$A$175:$G$224,2,0) -> 0101-Camino para la construcción de un ciudadano participativo, productivo y competitivo | B15: =VLOOKUP(D15,$A$175:$G$224,4,0) -> 010103-Apoyo al sistema educativo para una formación integral (con innovación e investigación científica) | C15: =VLOOKUP(D15,$A$175:$G$224,5,0) -> Promocionar la formación integral acorde con las necesidades del municipio. | D15: 01010301-Uso de las nuevas tecnologías de la información y la comunicación | E15: 2012-25817-0009 | F15: APLICACIÓN DEL USO DE LAS NUEVAS TECNOLOGIAS DE LA INFORMACION Y LAS COMUNICACIONES EN EL MUNICIPIO DE TOCANCIPA | G15: 3 | H15: 08 | I15: 2012 | J15: =VLOOKUP(K15,$N$138:$O$155,2,0) -> CARLOS ENRIQUE DELGADO RUEDA | K15: GERENTE DE EDUCACION | L15: Cumple | M15: Cumple | N15: Cumple | O15: Cumple | P15: Cumple | Q15: Cumple | R15: Cumple | S15: Cumple | T15: No Aplica | U15: Cumple | X15: 5566000000 | Y15: GENERAL | AB15: =VLOOKUP(D15,[1]Hoja3!$A$2:$E$50,2,0) -> 04 | AE15: =+CONCATENATE("Proyecto: ",D15,";"," Nombre Ficha EBI: ",F15,"; ","Código SSEPI: ",E15,".") -> Proyecto: 01010301-Uso de las nuevas tecnologías de la información y la comunicación; Nombre Ficha EBI: APLICACIÓN DEL USO DE LAS NUEVAS TECNOLOGIAS DE LA INFORMACION Y LAS COMUNICACIONES EN EL MUNICIPIO DE TOCANCIPA; Código SSEPI: 2012-25817-0009. | AJ15: =VLOOKUP(D15,[1]Hoja3!$A$2:$E$50,5,0) -> 1
A16: =VLOOKUP(D16,$A$175:$G$224,2,0) -> 0101-Camino para la construcción de un ciudadano participativo, productivo y competitivo | B16: =VLOOKUP(D16,$A$175:$G$224,4,0) -> 010103-Apoyo al sistema educativo para una formación integral (con innovación e investigación científica) | C16: =VLOOKUP(D16,$A$175:$G$224,5,0) -> Promocionar la formación integral acorde con las necesidades del municipio. | D16: 01010302-Innovación y tecnología; herramientas para el desarrollo. | E16: 2012-25817-0024 | F16: IMPLEMENTACION DE LA INNOVACION Y LA TECNOLOGIA COMO HERRAMIENTAS PARA EL DESARROLLO EN EL MUNICIPIO DE TOCANCIPA | G16: 26 | H16: 09 | I16: 2012 | J16: =VLOOKUP(K16,$N$138:$O$155,2,0) -> CARLOS ENRIQUE DELGADO RUEDA | K16: GERENTE DE EDUCACION | L16: Cumple | M16: Cumple | N16: Cumple | O16: Cumple | P16: Cumple | Q16: Cumple | R16: Cumple | S16: Cumple | T16: No Aplica | U16: Cumple | X16: 4634000000 | Y16: GENERAL | AB16: =VLOOKUP(D16,[1]Hoja3!$A$2:$E$50,2,0) -> 05 | AE16: =+CONCATENATE("Proyecto: ",D16,";"," Nombre Ficha EBI: ",F16,"; ","Código SSEPI: ",E16,".") -> Proyecto: 01010302-Innovación y tecnología; herramientas para el desarrollo.; Nombre Ficha EBI: IMPLEMENTACION DE LA INNOVACION Y LA TECNOLOGIA COMO HERRAMIENTAS PARA EL DESARROLLO EN EL MUNICIPIO DE TOCANCIPA; Código SSEPI: 2012-25817-0024. | AJ16: =VLOOKUP(D16,[1]Hoja3!$A$2:$E$50,5,0) -> 1
... A50: =VLOOKUP(D50,$A$175:$G$224,2,0) -> 0102-Bienestar y Calidad de Vida a través de servicios de salud eficientes y oportuno | B50: =VLOOKUP(D50,$A$175:$G$224,4,0) -> 010203-Salud pública y promoción social. | C50: =VLOOKUP(D50,$A$175:$G$224,5,0) -> Promover la prevecnión, la responsabilidad y el control de consumo de sustancias alucinógenas. | D50: 01020302-Salud pública con inspección, vigilancia y control. | E50: 2012-25817-0046 | F50: MEJORAMIENTO EN SALUD PÚBLICA CON PROMOCION SOCIAL EN TOCANCIPÁ DEPARTAMENTO DE CUNDINAMARCA, COLOMBIA | G50: 5 | H50: 09 | I50: 2012 | J50: =VLOOKUP(K50,$N$138:$O$155,2,0) -> MONICA DEL PILAR MONTERO PEREZ | K50: GERENTE DE SALUD | L50: Cumple | M50: Cumple | N50: Cumple | O50: 0-0 | P50: 0-0 | Q50: 0-0 | R50: 0-0 | S50: 0-0 | T50: No Aplica | U50: 0-0 | X50: 518791125 | Y50: GENERAL | AB50: =VLOOKUP(D50,[1]Hoja3!$A$2:$E$50,2,0) -> 12 | AE50: =+CONCATENATE("Proyecto: ",D50,";"," Nombre Ficha EBI: ",F50,"; ","Código SSEPI: ",E50,".") -> Proyecto: 01020302-Salud pública con inspección, vigilancia y control.; Nombre Ficha EBI: MEJORAMIENTO EN SALUD PÚBLICA CON PROMOCION SOCIAL EN TOCANCIPÁ DEPARTAMENTO DE CUNDINAMARCA, COLOMBIA; Código SSEPI: 2012-25817-0046. | AJ50: =VLOOKUP(D50,[1]Hoja3!$A$2:$E$50,5,0) -> 2
A51: 0104-Nuevos Vientos Culturales y Turísticos | B51: 010402-Tocancipá atractivo turístico. | C51: Potencializar el turismo en el municipio. | D51: 01040201-Tocancipá atractivo turístico. | E51: 2012-25817-0047 | F51: FORMULACIÒN E IMPLEMENTACIÒN DEL PLAN SECTORIAL DE TURISMO EN EL MUNICIPIO DE TOCANCIPÀ, DPTO DE CUNDINAMARCA COLOMBIA | G51: 18 | H51: 03 | I51: 2013 | J51: GERMAN HERNANDEZ CASTRO | K51: GERENTE DE CULTURA Y TURISMO | L51: Cumple | M51: Cumple | N51: Cumple | O51: Cumple | P51: Cumple | Q51: Cumple | R51: Cumple | S51: Cumple | T51: No Aplica | U51: Cumple | X51: 735000000 | Y51: GENERAL | AB51: =VLOOKUP(D51,[1]Hoja3!$A$2:$E$50,2,0) -> 18 | AE51: =+CONCATENATE("Proyecto: ",D51,";"," Nombre Ficha EBI: ",F51,"; ","Código SSEPI: ",E51,".") -> Proyecto: 01040201-Tocancipá atractivo turístico.; Nombre Ficha EBI: FORMULACIÒN E IMPLEMENTACIÒN DEL PLAN SECTORIAL DE TURISMO EN EL MUNICIPIO DE TOCANCIPÀ, DPTO DE CUNDINAMARCA COLOMBIA; Código SSEPI: 2012-25817-0047. | AJ51: =VLOOKUP(D51,[1]Hoja3!$A$2:$E$50,5,0) -> 2
A52: =VLOOKUP(D52,$A$175:$G$224,2,0) -> 0401-Tocancipá sostenible y sustentable: Municipio proyectado y planificado a largo plazo | B52: =VLOOKUP(D52,$A$175:$G$224,4,0) -> 040104-Entorno sostenible / Agua potable y saneamiento básico | C52: =VLOOKUP(D52,$A$175:$G$224,5,0) -> Optimizar el servicio de acueducto y alcantarillado en el municipio de Tocancipá. | D52: 04010401-Agua potable y saneamiento básico para el municipio. | E52: 2012-25817-0048 | F52: CONSTRUCCIÓN DE LA PLANTA DE TRATAMIENTO DE AGUAS RESIDUALES EN EL CASCO URBANO DEL MUNICIPIO DE TOCANCIPA - CUNDINAMARCA | G52: 9 | H52: 11 | I52: 2012 | J52: =VLOOKUP(K52,$N$138:$O$155,2,0) -> JORGE ANDRES PORRAS VARGAS | K52: GERENTE EMPRESA DE SERVICIOS PUBLICOS | L52: 0-0 | M52: 0-0 | N52: 0-0 | O52: 0-0 | P52: 0-0 | Q52: 0-0 | R52: 0-0 | S52: 0-0 | T52: No Aplica | U52: 0-0 | X52: 9307999021 | Y52: ESPECÍFICO | Z52: a)MINISTERIO DE VIVIENDA, CIUDAD Y TERRITORIO DE COLOMBIA; b)CORPORACIÓN AUTÓNOMA REGIONAL DE CUNDINAMARCA - CAR
A53: =VLOOKUP(D53,$A$175:$G$224,2,0) -> 0104-Nuevos Vientos Culturales y Turísticos | B53: =VLOOKUP(D53,$A$175:$G$224,4,0) -> 010403-Red de bibliotecas | C53: =VLOOKUP(D53,$A$175:$G$224,5,0) -> Ampliar y fortalecer las bibliotecas del municipio, fomentando la cultura de la lectura. | D53: 01040301-Red de bibliotecas. | E53: 2012-25817-0049 | F53: FORMULACIÓN E IMPLEMENTACIÓN DEL PLAN DECENAL DE LECTURA, ESCRITURA Y BIBLIOTECAS EN EL MUNICIPIO DE TOCANCIPÁ, DPTO DE CUNDINAMARCA | G53: 27 | H53: 05 | I53: 2013 | J53: =VLOOKUP(K53,$N$138:$O$155,2,0) -> GERMAN HERNANDEZ CASTRO | K53: GERENTE DE CULTURA Y TURISMO | X53: 1070000000 | Y53: GENERAL | AB53: =VLOOKUP(D53,[1]Hoja3!$A$2:$E$50,2,0) -> 19 | AE53: =+CONCATENATE("Proyecto: ",D53,";"," Nombre Ficha EBI: ",F53,"; ","Código SSEPI: ",E53,".") -> Proyecto: 01040301-Red de bibliotecas.; Nombre Ficha EBI: FORMULACIÓN E IMPLEMENTACIÓN DEL PLAN DECENAL DE LECTURA, ESCRITURA Y BIBLIOTECAS EN EL MUNICIPIO DE TOCANCIPÁ, DPTO DE CUNDINAMARCA; Código SSEPI: 2012-25817-0049. | AJ53: =VLOOKUP(D53,[1]Hoja3!$A$2:$E$50,5,0) -> 2
A54: =VLOOKUP(D54,$A$175:$G$224,2,0) -> 0401-Tocancipá sostenible y sustentable: Municipio proyectado y planificado a largo plazo | B54: =VLOOKUP(D54,$A$175:$G$224,4,0) -> 040103-Equipamiento para todos | C54: =VLOOKUP(D54,$A$175:$G$224,5,0) -> Mejorar y mantener la infraestructura pública municipal, representada en edificios públicos, Instituciones educativas, escenarios deportivos, salones comunales y parques. | D54: 04010301-Infraestructura al servicio de la comunidad | E54: 2013-25817-0001 | F54: CONSTRUCCIÓN Y ADECUACIÓN DEL ESTADIO MIGUEL DE IBARRA DEL MUNICIPIO DE TOCANCIPÁ - CUNDINAMARCA | G54: 22 | H54: 05 | I54: 2013 | J54: =VLOOKUP(K54,$N$138:$O$155,2,0) -> GUILLERMO LEON GUALTEROS ROCHA | K54: GERENTE DE FOMENTO DE LA INFRAESTRUCTURA | L54: 0-0 | M54: 0-0 | N54: 0-0 | O54: 0-0 | P54: 0-0 | Q54: 0-0 | R54: 0-0 | S54: 0-0 | T54: No Aplica | U54: 0-0 | X54: 4497724000 | Y54: ESPECÍFICO | Z54: DEPARTAMENTO ADMINISTRATIVO DEL DEPORTE, LA RECREACIÓN, LA ACTIVIDAD FÍSICA Y EL APROVECHAMIENTO DEL TIEMPO LIBRE - COLDEPORTES
A55: =VLOOKUP(D55,$A$175:$G$224,2,0) -> 0401-Tocancipá sostenible y sustentable: Municipio proyectado y planificado a largo plazo | B55: =VLOOKUP(D55,$A$175:$G$224,4,0) -> 040103-Equipamiento para todos | C55: =VLOOKUP(D55,$A$175:$G$224,5,0) -> Mejorar y mantener la infraestructura pública municipal, representada en edificios públicos, Instituciones educativas, escenarios deportivos, salones comunales y parques. | D55: 04010301-Infraestructura al servicio de la comunidad | E55: 2012-25817-0002 | F55: CONSTRUCCIÓN DE LA SEGUNDA ETAPA DE LA CIUDADELA CULTURAL DEL MUNICIPIO DE TOCANCIPÁ - CUNDINAMARCA | G55: 7 | H55: 06 | I55: 2013 | J55: =VLOOKUP(K55,$N$138:$O$155,2,0) -> GUILLERMO LEON GUALTEROS ROCHA | K55: GERENTE DE FOMENTO DE LA INFRAESTRUCTURA | L55: 0-0 | M55: 0-0 | N55: 0-0 | O55: 0-0 | P55: 0-0 | Q55: 0-0 | R55: 0-0 | S55: 0-0 | T55: No Aplica | U55: 0-0 | X55: 3.4792878e+10 | Y55: ESPECÍFICO | Z55: DEPARTAMENTO NACIONAL DE PLANEACIÓN - DNP
A56: =VLOOKUP(D56,$A$175:$G$224,2,0) -> 0401-Tocancipá sostenible y sustentable: Municipio proyectado y planificado a largo plazo | B56: =VLOOKUP(D56,$A$175:$G$224,4,0) -> 040102-Espacios que se entrelazan y entornos para soñar | C56: =VLOOKUP(D56,$A$175:$G$224,5,0) -> Desarrollar y recuperar espacios de turismo ecológico y paisajismo en el municipio de Tocancipá. | D56: 04010201-Construcción, adecuación y mantenimiento de la malla vial. | E56: 2013-25817-0003 | F56: REHABILITACIÓN DE LA VÍA TOCANCIPÁ - LA FUENTE (VÍA ALTERNA ENTRE TOCANCIPÁ Y ZIPAQUIRÁ) MUNICIPIO DE TOCANCIPÁ - DEPARTAMENTO DE CUNDINAMARCA | G56: 7 | H56: 06 | I56: 2013 | J56: =VLOOKUP(K56,$N$138:$O$155,2,0) -> GUILLERMO LEON GUALTEROS ROCHA | K56: GERENTE DE FOMENTO DE LA INFRAESTRUCTURA | L56: 0-0 | M56: 0-0 | N56: 0-0 | O56: 0-0 | P56: 0-0 | Q56: 0-0 | R56: 0-0 | S56: 0-0 | T56: No Aplica | U56: 0-0 | X56: 2387412000 | Y56: ESPECÍFICO | Z56: GOBERNACIÓN DE CUNDINAMARCA
A57: =VLOOKUP(D57,$A$175:$G$224,2,0) -> 0401-Tocancipá sostenible y sustentable: Municipio proyectado y planificado a largo plazo | B57: =VLOOKUP(D57,$A$175:$G$224,4,0) -> 040102-Espacios que se entrelazan y entornos para soñar | C57: =VLOOKUP(D57,$A$175:$G$224,5,0) -> Desarrollar y recuperar espacios de turismo ecológico y paisajismo en el municipio de Tocancipá. | D57: 04010201-Construcción, adecuación y mantenimiento de la malla vial. | E57: 2012-25817-0004 | F57: CONSTRUCCIÓN VÍA BUENOS AIRES ENTRE LA ESCUELA Y EL SECTOR MORALES EN EL MUNICIPIO DE TOCANCIPÁ - CUNDINAMARCA | G57: 14 | H57: 06 | I57: 2013 | J57: =VLOOKUP(K57,$N$138:$O$155,2,0) -> GUILLERMO LEON GUALTEROS ROCHA | K57: GERENTE DE FOMENTO DE LA INFRAESTRUCTURA | L57: 0-0 | M57: 0-0 | N57: 0-0 | O57: 0-0 | P57: 0-0 | Q57: 0-0 | R57: 0-0 | S57: 0-0 | T57: No Aplica | U57: 0-0 | X57: 4.7905955e+09 | Y57: ESPECÍFICO | Z57: DEPARTAMENTO PARA LA PROSPERIDAD SOCIAL - DPS
A58: =VLOOKUP(D58,$A$175:$G$224,2,0) -> 0401-Tocancipá sostenible y sustentable: Municipio proyectado y planificado a largo plazo | B58: =VLOOKUP(D58,$A$175:$G$224,4,0) -> 040102-Espacios que se entrelazan y entornos para soñar | C58: =VLOOKUP(D58,$A$175:$G$224,5,0) -> Desarrollar y recuperar espacios de turismo ecológico y paisajismo en el municipio de Tocancipá. | D58: 04010201-Construcción, adecuación y mantenimiento de la malla vial. | E58: 2013-25817-0005 | F58: MEJORAMIENTO DE LA CALLE 14B ENTRE CARRERAS 5E Y 6E, DE LA CARRERA 5E ENTRE CALLES 14B Y 14A Y LA CARRERA 2E ENTRE CALLES 14 Y 13B DEL MUNICIPIO DE TOCANCIPA - CUNDINAMARCA | G58: 24 | H58: 06 | I58: 2013 | J58: =VLOOKUP(K58,$N$138:$O$155,2,0) -> GUILLERMO LEON GUALTEROS ROCHA | K58: GERENTE DE FOMENTO DE LA INFRAESTRUCTURA | L58: 0-0 | M58: 0-0 | N58: 0-0 | O58: 0-0 | P58: 0-0 | Q58: 0-0 | R58: 0-0 | S58: 0-0 | T58: No Aplica | U58: 0-0 | X58: 105950000 | Y58: ESPECÍFICO | Z58: GOBERNACIÓN DE CUNDINAMARCA
A59: =VLOOKUP(D59,$A$175:$G$224,2,0) -> 0401-Tocancipá sostenible y sustentable: Municipio proyectado y planificado a largo plazo | B59: =VLOOKUP(D59,$A$175:$G$224,4,0) -> 040102-Espacios que se entrelazan y entornos para soñar | C59: =VLOOKUP(D59,$A$175:$G$224,5,0) -> Desarrollar y recuperar espacios de turismo ecológico y paisajismo en el municipio de Tocancipá. | D59: 04010201-Construcción, adecuación y mantenimiento de la malla vial. | E59: 2013-25817-0006 | F59: REHABILITACIÓN, MEJORAMIENTO Y ADECUACIÓN DE LA VÍA TRES ESQUINAS - CASABLANCA EN LA VEREDA EL PORVENIR DEL MUNICIPIO DE TOCANCIPÁ, CUNDINAMARCA, CENTRO ORIENTE | G59: 23 | H59: 07 | I59: 2013 | J59: =VLOOKUP(K59,$N$138:$O$155,2,0) -> GUILLERMO LEON GUALTEROS ROCHA | K59: GERENTE DE FOMENTO DE LA INFRAESTRUCTURA | L59: 0-0 | M59: 0-0 | N59: 0-0 | O59: 0-0 | P59: 0-0 | Q59: 0-0 | R59: 0-0 | S59: 0-0 | T59: No Aplica | U59: 0-0 | X59: 9.893596e+09 | Y59: ESPECÍFICO | Z59: INSTITUTO NACIONAL DE VÍAS –INVÍAS– | AA59: DEVUELTO POR FALTA DE INCLUSIÓN EN EL PROGRAMA VÍAS PARA LA PROSPERIDAD.
A60: =VLOOKUP(D60,$A$175:$G$224,2,0) -> 0401-Tocancipá sostenible y sustentable: Municipio proyectado y planificado a largo plazo | B60: =VLOOKUP(D60,$A$175:$G$224,4,0) -> 040103-Equipamiento para todos | C60: =VLOOKUP(D60,$A$175:$G$224,5,0) -> Mejorar y mantener la infraestructura pública municipal, representada en edificios públicos, Instituciones educativas, escenarios deportivos, salones comunales y parques. | D60: 04010301-Infraestructura al servicio de la comunidad | E60: 2013-25817-0007 | F60: CONSTRUCCIÓN DE LA SEDE DE EDUCACIÓN BÁSICA SECUNDARIA Y MEDIA PARA LA INSTITUCIÓN EDUCATIVA LA FUENTE EN EL MUNICIPIO DE TOCANCIPÁ - CUNDINAMARCA | G60: 26 | H60: 07 | I60: 2013 | J60: =VLOOKUP(K60,$N$138:$O$155,2,0) -> GUILLERMO LEON GUALTEROS ROCHA | K60: GERENTE DE FOMENTO DE LA INFRAESTRUCTURA | L60: 0-0 | M60: 0-0 | N60: 0-0 | O60: 0-0 | P60: 0-0 | Q60: 0-0 | R60: 0-0 | S60: 0-0 | T60: No Aplica | U60: 0-0 | X60: 8601640960 | Y60: ESPECÍFICO | Z60: GOBERNACIÓN DE CUNDINAMARCA
A61: =VLOOKUP(D61,$A$175:$G$224,2,0) -> 0301-Espacios Verdes: Herencia para nuestros hijos | B61: =VLOOKUP(D61,$A$175:$G$224,4,0) -> 030105-Agua sustento de vida | C61: =VLOOKUP(D61,$A$175:$G$224,5,0) -> Preservar fuentes hídricas. | D61: 03010501-Manejo y recuperación del sistema hídrico. | E61: 2013-25817-0008 | F61: RECUPERACIÓN Y DISMINUCIÓN DEL RIESGO EN ÁREAS DE ZONAS DE QUEBRADAS Y VALLADOS EN EL MUNICIPIO DE TOCANCIPÁ, CUNDINAMARCA | G61: 6 | H61: 08 | I61: 2013 | J61: =VLOOKUP(K61,$N$138:$O$155,2,0) -> JORGE SARMIENTO TELLEZ | K61: GERENTE DE MEDIO AMBIENTE | L61: 0-0 | M61: 0-0 | N61: 0-0 | O61: 0-0 | P61: 0-0 | Q61: 0-0 | R61: 0-0 | S61: 0-0 | T61: No Aplica | U61: 0-0 | X61: 2000000000 | Y61: ESPECÍFICO | Z61: a)CORPORACIÓN AUTÓNOMA REGIONAL DE CUNDINAMARCA - CAR; b)UNIDAD NACIONAL PARA LA GESTION DEL RIESGO DE DESASTRES - “UNGRD”
A62: =VLOOKUP(D62,$A$175:$G$224,2,0) -> 0401-Tocancipá sostenible y sustentable: Municipio proyectado y planificado a largo plazo | B62: =VLOOKUP(D62,$A$175:$G$224,4,0) -> 040102-Espacios que se entrelazan y entornos para soñar | C62: =VLOOKUP(D62,$A$175:$G$224,5,0) -> Desarrollar y recuperar espacios de turismo ecológico y paisajismo en el municipio de Tocancipá. | D62: 04010201-Construcción, adecuación y mantenimiento de la malla vial. | E62: 2013-25817-0009 | F62: CONSTRUCCIÓN EN PLACA HUELLA DE LA VIA DE LA VEREDA LA FUENTE, SECTOR ABRAHAM BRAVO DEL MUNICIPIO DE TOCANCIPÁ | G62: 12 | H62: 08 | I62: 2013 | J62: =VLOOKUP(K62,$N$138:$O$155,2,0) -> GUILLERMO LEON GUALTEROS ROCHA | K62: GERENTE DE FOMENTO DE LA INFRAESTRUCTURA | L62: 0-0 | M62: 0-0 | N62: 0-0 | O62: 0-0 | P62: 0-0 | Q62: 0-0 | R62: 0-0 | S62: 0-0 | T62: No Aplica | U62: 0-0 | X62: 538175438 | Y62: ESPECÍFICO | Z62: GOBERNACIÓN DE CUNDINAMARCA
A63: =VLOOKUP(D63,$A$175:$G$224,2,0) -> 0301-Espacios Verdes: Herencia para nuestros hijos | B63: =VLOOKUP(D63,$A$175:$G$224,4,0) -> 030105-Agua sustento de vida | C63: =VLOOKUP(D63,$A$175:$G$224,5,0) -> Preservar fuentes hídricas. | D63: 03010501-Manejo y recuperación del sistema hídrico. | E63: 2013-25817-0010 | F63: MANTENIMIENTO Y CONSERVACIÓN DEL RÍO BOGOTÁ Y SUS JARILLONES EN EL MUNICIPIO DE TOCANCIPÁ, CUNDINAMARCA, CENTRO ORIENTE | G63: 4 | H63: 09 | I63: 2013 | J63: =VLOOKUP(K63,$N$138:$O$155,2,0) -> JORGE SARMIENTO TELLEZ | K63: GERENTE DE MEDIO AMBIENTE | L63: 0-0 | M63: 0-0 | N63: 0-0 | O63: 0-0 | P63: 0-0 | Q63: 0-0 | R63: 0-0 | S63: 0-0 | T63: No Aplica | U63: 0-0 | X63: 10400000000 | Y63: ESPECÍFICO | Z63: a)CORPORACIÓN AUTÓNOMA REGIONAL DE CUNDINAMARCA - CAR; b)UNIDAD NACIONAL PARA LA GESTION DEL RIESGO DE DESASTRES - “UNGRD”
A64: =VLOOKUP(D64,$A$175:$G$224,2,0) -> 0401-Tocancipá sostenible y sustentable: Municipio proyectado y planificado a largo plazo | B64: =VLOOKUP(D64,$A$175:$G$224,4,0) -> 040103-Equipamiento para todos | C64: =VLOOKUP(D64,$A$175:$G$224,5,0) -> Mejorar y mantener la infraestructura pública municipal, representada en edificios públicos, Instituciones educativas, escenarios deportivos, salones comunales y parques. | D64: 04010302-Infraestructura institucional | E64: 2013-25817-0011 | F64: ADECUACIÓN Y MEJORAMIENTO DE LOS CAMPOS DEPORTIVOS UBICADOS EN LAS VEREDAS LA ESMERALDA Y EL PORVENIR DEL MUNICIPIO DE TOCANCIPÁ, CUNDINAMARCA, CENTRO ORIENTE | G64: 10 | H64: 09 | I64: 2013 | J64: =VLOOKUP(K64,$N$138:$O$155,2,0) -> GUILLERMO LEON GUALTEROS ROCHA | K64: GERENTE DE FOMENTO DE LA INFRAESTRUCTURA | L64: 0-0 | M64: 0-0 | N64: 0-0 | O64: 0-0 | P64: 0-0 | Q64: 0-0 | R64: 0-0 | S64: 0-0 | T64: No Aplica | U64: 0-0 | X64: 5.9997784e+08 | Y64: ESPECÍFICO | Z64: DEPARTAMENTO ADMINISTRATIVO DEL DEPORTE, LA RECREACIÓN, LA ACTIVIDAD FÍSICA Y EL APROVECHAMIENTO DEL TIEMPO LIBRE - COLDEPORTES
A65: =VLOOKUP(D65,$A$175:$G$224,2,0) -> 0101-Camino para la construcción de un ciudadano participativo, productivo y competitivo | B65: =VLOOKUP(D65,$A$175:$G$224,4,0) -> 010103-Apoyo al sistema educativo para una formación integral (con innovación e investigación científica) | C65: =VLOOKUP(D65,$A$175:$G$224,5,0) -> Promocionar la formación integral acorde con las necesidades del municipio. | D65: 01010301-Uso de las nuevas tecnologías de la información y la comunicación | E65: 2013-25817-0012 | F65: IMPLEMENTACIÓN DE LAS AULAS INTELIGENTES DE LAS INSTITUCIONES EDUCATIVAS PÚBLICAS DEL MUNICIPIO DE TOCANCIPÁ, CUNDINAMARCA, CENTRO ORIENTE | G65: 16 | H65: 09 | I65: 2013 | J65: =VLOOKUP(K65,$N$138:$O$155,2,0) -> CARLOS ENRIQUE DELGADO RUEDA | K65: GERENTE DE EDUCACION | L65: 0-0 | M65: 0-0 | N65: 0-0 | O65: 0-0 | P65: 0-0 | Q65: 0-0 | R65: 0-0 | S65: 0-0 | T65: No Aplica | U65: 0-0 | X65: 14334500000 | Y65: ESPECÍFICO | Z65: SECRETARÍA TÉCNICA OCAD FONDO CTeI DEL SGR - COLCIENCIAS
A66: =VLOOKUP(D66,$A$175:$G$224,2,0) -> 0401-Tocancipá sostenible y sustentable: Municipio proyectado y planificado a largo plazo | B66: =VLOOKUP(D66,$A$175:$G$224,4,0) -> 040104-Entorno sostenible / Agua potable y saneamiento básico | C66: =VLOOKUP(D66,$A$175:$G$224,5,0) -> Optimizar el servicio de acueducto y alcantarillado en el municipio de Tocancipá. | D66: 04010401-Agua potable y saneamiento básico para el municipio. | E66: 2013-25817-0013 | F66: CONSTRUCCIÓN DE LA FASE II DEL SISTEMA DE ALCANTARILLADO (PLUVIAL) DE LA VEREDA VERGANZO, MUNICIPIO DE TOCANCIPÁ – CUNDINAMARCA | G66: 16 | H66: 09 | I66: 2013 | J66: =VLOOKUP(K66,$N$138:$O$155,2,0) -> JORGE ANDRES PORRAS VARGAS | K66: GERENTE EMPRESA DE SERVICIOS PUBLICOS | L66: 0-0 | M66: 0-0 | N66: 0-0 | O66: 0-0 | P66: 0-0 | Q66: 0-0 | R66: 0-0 | S66: 0-0 | T66: No Aplica | U66: 0-0 | X66: 1.6078377e+10 | Y66: ESPECÍFICO | Z66: MINISTERIO DE VIVIENDA, CIUDAD Y TERRITORIO DE COLOMBIA
A67: =VLOOKUP(D67,$A$175:$G$224,2,0) -> 0401-Tocancipá sostenible y sustentable: Municipio proyectado y planificado a largo plazo | B67: =VLOOKUP(D67,$A$175:$G$224,4,0) -> 040102-Espacios que se entrelazan y entornos para soñar | C67: =VLOOKUP(D67,$A$175:$G$224,5,0) -> Desarrollar y recuperar espacios de turismo ecológico y paisajismo en el municipio de Tocancipá. | D67: 04010201-Construcción, adecuación y mantenimiento de la malla vial. | E67: 2013-25817-0014 | F67: CONSTRUCCIÓN EN PLACA HUELLA DE LA VÍA CAMINO DEL GONE, SECTOR SAN MIGUEL, DE LA VEREDA LA FUENTE MUNICIPIO DE TOCANCIPÁ, CUNDINAMARCA, CENTRO ORIENTE | G67: 10 | H67: 10 | I67: 2013 | J67: =VLOOKUP(K67,$N$138:$O$155,2,0) -> GUILLERMO LEON GUALTEROS ROCHA | K67: GERENTE DE FOMENTO DE LA INFRAESTRUCTURA | L67: 0-0 | M67: 0-0 | N67: 0-0 | O67: 0-0 | P67: 0-0 | Q67: 0-0 | R67: 0-0 | S67: 0-0 | T67: No Aplica | U67: 0-0 | X67: =360596224.17+20000000 -> 3.8059622e+08 | Y67: ESPECÍFICO | Z67: INSTITUTO NACIONAL DE VÍAS –INVÍAS–
A68: =VLOOKUP(D68,$A$175:$G$224,2,0) -> 0401-Tocancipá sostenible y sustentable: Municipio proyectado y planificado a largo plazo | B68: =VLOOKUP(D68,$A$175:$G$224,4,0) -> 040102-Espacios que se entrelazan y entornos para soñar | C68: =VLOOKUP(D68,$A$175:$G$224,5,0) -> Desarrollar y recuperar espacios de turismo ecológico y paisajismo en el municipio de Tocancipá. | D68: 04010201-Construcción, adecuación y mantenimiento de la malla vial. | E68: 2013-25817-0015 | F68: DEMARCACIÓN Y SEÑALIZACIÓN VÍAL DE LA RED SECUNDARIA DE LAS VÍAS TOCANCIPÁ – LA FUENTE Y LA GLORIETA ENTRADA TERMOZIPA HASTA EL CRUCE VÍA ZIPAQUIRÁ BRICEÑO MUNICIPIO DE TOCANCIPA - CUNDINAMARCA | G68: 10 | H68: 10 | I68: 2013 | J68: =VLOOKUP(K68,$N$138:$O$155,2,0) -> GUILLERMO LEON GUALTEROS ROCHA | K68: GERENTE DE FOMENTO DE LA INFRAESTRUCTURA | L68: 0-0 | M68: 0-0 | N68: 0-0 | O68: 0-0 | P68: 0-0 | Q68: 0-0 | R68: 0-0 | S68: 0-0 | T68: No Aplica | U68: 0-0 | X68: =294000.002*1000 -> 294000002 | Y68: ESPECÍFICO | Z68: GOBERNACIÓN DE CUNDINAMARCA
A69: =VLOOKUP(D69,$A$175:$G$224,2,0) -> 0401-Tocancipá sostenible y sustentable: Municipio proyectado y planificado a largo plazo | B69: =VLOOKUP(D69,$A$175:$G$224,4,0) -> 040103-Equipamiento para todos | C69: =VLOOKUP(D69,$A$175:$G$224,5,0) -> Mejorar y mantener la infraestructura pública municipal, representada en edificios públicos, Instituciones educativas, escenarios deportivos, salones comunales y parques. | D69: 04010302-Infraestructura institucional | E69: 2013-25817-0016 | F69: CONSTRUCCIÓN DEL RESTAURANTE ESCOLAR INSTITUCIÓN EDUCATIVA DEPARTAMENTAL DE BACHILLERATO TÉCNICO COMERCIAL, EN EL ÁREA URBANA DEL MUNICIPIO DE TOCANCIPÁ - CUNDINAMARCA | G69: 22 | H69: 10 | I69: 2013 | J69: =VLOOKUP(K69,$N$138:$O$155,2,0) -> GUILLERMO LEON GUALTEROS ROCHA | K69: GERENTE DE FOMENTO DE LA INFRAESTRUCTURA | L69: 0-0 | M69: 0-0 | N69: 0-0 | O69: 0-0 | P69: 0-0 | Q69: 0-0 | R69: 0-0 | S69: 0-0 | T69: No Aplica | U69: 0-0 | X69: =936000000+20000000 -> 956000000 | Y69: ESPECÍFICO | Z69: GOBERNACIÓN DE CUNDINAMARCA
A70: =VLOOKUP(D70,$A$175:$G$224,2,0) -> 0401-Tocancipá sostenible y sustentable: Municipio proyectado y planificado a largo plazo | B70: =VLOOKUP(D70,$A$175:$G$224,4,0) -> 040103-Equipamiento para todos | C70: =VLOOKUP(D70,$A$175:$G$224,5,0) -> Mejorar y mantener la infraestructura pública municipal, representada en edificios públicos, Instituciones educativas, escenarios deportivos, salones comunales y parques. | D70: 04010302-Infraestructura institucional | E70: 2013-25817-0017 | F70: CONSTRUCCIÓN CUBIERTA PARA POLIDEPORTIVO VEREDA CANAVITA PARTE ALTA EN EL SECTOR BUENOS AIRES DEL MUNICIPIO DE TOCANCIPA CUNDINAMARCA | G70: 22 | H70: 10 | I70: 2013 | J70: =VLOOKUP(K70,$N$138:$O$155,2,0) -> GUILLERMO LEON GUALTEROS ROCHA | K70: GERENTE DE FOMENTO DE LA INFRAESTRUCTURA | L70: 0-0 | M70: 0-0 | N70: 0-0 | O70: 0-0 | P70: 0-0 | Q70: 0-0 | R70: 0-0 | S70: 0-0 | T70: No Aplica | U70: 0-0 | X70: =353679836+24757589 -> 378437425 | Y70: ESPECÍFICO | Z70: DEPARTAMENTO ADMINISTRATIVO DEL DEPORTE, LA RECREACIÓN, LA ACTIVIDAD FÍSICA Y EL APROVECHAMIENTO DEL TIEMPO LIBRE - COLDEPORTES
A71: =VLOOKUP(D71,$A$175:$G$224,2,0) -> 0401-Tocancipá sostenible y sustentable: Municipio proyectado y planificado a largo plazo | B71: =VLOOKUP(D71,$A$175:$G$224,4,0) -> 040103-Equipamiento para todos | C71: =VLOOKUP(D71,$A$175:$G$224,5,0) -> Mejorar y mantener la infraestructura pública municipal, representada en edificios públicos, Instituciones educativas, escenarios deportivos, salones comunales y parques. | D71: 04010302-Infraestructura institucional | E71: 2013-25817-0018 | F71: CONSTRUCCIÓN DE CUBIERTA PARA EL POLIDEPORTIVO DE LA VEREDA VERGAZO EN EL SECTOR MILENIUM III DEL MUNICIPIO DE TOCANCIPA CUNDINAMARCA | G71: 22 | H71: 10 | I71: 2013 | J71: =VLOOKUP(K71,$N$138:$O$155,2,0) -> GUILLERMO LEON GUALTEROS ROCHA | K71: GERENTE DE FOMENTO DE LA INFRAESTRUCTURA | L71: 0-0 | M71: 0-0 | N71: 0-0 | O71: 0-0 | P71: 0-0 | Q71: 0-0 | R71: 0-0 | S71: 0-0 | T71: No Aplica | U71: 0-0 | X71: =390361796+27325326 -> 417687122 | Y71: ESPECÍFICO | Z71: DEPARTAMENTO ADMINISTRATIVO DEL DEPORTE, LA RECREACIÓN, LA ACTIVIDAD FÍSICA Y EL APROVECHAMIENTO DEL TIEMPO LIBRE - COLDEPORTES
A72: =VLOOKUP(D72,$A$175:$G$224,2,0) -> 0401-Tocancipá sostenible y sustentable: Municipio proyectado y planificado a largo plazo | B72: =VLOOKUP(D72,$A$175:$G$224,4,0) -> 040104-Entorno sostenible / Agua potable y saneamiento básico | C72: =VLOOKUP(D72,$A$175:$G$224,5,0) -> Optimizar el servicio de acueducto y alcantarillado en el municipio de Tocancipá. | D72: 04010401-Agua potable y saneamiento básico para el municipio. | E72: 2013-25817-0019 | F72: CONSTRUCCIÓN ALCANTARILLADO SANITARIO COLECTOR VERGANZO DEL MUNICIPIO DE TOCANCIPÁ | G72: 22 | H72: 10 | I72: 2013 | J72: =VLOOKUP(K72,$N$138:$O$155,2,0) -> JORGE ANDRES PORRAS VARGAS | K72: GERENTE EMPRESA DE SERVICIOS PUBLICOS | L72: 0-0 | M72: 0-0 | N72: 0-0 | O72: 0-0 | P72: 0-0 | Q72: 0-0 | R72: 0-0 | S72: 0-0 | T72: No Aplica | U72: 0-0 | X72: 1674649001 | Y72: ESPECÍFICO | Z72: CORPORACIÓN AUTÓNOMA REGIONAL DE CUNDINAMARCA - CAR
A73: =VLOOKUP(D73,$A$175:$G$224,2,0) -> 0601-Transparencia y participación ciudadana: eje de una gestión pública eficiente | B73: =VLOOKUP(D73,$A$175:$G$224,4,0) -> 060104-Tocancipá participativa / Juntas de acción comunal, voces de la comunidad / Principio para el cambio | C73: =VLOOKUP(D73,$A$175:$G$224,5,0) -> Propiciar espacios de participación ciudadana en Tocancipá. | D73: 06010401-Participación activa de las juntas de acción comunal. | E73: 2014-25817-0001 | F73: ASISTENCIA A LA PARTICIPACIÓN ACTIVA DE LAS JUNTAS DE ACCIÓN COMUNAL DEL MUNICIPIO DE TOCANCIPÁ. | G73: 0-0 | H73: 0-0 | I73: 0-0 | J73: =VLOOKUP(K73,$N$138:$O$155,2,0) -> 0-0 | K73: 0-0 | L73: 0-0 | M73: 0-0 | N73: 0-0 | O73: 0-0 | P73: 0-0 | Q73: 0-0 | R73: 0-0 | S73: 0-0 | T73: No Aplica | U73: 0-0 | Y73: GENERAL | AB73: =VLOOKUP(D73,[1]Hoja3!$A$2:$E$50,2,0) -> 48 | AE73: =+CONCATENATE("Proyecto: ",D73,";"," Nombre Ficha EBI: ",F73,"; ","Código SSEPI: ",E73,".") -> Proyecto: 06010401-Participación activa de las juntas de acción comunal.; Nombre Ficha EBI: ASISTENCIA A LA PARTICIPACIÓN ACTIVA DE LAS JUNTAS DE ACCIÓN COMUNAL DEL MUNICIPIO DE TOCANCIPÁ.; Código SSEPI: 2014-25817-0001. | AJ73: =VLOOKUP(D73,[1]Hoja3!$A$2:$E$50,5,0) -> 0
A74: =VLOOKUP(D74,$A$175:$G$224,2,0) -> 0401-Tocancipá sostenible y sustentable: Municipio proyectado y planificado a largo plazo | B74: =VLOOKUP(D74,$A$175:$G$224,4,0) -> 040103-Equipamiento para todos | C74: =VLOOKUP(D74,$A$175:$G$224,5,0) -> Mejorar y mantener la infraestructura pública municipal, representada en edificios públicos, Instituciones educativas, escenarios deportivos, salones comunales y parques. | D74: 04010301-Infraestructura al servicio de la comunidad | E74: 2014-25817-0002 | F74: DOTACIÓN DE LA CASA DE CONVIVENCIA Y SEGURIDAD DEL MUNICIPIO DE TOCANCIPÁ, CUNDINAMARCA, CENTRO ORIENTE | G74: 26 | H74: 05 | I74: 2014 | J74: =VLOOKUP(K74,$N$138:$O$155,2,0) -> GUILLERMO LEON GUALTEROS ROCHA | K74: GERENTE DE FOMENTO DE LA INFRAESTRUCTURA | L74: 0-0 | M74: 0-0 | N74: 0-0 | O74: 0-0 | P74: 0-0 | Q74: 0-0 | R74: 0-0 | S74: 0-0 | T74: No Aplica | U74: 0-0 | Y74: ESPECÍFICO | Z74: MINISTERIO DE JUSTICIA
A75: =VLOOKUP(D75,$A$175:$G$224,2,0) -> 0401-Tocancipá sostenible y sustentable: Municipio proyectado y planificado a largo plazo | B75: =VLOOKUP(D75,$A$175:$G$224,4,0) -> 040102-Espacios que se entrelazan y entornos para soñar | C75: =VLOOKUP(D75,$A$175:$G$224,5,0) -> Desarrollar y recuperar espacios de turismo ecológico y paisajismo en el municipio de Tocancipá. | D75: 04010201-Construcción, adecuación y mantenimiento de la malla vial. | E75: 2014-25817-0003 | F75: REHABILITACIÓN DE LA VÍA TOCANCIPÁ - ZIPAQUIRÁ, ETAPA II (VEREDA LA FUENTE) DEL MUNICIPIO DE TOCANCIPÁ, CUNDINAMARCA, CENTRO ORIENTE | G75: 24 | H75: 07 | I75: 2014 | J75: =VLOOKUP(K75,$N$138:$O$155,2,0) -> GUILLERMO LEON GUALTEROS ROCHA | K75: GERENTE DE FOMENTO DE LA INFRAESTRUCTURA | L75: 0-0 | M75: 0-0 | N75: 0-0 | O75: 0-0 | P75: 0-0 | Q75: 0-0 | R75: 0-0 | S75: 0-0 | T75: No Aplica | U75: 0-0 | X75: 1500000000 | Y75: ESPECÍFICO | Z75: GOBERNACIÓN DE CUNDINAMARCA - ICCU
A76: =VLOOKUP(D76,$A$175:$G$224,2,0) -> 0401-Tocancipá sostenible y sustentable: Municipio proyectado y planificado a largo plazo | B76: =VLOOKUP(D76,$A$175:$G$224,4,0) -> 040103-Equipamiento para todos | C76: =VLOOKUP(D76,$A$175:$G$224,5,0) -> Mejorar y mantener la infraestructura pública municipal, representada en edificios públicos, Instituciones educativas, escenarios deportivos, salones comunales y parques. | D76: 04010302-Infraestructura institucional | E76: 2014-25817-0004 | F76: AMPLIACIÓN Y MODIFICACIÓN DEL COMPLEJO MULTIPROPÓSITO PARA EL BIENESTAR, DEL CENTRO DE SERVICIOS COMUNALES DEL MUNICIPIO DE TOCANCIPÁ, CUNDINAMARCA | G76: 29 | H76: 09 | I76: 2014 | J76: =VLOOKUP(K76,$N$138:$O$155,2,0) -> GUILLERMO LEON GUALTEROS ROCHA | K76: GERENTE DE FOMENTO DE LA INFRAESTRUCTURA | L76: 0-0 | M76: 0-0 | N76: 0-0 | O76: 0-0 | P76: 0-0 | Q76: 0-0 | R76: 0-0 | S76: 0-0 | T76: No Aplica | U76: Cumple | X76: 2.009559e+09 | Y76: ESPECÍFICO | Z76: GOBERNACIÓN DE CUNDINAMARCA - ICCU
A77: =VLOOKUP(D77,$A$175:$G$224,2,0) -> 0501-Por una Tocancipá Productiva y Competitiva | B77: =VLOOKUP(D77,$A$175:$G$224,4,0) -> 050102-Espacios y condiciones para fomentar la microempresa con tecnologías de vanguardia. | C77: =VLOOKUP(D77,$A$175:$G$224,5,0) -> Crear espacios para el emprendimiento y generar condiciones favorables para el desarrollo y fomento de la microempresa. | D77: 05010201-Gestión para el desarrollo competitivo. | E77: 2012-25817-0005 | F77: APOYO EN EL PROYECTO DE TRASNFORMACIÓN Y COMERCIALIZACIÓN DE PRODUCTOS DE SOYA EN EL MUNICIPIO DE TOCANCIPÁ, CUNDINAMARCA. | G77: 28 | H77: 10 | I77: 2014 | J77: =VLOOKUP(K77,$N$138:$O$155,2,0) -> FRANCISCO RODRIGUEZ SANTOS | K77: GERENTE DE DESARROLLO ECONOMICO | L77: 0-0 | M77: 0-0 | N77: 0-0 | O77: 0-0 | P77: 0-0 | Q77: 0-0 | R77: 0-0 | S77: 0-0 | T77: No Aplica | U77: 0-0 | X77: 22391000 | Y77: ESPECÍFICO | Z77: GOBERNACIÓN DE CUNDINAMARCA - SECRETARIA DE COMPETITIVIDAD Y DESARROLLO ECONÓMICO
A78: =VLOOKUP(D78,$A$175:$G$224,2,0) -> 0401-Tocancipá sostenible y sustentable: Municipio proyectado y planificado a largo plazo | B78: =VLOOKUP(D78,$A$175:$G$224,4,0) -> 040102-Espacios que se entrelazan y entornos para soñar | C78: =VLOOKUP(D78,$A$175:$G$224,5,0) -> Desarrollar y recuperar espacios de turismo ecológico y paisajismo en el municipio de Tocancipá. | D78: 04010201-Construcción, adecuación y mantenimiento de la malla vial. | E78: 2012-25817-0006 | F78: DEMARCACIÓN Y SEÑALIZACIÓN DE VÍAS URBANAS Y RURALES DEL MUNICIPIO DE TOCANCIPÁ - CUNDINAMARCA | G78: 3 | H78: 12 | I78: 2014 | J78: =VLOOKUP(K78,$N$138:$O$155,2,0) -> GUILLERMO LEON GUALTEROS ROCHA | K78: GERENTE DE FOMENTO DE LA INFRAESTRUCTURA | L78: 0-0 | M78: 0-0 | N78: 0-0 | O78: 0-0 | P78: 0-0 | Q78: 0-0 | R78: 0-0 | S78: 0-0 | T78: No Aplica | U78: 0-0 | X78: 270420265,18 | Y78: ESPECÍFICO | Z78: GOBERNACION DE CUNDINAMARCA
A79: =VLOOKUP(D79,$A$175:$G$224,2,0) -> 0401-Tocancipá sostenible y sustentable: Municipio proyectado y planificado a largo plazo | B79: =VLOOKUP(D79,$A$175:$G$224,4,0) -> 040102-Espacios que se entrelazan y entornos para soñar | C79: =VLOOKUP(D79,$A$175:$G$224,5,0) -> Desarrollar y recuperar espacios de turismo ecológico y paisajismo en el municipio de Tocancipá. | D79: 04010201-Construcción, adecuación y mantenimiento de la malla vial. | E79: 2012-25817-0007 | F79: CONSTRUCCIÓN DE PLACA HUELLA EN LA VIA, ACCESO A QUEBRADA HONDA MUNICIPIO DE TOCANCIPÁ, CUNDINAMARCA | G79: 18 | H79: 12 | I79: 2014 | J79: =VLOOKUP(K79,$N$138:$O$155,2,0) -> GUILLERMO LEON GUALTEROS ROCHA | K79: GERENTE DE FOMENTO DE LA INFRAESTRUCTURA | L79: 0-0 | M79: 0-0 | N79: 0-0 | O79: 0-0 | P79: 0-0 | Q79: 0-0 | R79: 0-0 | S79: 0-0 | T79: No Aplica | U79: 0-0 | X79: 216000000 | Y79: ESPECÍFICO | Z79: GOBERNACIÓN DE CUNDINAMARCA - ICCU
A80: =VLOOKUP(D80,$A$175:$G$224,2,0) -> 0102-Bienestar y Calidad de Vida a través de servicios de salud eficientes y oportuno | B80: =VLOOKUP(D80,$A$175:$G$224,4,0) -> 010202-Atención Integral con corresponsabilidad en el desarrollo de servicios de salud. | C80: =VLOOKUP(D80,$A$175:$G$224,5,0) -> 0 | D80: 01020201-Tocancipá saludable. | E80: 2012-25817-0008 | F80: CONSTRUCCIÓN SEGUNDA ETAPA Y OBRAS EXTERIORES DE HOSPITAL PRIMER NIVEL MUNICIPIO DE TOCANCIPÁ, CUNDINAMARCA | G80: 30 | H80: 12 | I80: 2014 | J80: =VLOOKUP(K80,$N$138:$O$155,2,0) -> MONICA DEL PILAR MONTERO PEREZ | K80: GERENTE DE SALUD | L80: 0-0 | M80: 0-0 | N80: 0-0 | O80: 0-0 | P80: 0-0 | Q80: 0-0 | R80: 0-0 | S80: 0-0 | T80: No Aplica | U80: 0-0 | X80: 1500000000 | Y80: ESPECÍFICO | Z80: GOBERNACIÓN DE CUNDINAMARCA - ICCU
A81: =VLOOKUP(D81,$A$175:$G$224,2,0) -> 0-0 | B81: =VLOOKUP(D81,$A$175:$G$224,4,0) -> 0-0 | C81: =VLOOKUP(D81,$A$175:$G$224,5,0) -> 0-0 | D81: 0-0 | E81: 0-0 | G81: 0-0 | H81: 0-0 | I81: 0-0 | J81: =VLOOKUP(K81,$N$138:$O$155,2,0) -> 0-0 | K81: 0-0 | L81: 0-0 | M81: 0-0 | N81: 0-0 | O81: 0-0 | P81: 0-0 | Q81: 0-0 | R81: 0-0 | S81: 0-0 | T81: No Aplica | U81: 0-0
A82: =VLOOKUP(D82,$A$175:$G$224,2,0) -> 0-0 | B82: =VLOOKUP(D82,$A$175:$G$224,4,0) -> 0-0 | C82: =VLOOKUP(D82,$A$175:$G$224,5,0) -> 0-0 | D82: 0-0 | E82: 0-0 | G82: 0-0 | H82: 0-0 | I82: 0-0 | J82: =VLOOKUP(K82,$N$138:$O$155,2,0) -> 0-0 | K82: 0-0 | L82: 0-0 | M82: 0-0 | N82: 0-0 | O82: 0-0 | P82: 0-0 | Q82: 0-0 | R82: 0-0 | S82: 0-0 | T82: No Aplica | U82: 0-0
A83: =VLOOKUP(D83,$A$175:$G$224,2,0) -> 0-0 | B83: =VLOOKUP(D83,$A$175:$G$224,4,0) -> 0-0 | C83: =VLOOKUP(D83,$A$175:$G$224,5,0) -> 0-0 | D83: 0-0 | E83: 0-0 | G83: 0-0 | H83: 0-0 | I83: 0-0 | J83: =VLOOKUP(K83,$N$138:$O$155,2,0) -> 0-0 | K83: 0-0 | L83: 0-0 | M83: 0-0 | N83: 0-0 | O83: 0-0 | P83: 0-0 | Q83: 0-0 | R83: 0-0 | S83: 0-0 | T83: No Aplica | U83: 0-0
A84: =VLOOKUP(D84,$A$175:$G$224,2,0) -> 0-0 | B84: =VLOOKUP(D84,$A$175:$G$224,4,0) -> 0-0 | C84: =VLOOKUP(D84,$A$175:$G$224,5,0) -> 0-0 | D84: 0-0 | E84: 0-0 | G84: 0-0 | H84: 0-0 | I84: 0-0 | J84: =VLOOKUP(K84,$N$138:$O$155,2,0) -> 0-0 | K84: 0-0 | L84: 0-0 | M84: 0-0 | N84: 0-0 | O84: 0-0 | P84: 0-0 | Q84: 0-0 | R84: 0-0 | S84: 0-0 | T84: No Aplica | U84: 0-0
A85: =VLOOKUP(D85,$A$175:$G$224,2,0) -> 0-0 | B85: =VLOOKUP(D85,$A$175:$G$224,4,0) -> 0-0 | C85: =VLOOKUP(D85,$A$175:$G$224,5,0) -> 0-0 | D85: 0-0 | E85: 0-0 | G85: 0-0 | H85: 0-0 | I85: 0-0 | J85: =VLOOKUP(K85,$N$138:$O$155,2,0) -> 0-0 | K85: 0-0 | L85: 0-0 | M85: 0-0 | N85: 0-0 | O85: 0-0 | P85: 0-0 | Q85: 0-0 | R85: 0-0 | S85: 0-0 | T85: No Aplica | U85: 0-0
A86: =VLOOKUP(D86,$A$175:$G$224,2,0) -> 0-0 | B86: =VLOOKUP(D86,$A$175:$G$224,4,0) -> 0-0 | C86: =VLOOKUP(D86,$A$175:$G$224,5,0) -> 0-0 | D86: 0-0 | E86: 0-0 | G86: 0-0 | H86: 0-0 | I86: 0-0 | J86: =VLOOKUP(K86,$N$138:$O$155,2,0) -> 0-0 | K86: 0-0 | L86: 0-0 | M86: 0-0 | N86: 0-0 | O86: 0-0 | P86: 0-0 | Q86: 0-0 | R86: 0-0 | S86: 0-0 | T86: No Aplica | U86: 0-0
A87: =VLOOKUP(D87,$A$175:$G$224,2,0) -> 0-0 | B87: =VLOOKUP(D87,$A$175:$G$224,4,0) -> 0-0 | C87: =VLOOKUP(D87,$A$175:$G$224,5,0) -> 0-0 | D87: 0-0 | E87: 0-0 | G87: 0-0 | H87: 0-0 | I87: 0-0 | J87: =VLOOKUP(K87,$N$138:$O$155,2,0) -> 0-0 | K87: 0-0 | L87: 0-0 | M87: 0-0 | N87: 0-0 | O87: 0-0 | P87: 0-0 | Q87: 0-0 | R87: 0-0 | S87: 0-0 | T87: No Aplica | U87: 0-0
A88: =VLOOKUP(D88,$A$175:$G$224,2,0) -> 0-0 | B88: =VLOOKUP(D88,$A$175:$G$224,4,0) -> 0-0 | C88: =VLOOKUP(D88,$A$175:$G$224,5,0) -> 0-0 | D88: 0-0 | E88: 0-0 | G88: 0-0 | H88: 0-0 | I88: 0-0 | J88: =VLOOKUP(K88,$N$138:$O$155,2,0) -> 0-0 | K88: 0-0 | L88: 0-0 | M88: 0-0 | N88: 0-0 | O88: 0-0 | P88: 0-0 | Q88: 0-0 | R88: 0-0 | S88: 0-0 | T88: No Aplica | U88: 0-0
A89: =VLOOKUP(D89,$A$175:$G$224,2,0) -> 0-0 | B89: =VLOOKUP(D89,$A$175:$G$224,4,0) -> 0-0 | C89: =VLOOKUP(D89,$A$175:$G$224,5,0) -> 0-0 | D89: 0-0 | E89: 0-0 | G89: 0-0 | H89: 0-0 | I89: 0-0 | J89: =VLOOKUP(K89,$N$138:$O$155,2,0) -> 0-0 | K89: 0-0 | L89: 0-0 | M89: 0-0 | N89: 0-0 | O89: 0-0 | P89: 0-0 | Q89: 0-0 | R89: 0-0 | S89: 0-0 | T89: No Aplica | U89: 0-0
A90: =VLOOKUP(D90,$A$175:$G$224,2,0) -> 0-0 | B90: =VLOOKUP(D90,$A$175:$G$224,4,0) -> 0-0 | C90: =VLOOKUP(D90,$A$175:$G$224,5,0) -> 0-0 | D90: 0-0 | E90: 0-0 | G90: 0-0 | H90: 0-0 | I90: 0-0 | J90: =VLOOKUP(K90,$N$138:$O$155,2,0) -> 0-0 | K90: 0-0 | L90: 0-0 | M90: 0-0 | N90: 0-0 | O90: 0-0 | P90: 0-0 | Q90: 0-0 | R90: 0-0 | S90: 0-0 | T90: No Aplica | U90: 0-0
A91: =VLOOKUP(D91,$A$175:$G$224,2,0) -> 0-0 | B91: =VLOOKUP(D91,$A$175:$G$224,4,0) -> 0-0 | C91: =VLOOKUP(D91,$A$175:$G$224,5,0) -> 0-0 | D91: 0-0 | E91: 0-0 | G91: 0-0 | H91: 0-0 | I91: 0-0 | J91: =VLOOKUP(K91,$N$138:$O$155,2,0) -> 0-0 | K91: 0-0 | L91: 0-0 | M91: 0-0 | N91: 0-0 | O91: 0-0 | P91: 0-0 | Q91: 0-0 | R91: 0-0 | S91: 0-0 | T91: No Aplica | U91: 0-0
A92: =VLOOKUP(D92,$A$175:$G$224,2,0) -> 0-0 | B92: =VLOOKUP(D92,$A$175:$G$224,4,0) -> 0-0 | C92: =VLOOKUP(D92,$A$175:$G$224,5,0) -> 0-0 | D92: 0-0 | E92: 0-0 | G92: 0-0 | H92: 0-0 | I92: 0-0 | J92: =VLOOKUP(K92,$N$138:$O$155,2,0) -> 0-0 | K92: 0-0 | L92: 0-0 | M92: 0-0 | N92: 0-0 | O92: 0-0 | P92: 0-0 | Q92: 0-0 | R92: 0-0 | S92: 0-0 | T92: No Aplica | U92: 0-0
... A130: =VLOOKUP(D130,$A$175:$G$224,2,0) -> 0-0 | B130: =VLOOKUP(D130,$A$175:$G$224,4,0) -> 0-0 | C130: =VLOOKUP(D130,$A$175:$G$224,5,0) -> 0-0 | D130: 0-0 | E130: 0-0 | G130: 0-0 | H130: 0-0 | I130: 0-0 | J130: =VLOOKUP(K130,$N$138:$O$155,2,0) -> 0-0 | K130: 0-0 | L130: 0-0 | M130: 0-0 | N130: 0-0 | O130: 0-0 | P130: 0-0 | Q130: 0-0 | R130: 0-0 | S130: 0-0 | T130: No Aplica | U130: 0-0
B137: DÍAS | C137: MESES | D137: AÑOS | H137: FORMATO | M137: NOMBRE DE LA DEPENDENCIA | N137: CARGO | O137: NOMBRES | Y137: TIPO DE PROYECTO
B138: 0-0 | C138: 0-0 | D138: 0-0 | H138: 0-0 | M138: =+DEPENDENCIAS!A2 -> 0-0 | N138: =+DEPENDENCIAS!B2 -> 0-0 | O138: =+DEPENDENCIAS!C2 -> 0-0 | Y138: GENERAL
B139: 1 | C139: 01 | D139: 2012 | H139: No Aplica | M139: =+DEPENDENCIAS!A3 -> ALCALDIA DE TOCANCIPA | N139: =+DEPENDENCIAS!B3 -> ALCALDE MUNICPAL | O139: =+DEPENDENCIAS!C3 -> CARLOS JULIO ROZO MORENO | Y139: ESPECÍFICO
B140: 2 | C140: 02 | D140: 2013 | H140: Cumple | M140: =+DEPENDENCIAS!A4 -> OFICINA JURIDICA Y DE CONTRATACION | N140: =+DEPENDENCIAS!B4 -> JEFE OFICINA JURIDICA Y DE CONTRATACION | O140: =+DEPENDENCIAS!C4 -> MARLA PATRICIA BARBOSA PALLARES
B141: 3 | C141: 03 | D141: 2014 | H141: No Cumple | M141: =+DEPENDENCIAS!A5 -> OFICINA DE CONTROL INTERNO | N141: =+DEPENDENCIAS!B5 -> JEFE DE CONTROL INTERNO | O141: =+DEPENDENCIAS!C5 -> LILIANA LOPEZ RIVEROS
B142: 4 | C142: 04 | D142: 2015 | M142: =+DEPENDENCIAS!A6 -> GERENCIA DE GOBIERNO | N142: =+DEPENDENCIAS!B6 -> GERENTE DE GOBIERNO | O142: =+DEPENDENCIAS!C6 -> ERICK JOHANY GALEANO BASABE
B143: 5 | C143: 05 | D143: 2016 | M143: =+DEPENDENCIAS!A7 -> GERENCIA DE DESARROLLO ADMINISTRATIVO | N143: =+DEPENDENCIAS!B7 -> GERENTE DE DESARROLLO ADMINISTRATIVO | O143: =+DEPENDENCIAS!C7 -> AMERICA REYES PENAGOS
B144: 6 | C144: 06 | D144: 2017 | M144: =+DEPENDENCIAS!A8 -> GERENCIA DE DESARROLLO ECONOMICO | N144: =+DEPENDENCIAS!B8 -> GERENTE DE DESARROLLO ECONOMICO | O144: =+DEPENDENCIAS!C8 -> FRANCISCO RODRIGUEZ SANTOS
B145: 7 | C145: 07 | D145: 2018 | M145: =+DEPENDENCIAS!A9 -> GERENCIA DE DESARROLLO SOCIAL | N145: =+DEPENDENCIAS!B9 -> GERENTE DE DESDAROLLO SOCIAL | O145: =+DEPENDENCIAS!C9 -> DINA LUZ SANCHEZ ARDILA
B146: 8 | C146: 08 | D146: 2019 | M146: =+DEPENDENCIAS!A10 -> GERENCIA DE MEDIO AMBIENTE | N146: =+DEPENDENCIAS!B10 -> GERENTE DE MEDIO AMBIENTE | O146: =+DEPENDENCIAS!C10 -> JORGE SARMIENTO TELLEZ
B147: 9 | C147: 09 | D147: 2020 | M147: =+DEPENDENCIAS!A11 -> GERENCIA DE PLANEACION | N147: =+DEPENDENCIAS!B11 -> SECRETARIA DE PLANEACION | O147: =+DEPENDENCIAS!C11 -> HECTOR ORLANDO RUÍZ PALACIOS
B148: 10 | C148: 10 | M148: =+DEPENDENCIAS!A12 -> GERENCIA DE SALUD | N148: =+DEPENDENCIAS!B12 -> GERENTE DE SALUD | O148: =+DEPENDENCIAS!C12 -> MONICA DEL PILAR MONTERO PEREZ
B149: 11 | C149: 11 | M149: =+DEPENDENCIAS!A13 -> GERENCIA DE EDUCACION | N149: =+DEPENDENCIAS!B13 -> GERENTE DE EDUCACION | O149: =+DEPENDENCIAS!C13 -> CARLOS ENRIQUE DELGADO RUEDA
B150: 12 | C150: 12 | M150: =+DEPENDENCIAS!A14 -> GERENCIA DE FOMENTO DE LA INFRAESTRUCTURA | N150: =+DEPENDENCIAS!B14 -> GERENTE DE FOMENTO DE LA INFRAESTRUCTURA | O150: =+DEPENDENCIAS!C14 -> GUILLERMO LEON GUALTEROS ROCHA
B151: 13 | M151: =+DEPENDENCIAS!A15 -> GERENCIA FINANCIERA | N151: =+DEPENDENCIAS!B15 -> GERENTE FINANCIERA | O151: =+DEPENDENCIAS!C15 -> MARIA CAROLINA MENDEZ TELLEZ
B152: 14 | M152: =+DEPENDENCIAS!A16 -> GERENCIA DE CULTURA Y TURISMO | N152: =+DEPENDENCIAS!B16 -> GERENTE DE CULTURA Y TURISMO | O152: =+DEPENDENCIAS!C16 -> GERMAN HERNANDEZ CASTRO
B153: 15 | M153: =+DEPENDENCIAS!A17 -> OFICINA DE PRENSA Y COMUNICACIONES | N153: =+DEPENDENCIAS!B17 -> JEFE OFICINA DE PRENSA | O153: =+DEPENDENCIAS!C17 -> MARCELA JAUREGUI CONTRERAS
B154: 16 | M154: =+DEPENDENCIAS!A18 -> INSTITUTO MUNICIPAL DE RECREACION Y DEPORTE DE TOCANCIPA | N154: =+DEPENDENCIAS!B18 -> DIRECTOR EJECUTIVO INSTITUTO DE RECREACION Y DEPORTE | O154: =+DEPENDENCIAS!C18 -> EDWIN ALFONSO VARGAS FORERO
B155: 17 | M155: =+DEPENDENCIAS!A19 -> EMPRESA DE SERVICIOS PUBLICOS DE TOCANCIPA | N155: =+DEPENDENCIAS!B19 -> GERENTE EMPRESA DE SERVICIOS PUBLICOS | O155: =+DEPENDENCIAS!C19 -> JORGE ANDRES PORRAS VARGAS
B156: 18 | M156: =+DEPENDENCIAS!A20 -> GERENCIA DE DESARROLLO ECONOMICO | N156: =+DEPENDENCIAS!B20 -> GERENTE DE DESARROLLO ECONOMICO (E) | O156: =+DEPENDENCIAS!C20 -> AMERICA REYES PENAGOS - GERENTE (E)
B157: 19 | M157: =+DEPENDENCIAS!A21 -> 0 | N157: =+DEPENDENCIAS!B21 -> 0 | O157: =+DEPENDENCIAS!C21 -> 0
B158: 20 | M158: =+DEPENDENCIAS!A22 -> 0 | N158: =+DEPENDENCIAS!B22 -> 0 | O158: =+DEPENDENCIAS!C22 -> 0
B159: 21 | M159: =+DEPENDENCIAS!A23 -> 0 | N159: =+DEPENDENCIAS!B23 -> 0 | O159: =+DEPENDENCIAS!C23 -> 0
B160: 22 | M160: =+DEPENDENCIAS!A24 -> 0 | N160: =+DEPENDENCIAS!B24 -> 0 | O160: =+DEPENDENCIAS!C24 -> 0
B161: 23 | M161: =+DEPENDENCIAS!A25 -> 0 | N161: =+DEPENDENCIAS!B25 -> 0 | O161: =+DEPENDENCIAS!C25 -> 0
B162: 24 | M162: =+DEPENDENCIAS!A26 -> 0 | N162: =+DEPENDENCIAS!B26 -> 0 | O162: =+DEPENDENCIAS!C26 -> 0
... B169: 31 | M169: =+DEPENDENCIAS!A33 -> 0 | N169: =+DEPENDENCIAS!B33 -> 0 | O169: =+DEPENDENCIAS!C33 -> 0
M170: =+DEPENDENCIAS!A34 -> 0 | N170: =+DEPENDENCIAS!B34 -> 0 | O170: =+DEPENDENCIAS!C34 -> 0
M171: =+DEPENDENCIAS!A35 -> 0 | N171: =+DEPENDENCIAS!B35 -> 0 | O171: =+DEPENDENCIAS!C35 -> 0
M172: =+DEPENDENCIAS!A36 -> 0 | N172: =+DEPENDENCIAS!B36 -> 0 | O172: =+DEPENDENCIAS!C36 -> 0
M173: =+DEPENDENCIAS!A37 -> 0 | N173: =+DEPENDENCIAS!B37 -> 0 | O173: =+DEPENDENCIAS!C37 -> 0
A174: CÓD. CONS-PROYECTO | B174: CÓD. CONS-POLÍTICA | C174: OBJETIVOS DE POLÍTICA | D174: CÓD. CONS-PROGRAMAS DE INVERSIÓN | E174: OBJETIVOS PROGRAMÁTICOS | G174: CÓD. CONS-PROYECTO | H174: CÓDIGO SSEPI | M174: =+DEPENDENCIAS!A38 -> 0 | N174: =+DEPENDENCIAS!B38 -> 0 | O174: =+DEPENDENCIAS!C38 -> 0
A175: 0-0 | B175: 0-0 | C175: 0-0 | D175: 0-0 | E175: 0-0 | G175: 0-0 | H175: 0-0 | M175: =+DEPENDENCIAS!A39 -> 0 | N175: =+DEPENDENCIAS!B39 -> 0 | O175: =+DEPENDENCIAS!C39 -> 0
A176: 01010101-Tocancipá por la calidad de la educación. | B176: 0101-Camino para la construcción de un ciudadano participativo, productivo y competitivo | C176: Alcanzar una educación con cobertura y mayores estándares de calidad, que consoliden una región competitiva. | D176: 010101-Calidad, eficiencia y cobertura educativa | E176: Garantizar el acceso a la educación con calidad en el servicio. | G176: 01010101-Tocancipá por la calidad de la educación. | H176: 2012-25817-0001 | M176: =+DEPENDENCIAS!A40 -> 0 | N176: =+DEPENDENCIAS!B40 -> 0 | O176: =+DEPENDENCIAS!C40 -> 0
A177: 01010102-Mejorando la cobertrua de los programas educativos | B177: 0101-Camino para la construcción de un ciudadano participativo, productivo y competitivo | C177: Alcanzar una educación con cobertura y mayores estándares de calidad, que consoliden una región competitiva. | D177: 010101-Calidad, eficiencia y cobertura educativa | E177: Garantizar el acceso a la educación con calidad en el servicio. | G177: 01010102-Mejorando la cobertrua de los programas educativos | H177: 2012-25817-0002 | M177: =+DEPENDENCIAS!A41 -> 0 | N177: =+DEPENDENCIAS!B41 -> 0 | O177: =+DEPENDENCIAS!C41 -> 0
A178: 01010201-Jóvenes con mayores oportunidades en educación superior. | B178: 0101-Camino para la construcción de un ciudadano participativo, productivo y competitivo | C178: Alcanzar una educación con cobertura y mayores estándares de calidad, que consoliden una región competitiva. | D178: 010102-Educación Superior | E178: Promocionar el acceso a la educación superior, a través de los procesos de articulación. | G178: 01010201-Jóvenes con mayores oportunidades en educación superior. | H178: 2012-25817-0003 | M178: =+DEPENDENCIAS!A42 -> 0 | N178: =+DEPENDENCIAS!B42 -> 0 | O178: =+DEPENDENCIAS!C42 -> 0
A179: 01010301-Uso de las nuevas tecnologías de la información y la comunicación | B179: 0101-Camino para la construcción de un ciudadano participativo, productivo y competitivo | C179: Alcanzar una educación con cobertura y mayores estándares de calidad, que consoliden una región competitiva. | D179: 010103-Apoyo al sistema educativo para una formación integral (con innovación e investigación científica) | E179: Promocionar la formación integral acorde con las necesidades del municipio. | G179: 01010301-Uso de las nuevas tecnologías de la información y la comunicación | H179: 2012-25817-0004 | M179: =+DEPENDENCIAS!A43 -> 0 | N179: =+DEPENDENCIAS!B43 -> 0 | O179: =+DEPENDENCIAS!C43 -> 0
A180: 01010302-Innovación y tecnología; herramientas para el desarrollo. | B180: 0101-Camino para la construcción de un ciudadano participativo, productivo y competitivo | C180: Alcanzar una educación con cobertura y mayores estándares de calidad, que consoliden una región competitiva. | D180: 010103-Apoyo al sistema educativo para una formación integral (con innovación e investigación científica) | E180: Promocionar la formación integral acorde con las necesidades del municipio. | G180: 01010302-Innovación y tecnología; herramientas para el desarrollo. | H180: 2012-25817-0005 | M180: =+DEPENDENCIAS!A44 -> ND | N180: =+DEPENDENCIAS!B44 -> ND | O180: =+DEPENDENCIAS!C44 -> ND
A181: 01010303-Por la formación integral. | B181: 0101-Camino para la construcción de un ciudadano participativo, productivo y competitivo | C181: Alcanzar una educación con cobertura y mayores estándares de calidad, que consoliden una región competitiva. | D181: 010103-Apoyo al sistema educativo para una formación integral (con innovación e investigación científica) | E181: Promocionar la formación integral acorde con las necesidades del municipio. | G181: 01010303-Por la formación integral. | H181: 2012-25817-0006
A182: 01010401-Mejores niveles de inglés. | B182: 0101-Camino para la construcción de un ciudadano participativo, productivo y competitivo | C182: Alcanzar una educación con cobertura y mayores estándares de calidad, que consoliden una región competitiva. | D182: 010104-Segunda lengua. | E182: Fortalecer procesos de bilingüismo en la educación básica, secundaria y media. | G182: 01010401-Mejores niveles de inglés. | H182: 2012-25817-0007
...

Sheet DEPENDENCIAS
A1: NOMBRE DE LA DEPENDENCIA | B1: CARGO | C1: NOMBRES
A2: 0-0 | B2: 0-0 | C2: 0-0
A3: ALCALDIA DE TOCANCIPA | B3: ALCALDE MUNICPAL | C3: CARLOS JULIO ROZO MORENO
A4: OFICINA JURIDICA Y DE CONTRATACION | B4: JEFE OFICINA JURIDICA Y DE CONTRATACION | C4: MARLA PATRICIA BARBOSA PALLARES
A5: OFICINA DE CONTROL INTERNO | B5: JEFE DE CONTROL INTERNO | C5: LILIANA LOPEZ RIVEROS
A6: GERENCIA DE GOBIERNO | B6: GERENTE DE GOBIERNO | C6: ERICK JOHANY GALEANO BASABE
A7: GERENCIA DE DESARROLLO ADMINISTRATIVO | B7: GERENTE DE DESARROLLO ADMINISTRATIVO | C7: AMERICA REYES PENAGOS
A8: GERENCIA DE DESARROLLO ECONOMICO | B8: GERENTE DE DESARROLLO ECONOMICO | C8: FRANCISCO RODRIGUEZ SANTOS
A9: GERENCIA DE DESARROLLO SOCIAL | B9: GERENTE DE DESDAROLLO SOCIAL | C9: DINA LUZ SANCHEZ ARDILA
A10: GERENCIA DE MEDIO AMBIENTE | B10: GERENTE DE MEDIO AMBIENTE | C10: JORGE SARMIENTO TELLEZ
A11: GERENCIA DE PLANEACION | B11: SECRETARIA DE PLANEACION | C11: HECTOR ORLANDO RUÍZ PALACIOS
A12: GERENCIA DE SALUD | B12: GERENTE DE SALUD | C12: MONICA DEL PILAR MONTERO PEREZ
... A44: ND | B44: ND | C44: ND
