Workbook

Sheet Consolidado_Vigencias
A1: ALCALDÍA MUNICIPAL DE TOCANCIPÁ - CUNDINAMARCA
A2: RELACIÓN DE PROYECTOS RADICADOS ANTE LA GERENCIA DE PLANEACIÓN
A3: NIVELES DEL PLAN DE DESARROLLO: | E3: REGISTRO DEL PROYECTO | G3: FECHA RADICACIÓN DEL PROYECTO | J3: FUNCIONARIO RESPONSABLE RADICACIÓN | L3: ANEXOS DEL PROYECTO: | V3: FOLIOS | X3: VALOR INICIAL | Y3: TIPO DE PROYECTO | Z3: ENTIDADES COFINANCIADORAS | AA3: OBSERVACIONES | AB3: NÚMERO DE ORDEN | AC3: CÓDIGO | AD3: DESCRIPCIÓN | AE3: NOMBRE DE LA SERIE, SUBSERIE O ASUNTO | AF3: FECHAS EXTREMAS | AH3: UNIDAD DE CONSERVACIÓN | AN3: NÚMERO DE FOLIOS | AO3: SOPORTE | AP3: FRECUENCIA DE CONSULTA
A4: POLÍTICA ESTRATÉGICA: | B4: NOMBRE DEL PROGRAMA: | C4: OBJETIVO DEL PROGRAMA: | D4: NOMBRE DEL PROYECTO DEL PD: | E4: CÓDIGO SSEPI | F4: NOMBRE ASIGNADO EN LA FICHA EBI: | G4: DÍA | H4: MES | I4: AÑO | J4: NOMBRES RESPONSABLE | K4: CARGO | L4: Ficha EBI (firmada) | M4: Proyecto formulado en MGA (con archivo "Transmi") | N4: Árbol del problema | O4: Árbol de objetivos | P4: Ficha de Programa y/o Proyecto | Q4: Ficha de Control de Recursos - Consolidado Total de Recursos | R4: Ficha de Control de Recursos - Consolidado Anual de Recursos | S4: Ficha de Control de Recursos (Detallado del proyecto) | T4: Otros anexos técnicos (diseños, estudios, etc. NOTA: Cuando el proyecto lo requiera) | U4: CD o DVD de datos (con las memorias de todo el proyecto) | V4: FOLIOS INICIALES | W4: FOLIOS FINALES | AF4: INICIAL | AG4: FINAL | AH4: EST | AI4: ENT | AJ4: CAJA | AK4: CARPETA | AL4: TOMO | AM4: OTRO
A5: =VLOOKUP(D5,$A$175:$G$224,2,0) -> 0401-Tocancipá sostenible y sustentable: Municipio proyectado y planificado a largo plazo | B5: =VLOOKUP(D5,$A$175:$G$224,4,0) -> 040102-Espacios que se entrelazan y entornos para soñar | C5: =VLOOKUP(D5,$A$175:$G$224,5,0) -> Desarrollar y recuperar espacios de turismo ecológico y paisajismo en el municipio de Tocancipá. | D5: 04010201-Construcción, adecuación y mantenimiento de la malla vial. | E5: 2012-25817-0020 | F5: CONTRUCCION ADECUACION Y MANTENIMIENTO DE LA MALLA VIAL DEL MUNICIPIO DE TOCANCIPA | G5: 26 | H5: 09 | I5: 2012 | J5: =VLOOKUP(K5,$N$138:$O$155,2,0) -> GUILLERMO LEON GUALTEROS ROCHA | K5: GERENTE DE FOMENTO DE LA INFRAESTRUCTURA | L5: Cumple | M5: Cumple | N5: Cumple | O5: Cumple | P5: Cumple | Q5: Cumple | R5: Cumple | S5: No Cumple | T5: No Aplica | U5: Cumple | X5: 48924322670 | Y5: GENERAL | AB5: =VLOOKUP(D5,[1]Hoja3!$A$2:$E$50,2,0) -> 35 | AE5: =+CONCATENATE("Proyecto: ",D5,";"," Nombre Ficha EBI: ",F5,"; ","Código SSEPI: ",E5,".") -> Proyecto: 04010201-Construcción, adecuación y mantenimiento de la malla vial.; Nombre Ficha EBI: CONTRUCCION ADECUACION Y MANTENIMIENTO DE LA MALLA VIAL DEL MUNICIPIO DE TOCANCIPA; Código SSEPI: 2012-25817-0020. | AJ5: =VLOOKUP(D5,[1]Hoja3!$A$2:$E$50,5,0) -> 4
A6: =VLOOKUP(D6,$A$175:$G$224,2,0) -> 0401-Tocancipá sostenible y sustentable: Municipio proyectado y planificado a largo plazo | B6: =VLOOKUP(D6,$A$175:$G$224,4,0) -> 040105-Mejoramiento otros servicios públicos | C6: =VLOOKUP(D6,$A$175:$G$224,5,0) -> Ampliar el aprovechamiento de los residuos sólidos del municipio de Tocancipá. | D6: 04010501-Servicios públicos complementarios para la comunidad_Alumbrado | E6: 2012-25817-0021 | F6: SERVICIOS PUBLICOS COMPLEMENTARIOS PARA LA COMUNIDAD EN EL MUNICIPIO DE TOCANCIPA | G6: 26 | H6: 09 | I6: 2012 | J6: =VLOOKUP(K6,$N$138:$O$155,2,0) -> GUILLERMO LEON GUALTEROS ROCHA | K6: GERENTE DE FOMENTO DE LA INFRAESTRUCTURA | L6: Cumple | M6: Cumple | N6: Cumple | O6: Cumple | P6: Cumple | Q6: Cumple | R6: Cumple | S6: Cumple | T6: No Aplica | U6: Cumple | X6: 1856000000 | Y6: GENERAL | AB6: =VLOOKUP(D6,[1]Hoja3!$A$2:$E$50,2,0) -> 40_2 | AE6: =+CONCATENATE("Proyecto: ",D6,";"," Nombre Ficha EBI: ",F6,"; ","Código SSEPI: ",E6,".") -> Proyecto: 04010501-Servicios públicos complementarios para la comunidad_Alumbrado; Nombre Ficha EBI: SERVICIOS PUBLICOS COMPLEMENTARIOS PARA LA COMUNIDAD EN EL MUNICIPIO DE TOCANCIPA; Código SSEPI: 2012-25817-0021. | AJ6: =VLOOKUP(D6,[1]Hoja3!$A$2:$E$50,5,0) -> 6
A7: =VLOOKUP(D7,$A$175:$G$224,2,0) -> 0401-Tocancipá sostenible y sustentable: Municipio proyectado y planificado a largo plazo | B7: =VLOOKUP(D7,$A$175:$G$224,4,0) -> 040102-Espacios que se entrelazan y entornos para soñar | C7: =VLOOKUP(D7,$A$175:$G$224,5,0) -> Desarrollar y recuperar espacios de turismo ecológico y paisajismo en el municipio de Tocancipá. | D7: 04010202-Mejoramiento y ampliación del espacio público. | E7: 2012-25817-0022 | F7: MEJORAMIENTO Y AMPLIACION DEL ESPACIO PUBLICO DEL MUNICIPIO DE TOCANCIPÁ | G7: 26 | H7: 09 | I7: 2012 | J7: =VLOOKUP(K7,$N$138:$O$155,2,0) -> GUILLERMO LEON GUALTEROS ROCHA | K7: GERENTE DE FOMENTO DE LA INFRAESTRUCTURA | L7: Cumple | M7: Cumple | N7: Cumple | O7: Cumple | P7: Cumple | Q7: Cumple | R7: Cumple | S7: Cumple | T7: No Aplica | U7: Cumple | X7: 9.1816773e+09 | Y7: GENERAL | AB7: =VLOOKUP(D7,[1]Hoja3!$A$2:$E$50,2,0) -> 36 | AE7: =+CONCATENATE("Proyecto: ",D7,";"," Nombre Ficha EBI: ",F7,"; ","Código SSEPI: ",E7,".") -> Proyecto: 04010202-Mejoramiento y ampliación del espacio público.; Nombre Ficha EBI: MEJORAMIENTO Y AMPLIACION DEL ESPACIO PUBLICO DEL MUNICIPIO DE TOCANCIPÁ; Código SSEPI: 2012-25817-0022. | AJ7: =VLOOKUP(D7,[1]Hoja3!$A$2:$E$50,5,0) -> 5
A8: =VLOOKUP(D8,$A$175:$G$224,2,0) -> 0501-Por una Tocancipá Productiva y Competitiva | B8: =VLOOKUP(D8,$A$175:$G$224,4,0) -> 050103-Comerciantes trabajando en conjunto y campesino pujante y participativo | C8: =VLOOKUP(D8,$A$175:$G$224,5,0) -> Fortalecer el campo, apoyar al productor agropecuario, la agroindustria y al comerciante. | D8: 05010301-Fortalecimiento de procesos productivos. | E8: 2012-25817-0002 | F8: FORTALECIMIENTO DE LOS PROCESOS PRODUCTIVOS AGROPECUARIOS DEL MUNICIPIO CON BIOTECNOLOGIAS DE PUNTA EN EL MUNICIPIO DE TOCANCIPA-DEPARTAMENTO DE CUNDINAMARCA | G8: 2 | H8: 08 | I8: 2012 | J8: =VLOOKUP(K8,$N$138:$O$155,2,0) -> FRANCISCO RODRIGUEZ SANTOS | K8: GERENTE DE DESARROLLO ECONOMICO | L8: Cumple | M8: Cumple | N8: Cumple | O8: Cumple | P8: Cumple | Q8: Cumple | R8: Cumple | S8: Cumple | T8: No Aplica | U8: Cumple | X8: 908000000 | Y8: GENERAL | AB8: =VLOOKUP(D8,[1]Hoja3!$A$2:$E$50,2,0) -> 43 | AE8: =+CONCATENATE("Proyecto: ",D8,";"," Nombre Ficha EBI: ",F8,"; ","Código SSEPI: ",E8,".") -> Proyecto: 05010301-Fortalecimiento de procesos productivos.; Nombre Ficha EBI: FORTALECIMIENTO DE LOS PROCESOS PRODUCTIVOS AGROPECUARIOS DEL MUNICIPIO CON BIOTECNOLOGIAS DE PUNTA EN EL MUNICIPIO DE TOCANCIPA-DEPARTAMENTO DE CUNDINAMARCA; Código SSEPI: 2012-25817-0002. | AJ8: =VLOOKUP(D8,[1]Hoja3!$A$2:$E$50,5,0) -> 7
A9: =VLOOKUP(D9,$A$175:$G$224,2,0) -> 0105-Desarrollo armónico e integral del ser humano por medio del deporte | B9: =VLOOKUP(D9,$A$175:$G$224,4,0) -> 010501-Fomento del deporte | C9: =VLOOKUP(D9,$A$175:$G$224,5,0) -> Incrementar la cultura deportiva a través, del fortalecimiento de las escuelas de formación. | D9: 01050101-Fomento del deporte. | E9: 2012-25817-0003 | F9: FORTALECIMIENTO DE LAS ESCUELAS DE FORMACION DEPORTIVA. EN EL MUNICIPIO DE TOCANCIPA DEPARTAMENTO DE CUNDINAMARCA | G9: 2 | H9: 08 | I9: 2012 | J9: =VLOOKUP(K9,$N$138:$O$155,2,0) -> EDWIN ALFONSO VARGAS FORERO | K9: DIRECTOR EJECUTIVO INSTITUTO DE RECREACION Y DEPORTE | L9: Cumple | M9: Cumple | N9: Cumple | O9: Cumple | P9: Cumple | Q9: Cumple | R9: Cumple | S9: Cumple | T9: No Aplica | U9: Cumple | X9: 3500000000 | Y9: GENERAL | AB9: =VLOOKUP(D9,[1]Hoja3!$A$2:$E$50,2,0) -> 20 | AE9: =+CONCATENATE("Proyecto: ",D9,";"," Nombre Ficha EBI: ",F9,"; ","Código SSEPI: ",E9,".") -> Proyecto: 01050101-Fomento del deporte.; Nombre Ficha EBI: FORTALECIMIENTO DE LAS ESCUELAS DE FORMACION DEPORTIVA. EN EL MUNICIPIO DE TOCANCIPA DEPARTAMENTO DE CUNDINAMARCA; Código SSEPI: 2012-25817-0003. | AJ9: =VLOOKUP(D9,[1]Hoja3!$A$2:$E$50,5,0) -> 2
A10: =VLOOKUP(D10,$A$175:$G$224,2,0) -> 0401-Tocancipá sostenible y sustentable: Municipio proyectado y planificado a largo plazo | B10: =VLOOKUP(D10,$A$175:$G$224,4,0) -> 040103-Equipamiento para todos | C10: =VLOOKUP(D10,$A$175:$G$224,5,0) -> Mejorar y mantener la infraestructura pública municipal, representada en edificios públicos, Instituciones educativas, escenarios deportivos, salones comunales y parques. | D10: 04010301-Infraestructura al servicio de la comunidad | E10: 2012-25817-0015 | F10: CONTRUCCIÓN INFRAESTRUCTURA AL SERVICIO DE LA COMUNIDAD DEL MUNICIPIO DE TOCANCIPÁ | G10: 10 | H10: 09 | I10: 2012 | J10: =VLOOKUP(K10,$N$138:$O$155,2,0) -> GUILLERMO LEON GUALTEROS ROCHA | K10: GERENTE DE FOMENTO DE LA INFRAESTRUCTURA | L10: Cumple | M10: Cumple | N10: Cumple | O10: Cumple | P10: Cumple | Q10: Cumple | R10: Cumple | S10: Cumple | T10: No Aplica | U10: Cumple | X10: 5.474e+10 | Y10: GENERAL | AB10: =VLOOKUP(D10,[1]Hoja3!$A$2:$E$50,2,0) -> 37 | AE10: =+CONCATENATE("Proyecto: ",D10,";"," Nombre Ficha EBI: ",F10,"; ","Código SSEPI: ",E10,".") -> Proyecto: 04010301-Infraestructura al servicio de la comunidad; Nombre Ficha EBI: CONTRUCCIÓN INFRAESTRUCTURA AL SERVICIO DE LA COMUNIDAD DEL MUNICIPIO DE TOCANCIPÁ; Código SSEPI: 2012-25817-0015. | AJ10: =VLOOKUP(D10,[1]Hoja3!$A$2:$E$50,5,0) -> 5
A11: =VLOOKUP(D11,$A$175:$G$224,2,0) -> 0105-Desarrollo armónico e integral del ser humano por medio del deporte | B11: =VLOOKUP(D11,$A$175:$G$224,4,0) -> 010502-Todos Competitivos y todos por nuestros talentos | C11: =VLOOKUP(D11,$A$175:$G$224,5,0) -> Fomentar programas de formación deportiva, actividades recreativas y físico-saludables como garantía de derechos para la población de Tocancipá. | D11: 01050201-Todos competitivos y todos por nuestros talentos. | E11: 2012-25817-0004 | F11: IMPLEMENTACION DE PROGRAMA DE ALTO RENDIMINETO Y PROMOCION DEL DEPORTE Y LA RECREACION, COMO UN ESTILO DE VIDA. EN EL MUNICIPIO DE TOCANCIPA-DEPARTAMENTO CUNDINAMARCA | G11: 2 | H11: 08 | I11: 2012 | J11: =VLOOKUP(K11,$N$138:$O$155,2,0) -> EDWIN ALFONSO VARGAS FORERO | K11: DIRECTOR EJECUTIVO INSTITUTO DE RECREACION Y DEPORTE | L11: Cumple | M11: Cumple | N11: Cumple | O11: Cumple | P11: Cumple | Q11: Cumple | R11: Cumple | S11: Cumple | T11: No Aplica | U11: Cumple | X11: 3950000000 | Y11: GENERAL | AB11: =VLOOKUP(D11,[1]Hoja3!$A$2:$E$50,2,0) -> 21 | AE11: =+CONCATENATE("Proyecto: ",D11,";"," Nombre Ficha EBI: ",F11,"; ","Código SSEPI: ",E11,".") -> Proyecto: 01050201-Todos competitivos y todos por nuestros talentos.; Nombre Ficha EBI: IMPLEMENTACION DE PROGRAMA DE ALTO RENDIMINETO Y PROMOCION DEL DEPORTE Y LA RECREACION, COMO UN ESTILO DE VIDA. EN EL MUNICIPIO DE TOCANCIPA-DEPARTAMENTO CUNDINAMARCA; Código SSEPI: 2012-25817-0004. | AJ11: =VLOOKUP(D11,[1]Hoja3!$A$2:$E$50,5,0) -> 2
A12: =VLOOKUP(D12,$A$175:$G$224,2,0) -> 0401-Tocancipá sostenible y sustentable: Municipio proyectado y planificado a largo plazo | B12: =VLOOKUP(D12,$A$175:$G$224,4,0) -> 040104-Entorno sostenible / Agua potable y saneamiento básico | C12: =VLOOKUP(D12,$A$175:$G$224,5,0) -> Optimizar el servicio de acueducto y alcantarillado en el municipio de Tocancipá. | D12: 04010401-Agua potable y saneamiento básico para el municipio. | E12: 2012-25817-0008 | F12: SANEAMIENTO BASICO Y AGUA POTABLE MUNICIPIO DE TOCANCIPÁ | G12: 3 | H12: 08 | I12: 2012 | J12: =VLOOKUP(K12,$N$138:$O$155,2,0) -> JORGE ANDRES PORRAS VARGAS | K12: GERENTE EMPRESA DE SERVICIOS PUBLICOS | L12: Cumple | M12: Cumple | N12: Cumple | O12: Cumple | P12: Cumple | Q12: Cumple | R12: Cumple | S12: Cumple | T12: No Aplica | U12: Cumple | X12: 98061000003 | Y12: GENERAL | AB12: =VLOOKUP(D12,[1]Hoja3!$A$2:$E$50,2,0) -> 39 | AE12: =+CONCATENATE("Proyecto: ",D12,";"," Nombre Ficha EBI: ",F12,"; ","Código SSEPI: ",E12,".") -> Proyecto: 04010401-Agua potable y saneamiento básico para el municipio.; Nombre Ficha EBI: SANEAMIENTO BASICO Y AGUA POTABLE MUNICIPIO DE TOCANCIPÁ; Código SSEPI: 2012-25817-0008. | AJ12: =VLOOKUP(D12,[1]Hoja3!$A$2:$E$50,5,0) -> 6
A13: =VLOOKUP(D13,$A$175:$G$224,2,0) -> 0104-Nuevos Vientos Culturales y Turísticos | B13: =VLOOKUP(D13,$A$175:$G$224,4,0) -> 010401-Difusión de la Cultu ra y formación de Artistas | C13: =VLOOKUP(D13,$A$175:$G$224,5,0) -> Promover la cultura de Tocancipá. (mediante la Institucionalización de la escuela de artes, participación en eventos artísticos y culturales y la formulación del plan decenal de cultura del municipio de Tocancipá). | D13: 01040101-Promoción de la cultura. | E13: 2012-25817-0001 | F13: APROVECHAMIENTO Y PROMOCIÓN DE LA CULTURA MUNICIPIO DE TOCANCIPÁ DEPARTAMENTO DE CUNDINMARCA COLOMBIA | G13: 1 | H13: 08 | I13: 2012 | J13: =VLOOKUP(K13,$N$138:$O$155,2,0) -> GERMAN HERNANDEZ CASTRO | K13: GERENTE DE CULTURA Y TURISMO | L13: Cumple | M13: Cumple | N13: Cumple | O13: Cumple | P13: Cumple | Q13: Cumple | R13: Cumple | S13: Cumple | T13: No Aplica | U13: Cumple | X13: 17005010000 | Y13: GENERAL | AB13: =VLOOKUP(D13,[1]Hoja3!$A$2:$E$50,2,0) -> 17 | AE13: =+CONCATENATE("Proyecto: ",D13,";"," Nombre Ficha EBI: ",F13,"; ","Código SSEPI: ",E13,".") -> Proyecto: 01040101-Promoción de la cultura.; Nombre Ficha EBI: APROVECHAMIENTO Y PROMOCIÓN DE LA CULTURA MUNICIPIO DE TOCANCIPÁ DEPARTAMENTO DE CUNDINMARCA COLOMBIA; Código SSEPI: 2012-25817-0001. | AJ13: =VLOOKUP(D13,[1]Hoja3!$A$2:$E$50,5,0) -> 2
A14: =VLOOKUP(D14,$A$175:$G$224,2,0) -> 0101-Camino para la construcción de un ciudadano participativo, productivo y competitivo | B14: =VLOOKUP(D14,$A$175:$G$224,4,0) -> 010101-Calidad, eficiencia y cobertura educativa | C14: =VLOOKUP(D14,$A$175:$G$224,5,0) -> Garantizar el acceso a la educación con calidad en el servicio. | D14: 01010101-Tocancipá por la calidad de la educación. | E14: 2012-25817-0023 | F14: IMPLEMENTACION DE UN MODELO EDUCATIVO INNOVADOR EN EL MUNICIPIO DE TOCANCIPA | G14: 26 | H14: 09 | I14: 2012 | J14: =VLOOKUP(K14,$N$138:$O$155,2,0) -> CARLOS ENRIQUE DELGADO RUEDA | K14: GERENTE DE EDUCACION | L14: Cumple | M14: Cumple | N14: Cumple | O14: Cumple | P14: Cumple | Q14: Cumple | R14: Cumple | S14: Cumple | T14: No Aplica | U14: Cumple | X14: 3202864000 | Y14: GENERAL | AB14: =VLOOKUP(D14,[1]Hoja3!$A$2:$E$50,2,0) -> 01 | AE14: =+CONCATENATE("Proyecto: ",D14,";"," Nombre Ficha EBI: ",F14,"; ","Código SSEPI: ",E14,".") -> Proyecto: 01010101-Tocancipá por la calidad de la educación.; Nombre Ficha EBI: IMPLEMENTACION DE UN MODELO EDUCATIVO INNOVADOR EN EL MUNICIPIO DE TOCANCIPA; Código SSEPI: 2012-25817-0023. | AJ14: =VLOOKUP(D14,[1]Hoja3!$A$2:$E$50,5,0) -> 1
A15: =VLOOKUP(D15,$A$175:$G$224,2,0) -> 0101-Camino para la construcción de un ciudadano participativo, productivo y competitivo | B15: =VLOOKUP(D15,$A$175:$G$224,4,0) -> 010103-Apoyo al sistema educativo para una formación integral (con innovación e investigación científica) | C15: =VLOOKUP(D15,$A$175:$G$224,5,0) -> Promocionar la formación integral acorde con las necesidades del municipio. | D15: 01010301-Uso de las nuevas tecnologías de la información y la comunicación | E15: 2012-25817-0009 | F15: APLICACIÓN DEL USO DE LAS NUEVAS TECNOLOGIAS DE LA INFORMACION Y LAS COMUNICACIONES EN EL MUNICIPIO DE TOCANCIPA | G15: 3 | H15: 08 | I15: 2012 | J15: =VLOOKUP(K15,$N$138:$O$155,2,0) -> CARLOS ENRIQUE DELGADO RUEDA | K15: GERENTE DE EDUCACION | L15: Cumple | M15: Cumple | N15: Cumple | O15: Cumple | P15: Cumple | Q15: Cumple | R15: Cumple | S15: Cumple | T15: No Aplica | U15: Cumple | X15: 5566000000 | Y15: GENERAL | AB15: =VLOOKUP(D15,[1]Hoja3!$A$2:$E$50,2,0) -> 04 | AE15: =+CONCATENATE("Proyecto: ",D15,";"," Nombre Ficha EBI: ",F15,"; ","Código SSEPI: ",E15,".") -> Proyecto: 01010301-Uso de las nuevas tecnologías de la información y la comunicación; Nombre Ficha EBI: APLICACIÓN DEL USO DE LAS NUEVAS TECNOLOGIAS DE LA INFORMACION Y LAS COMUNICACIONES EN EL MUNICIPIO DE TOCANCIPA; Código SSEPI: 2012-25817-0009. | AJ15: =VLOOKUP(D15,[1]Hoja3!$A$2:$E$50,5,0) -> 1
A16: =VLOOKUP(D16,$A$175:$G$224,2,0) -> 0101-Camino para la construcción de un ciudadano participativo, productivo y competitivo | B16: =VLOOKUP(D16,$A$175:$G$224,4,0) -> 010103-Apoyo al sistema educativo para una formación integral (con innovación e investigación científica) | C16: =VLOOKUP(D16,$A$175:$G$224,5,0) -> Promocionar la formación integral acorde con las necesidades del municipio. | D16: 01010302-Innovación y tecnología; herramientas para el desarrollo. | E16: 2012-25817-0024 | F16: IMPLEMENTACION DE LA INNOVACION Y LA TECNOLOGIA COMO HERRAMIENTAS PARA EL DESARROLLO EN EL MUNICIPIO DE TOCANCIPA | G16: 26 | H16: 09 | I16: 2012 | J16: =VLOOKUP(K16,$N$138:$O$155,2,0) -> CARLOS ENRIQUE DELGADO RUEDA | K16: GERENTE DE EDUCACION | L16: Cumple | M16: Cumple | N16: Cumple | O16: Cumple | P16: Cumple | Q16: Cumple | R16: Cumple | S16: Cumple | T16: No Aplica | U16: Cumple | X16: 4634000000 | Y16: GENERAL | AB16: =VLOOKUP(D16,[1]Hoja3!$A$2:$E$50,2,0) -> 05 | AE16: =+CONCATENATE("Proyecto: ",D16,";"," Nombre Ficha EBI: ",F16,"; ","Código SSEPI: ",E16,".") -> Proyecto: 01010302-Innovación y tecnología; herramientas para el desarrollo.; Nombre Ficha EBI: IMPLEMENTACION DE LA INNOVACION Y LA TECNOLOGIA COMO HERRAMIENTAS PARA EL DESARROLLO EN EL MUNICIPIO DE TOCANCIPA; Código SSEPI: 2012-25817-0024. | AJ16: =VLOOKUP(D16,[1]Hoja3!$A$2:$E$50,5,0) -> 1
... A50: =VLOOKUP(D50,$A$175:$G$224,2,0) -> 0102-Bienestar y Calidad de Vida a través de servicios de salud eficientes y oportuno | B50: =VLOOKUP(D50,$A$175:$G$224,4,0) -> 010203-Salud pública y promoción social. | C50: =VLOOKUP(D50,$A$175:$G$224,5,0) -> Promover la prevecnión, la responsabilidad y el control de consumo de sustancias alucinógenas. | D50: 01020302-Salud pública con inspección, vigilancia y control. | E50: 2012-25817-0046 | F50: MEJORAMIENTO EN SALUD PÚBLICA CON PROMOCION SOCIAL EN TOCANCIPÁ DEPARTAMENTO DE CUNDINAMARCA, COLOMBIA | G50: 5 | H50: 09 | I50: 2012 | J50: =VLOOKUP(K50,$N$138:$O$155,2,0) -> MONICA DEL PILAR MONTERO PEREZ | K50: GERENTE DE SALUD | L50: Cumple | M50: Cumple | N50: Cumple | O50: 0-0 | P50: 0-0 | Q50: 0-0 | R50: 0-0 | S50: 0-0 | T50: No Aplica | U50: 0-0 | X50: 518791125 | Y50: GENERAL | AB50: =VLOOKUP(D50,[1]Hoja3!$A$2:$E$50,2,0) -> 12 | AE50: =+CONCATENATE("Proyecto: ",D50,";"," Nombre Ficha EBI: ",F50,"; ","Código SSEPI: ",E50,".") -> Proyecto: 01020302-Salud pública con inspección, vigilancia y control.; Nombre Ficha EBI: MEJORAMIENTO EN SALUD PÚBLICA CON PROMOCION SOCIAL EN TOCANCIPÁ DEPARTAMENTO DE CUNDINAMARCA, COLOMBIA; Código SSEPI: 2012-25817-0046. | AJ50: =VLOOKUP(D50,[1]Hoja3!$A$2:$E$50,5,0) -> 2
A51: 0104-Nuevos Vientos Culturales y Turísticos | B51: 010402-Tocancipá atractivo turístico. | C51: Potencializar el turismo en el municipio. | D51: 01040201-Tocancipá atractivo turístico. | E51: 2012-25817-0047 | F51: FORMULACIÒN E IMPLEMENTACIÒN DEL PLAN SECTORIAL DE TURISMO EN EL MUNICIPIO DE TOCANCIPÀ, DPTO DE CUNDINAMARCA COLOMBIA | G51: 18 | H51: 03 | I51: 2013 | J51: GERMAN HERNANDEZ CASTRO | K51: GERENTE DE CULTURA Y TURISMO | L51: Cumple | M51: Cumple | N51: Cumple | O51: Cumple | P51: Cumple | Q51: Cumple | R51: Cumple | S51: Cumple | T51: No Aplica | U51: Cumple | X51: 735000000 | Y51: GENERAL | AB51: =VLOOKUP(D51,[1]Hoja3!$A$2:$E$50,2,0) -> 18 | AE51: =+CONCATENATE("Proyecto: ",D51,";"," Nombre Ficha EBI: ",F51,"; ","Código SSEPI: ",E51,".") -> Proyecto: 01040201-Tocancipá atractivo turístico.; Nombre Ficha EBI: FORMULACIÒN E IMPLEMENTACIÒN DEL PLAN SECTORIAL DE TURISMO EN EL MUNICIPIO DE TOCANCIPÀ, DPTO DE CUNDINAMARCA COLOMBIA; Código SSEPI: 2012-25817-0047. | AJ51: =VLOOKUP(D51,[1]Hoja3!$A$2:$E$50,5,0) -> 2
A52: =VLOOKUP(D52,$A$175:$G$224,2,0) -> 0401-Tocancipá sostenible y sustentable: Municipio proyectado y planificado a largo plazo | B52: =VLOOKUP(D52,$A$175:$G$224,4,0) -> 040104-Entorno sostenible / Agua potable y saneamiento básico | C52: =VLOOKUP(D52,$A$175:$G$224,5,0) -> Optimizar el servicio de acueducto y alcantarillado en el municipio de Tocancipá. | D52: 04010401-Agua potable y saneamiento básico para el municipio. | E52: 2012-25817-0048 | F52: CONSTRUCCIÓN DE LA PLANTA DE TRATAMIENTO DE AGUAS RESIDUALES EN EL CASCO URBANO DEL MUNICIPIO DE TOCANCIPA - CUNDINAMARCA | G52: 9 | H52: 11 | I52: 2012 | J52: =VLOOKUP(K52,$N$138:$O$155,2,0) -> JORGE ANDRES PORRAS VARGAS | K52: GERENTE EMPRESA DE SERVICIOS PUBLICOS | L52: 0-0 | M52: 0-0 | N52: 0-0 | O52: 0-0 | P52: 0-0 | Q52: 0-0 | R52: 0-0 | S52: 0-0 | T52: No Aplica | U52: 0-0 | X52: 9307999021 | Y52: ESPECÍFICO | Z52: a)MINISTERIO DE VIVIENDA, CIUDAD Y TERRITORIO DE COLOMBIA; b)CORPORACIÓN AUTÓNOMA REGIONAL DE CUNDINAMARCA - CAR
A53: =VLOOKUP(D53,$A$175:$G$224,2,0) -> 0104-Nuevos Vientos Culturales y Turísticos | B53: =VLOOKUP(D53,$A$175:$G$224,4,0) -> 010403-Red de bibliotecas | C53: =VLOOKUP(D53,$A$175:$G$224,5,0) -> Ampliar y fortalecer las bibliotecas del municipio, fomentando la cultura de la lectura. | D53: 01040301-Red de bibliotecas. | E53: 2012-25817-0049 | F53: FORMULACIÓN E IMPLEMENTACIÓN DEL PLAN DECENAL DE LECTURA, ESCRITURA Y BIBLIOTECAS EN EL MUNICIPIO DE TOCANCIPÁ, DPTO DE CUNDINAMARCA | G53: 27 | H53: 05 | I53: 2013 | J53: =VLOOKUP(K53,$N$138:$O$155,2,0) -> GERMAN HERNANDEZ CASTRO | K53: GERENTE DE CULTURA Y TURISMO | X53: 1070000000 | Y53: GENERAL | AB53: =VLOOKUP(D53,[1]Hoja3!$A$2:$E$50,2,0) -> 19 | AE53: =+CONCATENATE("Proyecto: ",D53,";"," Nombre Ficha EBI: ",F53,"; ","Código SSEPI: ",E53,".") -> Proyecto: 01040301-Red de bibliotecas.; Nombre Ficha EBI: FORMULACIÓN E IMPLEMENTACIÓN DEL PLAN DECENAL DE LECTURA, ESCRITURA Y BIBLIOTECAS EN EL MUNICIPIO DE TOCANCIPÁ, DPTO DE CUNDINAMARCA; Código SSEPI: 2012-25817-0049. | AJ53: =VLOOKUP(D53,[1]Hoja3!$A$2:$E$50,5,0) -> 2
A54: =VLOOKUP(D54,$A$175:$G$224,2,0) -> 0401-Tocancipá sostenible y sustentable: Municipio proyectado y planificado a largo plazo | B54: =VLOOKUP(D54,$A$175:$G$224,4,0) -> 040103-Equipamiento para todos | C54: =VLOOKUP(D54,$A$175:$G$224,5,0) -> Mejorar y mantener la infraestructura pública municipal, representada en edificios públicos, Instituciones educativas, escenarios deportivos, salones comunales y parques. | D54: 04010301-Infraestructura al servicio de la comunidad | E54: 2013-25817-0001 | F54: CONSTRUCCIÓN Y ADECUACIÓN DEL ESTADIO MIGUEL DE IBARRA DEL MUNICIPIO DE TOCANCIPÁ - CUNDINAMARCA | G54: 22 | H54: 05 | I54: 2013 | J54: =VLOOKUP(K54,$N$138:$O$155,2,0) -> GUILLERMO LEON GUALTEROS ROCHA | K54: GERENTE DE FOMENTO DE LA INFRAESTRUCTURA | L54: 0-0 | M54: 0-0 | N54: 0-0 | O54: 0-0 | P54: 0-0 | Q54: 0-0 | R54: 0-0 | S54: 0-0 | T54: No Aplica | U54: 0-0 | X54: 4497724000 | Y54: ESPECÍFICO | Z54: DEPARTAMENTO ADMINISTRATIVO DEL DEPORTE, LA RECREACIÓN, LA ACTIVIDAD FÍSICA Y EL APROVECHAMIENTO DEL TIEMPO LIBRE - COLDEPORTES
A55: =VLOOKUP(D55,$A$175:$G$224,2,0) -> 0401-Tocancipá sostenible y sustentable: Municipio proyectado y planificado a largo plazo | B55: =VLOOKUP(D55,$A$175:$G$224,4,0) -> 040103-Equipamiento para todos | C55: =VLOOKUP(D55,$A$175:$G$224,5,0) -> Mejorar y mantener la infraestructura pública municipal, representada en edificios públicos, Instituciones educativas, escenarios deportivos, salones comunales y parques. | D55: 04010301-Infraestructura al servicio de la comunidad | E55: 2012-25817-0002 | F55: CONSTRUCCIÓN DE LA SEGUNDA ETAPA DE LA CIUDADELA CULTURAL DEL MUNICIPIO DE TOCANCIPÁ - CUNDINAMARCA | G55: 7 | H55: 06 | I55: 2013 | J55: =VLOOKUP(K55,$N$138:$O$155,2,0) -> GUILLERMO LEON GUALTEROS ROCHA | K55: GERENTE DE FOMENTO DE LA INFRAESTRUCTURA | L55: 0-0 | M55: 0-0 | N55: 0-0 | O55: 0-0 | P55: 0-0 | Q55: 0-0 | R55: 0-0 | S55: 0-0 | T55: No Aplica | U55: 0-0 | X55: 3.4792878e+10 | Y55: ESPECÍFICO | Z55: DEPARTAMENTO NACIONAL DE PLANEACIÓN - DNP
A56: =VLOOKUP(D56,$A$175:$G$224,2,0) -> 0401-Tocancipá sostenible y sustentable: Municipio proyectado y planificado a largo plazo | B56: =VLOOKUP(D56,$A$175:$G$224,4,0) -> 040102-Espacios que se entrelazan y entornos para soñar | C56: =VLOOKUP(D56,$A$175:$G$224,5,0) -> Desarrollar y recuperar espacios de turismo ecológico y paisajismo en el municipio de Tocancipá. | D56: 04010201-Construcción, adecuación y mantenimiento de la malla vial. | E56: 2013-25817-0003 | F56: REHABILITACIÓN DE LA VÍA TOCANCIPÁ - LA FUENTE (VÍA ALTERNA ENTRE TOCANCIPÁ Y ZIPAQUIRÁ) MUNICIPIO DE TOCANCIPÁ - DEPARTAMENTO DE CUNDINAMARCA | G56: 7 | H56: 06 | I56: 2013 | J56: =VLOOKUP(K56,$N$138:$O$155,2,0) -> GUILLERMO LEON GUALTEROS ROCHA | K56: GERENTE DE FOMENTO DE LA INFRAESTRUCTURA | L56: 0-0 | M56: 0-0 | N56: 0-0 | O56: 0-0 | P56: 0-0 | Q56: 0-0 | R56: 0-0 | S56: 0-0 | T56: No Aplica | U56: 0-0 | X56: 2387412000 | Y56: ESPECÍFICO | Z56: GOBERNACIÓN DE CUNDINAMARCA
A57: =VLOOKUP(D57,$A$175:$G$224,2,0) -> 0401-Tocancipá sostenible y sustentable: Municipio proyectado y planificado a largo plazo | B57: =VLOOKUP(D57,$A$175:$G$224,4,0) -> 040102-Espacios que se entrelazan y entornos para soñar | C57: =VLOOKUP(D57,$A$175:$G$224,5,0) -> Desarrollar y recuperar espacios de turismo ecológico y paisajismo en el municipio de Tocancipá. | D57: 04010201-Construcción, adecuación y mantenimiento de la malla vial. | E57: 2012-25817-0004 | F57: CONSTRUCCIÓN VÍA BUENOS AIRES ENTRE LA ESCUELA Y EL SECTOR MORALES EN EL MUNICIPIO DE TOCANCIPÁ - CUNDINAMARCA | G57: 14 | H57: 06 | I57: 2013 | J57: =VLOOKUP(K57,$N$138:$O$155,2,0) -> GUILLERMO LEON GUALTEROS ROCHA | K57: GERENTE DE FOMENTO DE LA INFRAESTRUCTURA | L57: 0-0 | M57: 0-0 | N57: 0-0 | O57: 0-0 | P57: 0-0 | Q57: 0-0 | R57: 0-0 | S57: 0-0 | T57: No Aplica | U57: 0-0 | X57: 4.7905955e+09 | Y57: ESPECÍFICO | Z57: DEPARTAMENTO PARA LA PROSPERIDAD SOCIAL - DPS
A58: =VLOOKUP(D58,$A$175:$G$224,2,0) -> 0401-Tocancipá sostenible y sustentable: Municipio proyectado y planificado a largo plazo | B58: =VLOOKUP(D58,$A$175:$G$224,4,0) -> 040102-Espacios que se entrelazan y entornos para soñar | C58: =VLOOKUP(D58,$A$175:$G$224,5,0) -> Desarrollar y recuperar espacios de turismo ecológico y paisajismo en el municipio de Tocancipá. | D58: 04010201-Construcción, adecuación y mantenimiento de la malla vial. | E58: 2013-25817-0005 | F58: MEJORAMIENTO DE LA CALLE 14B ENTRE CARRERAS 5E Y 6E, DE LA CARRERA 5E ENTRE CALLES 14B Y 14A Y LA CARRERA 2E ENTRE CALLES 14 Y 13B DEL MUNICIPIO DE TOCANCIPA - CUNDINAMARCA | G58: 24 | H58: 06 | I58: 2013 | J58: =VLOOKUP(K58,$N$138:$O$155,2,0) -> GUILLERMO LEON GUALTEROS ROCHA | K58: GERENTE DE FOMENTO DE LA INFRAESTRUCTURA | L58: 0-0 | M58: 0-0 | N58: 0-0 | O58: 0-0 | P58: 0-0 | Q58: 0-0 | R58: 0-0 | S58: 0-0 | T58: No Aplica | U58: 0-0 | X58: 105950000 | Y58: ESPECÍFICO | Z58: GOBERNACIÓN DE CUNDINAMARCA
A59: =VLOOKUP(D59,$A$175:$G$224,2,0) -> 0401-Tocancipá sostenible y sustentable: Municipio proyectado y planificado a largo plazo | B59: =VLOOKUP(D59,$A$175:$G$224,4,0) -> 040102-Espacios que se entrelazan y entornos para soñar | C59: =VLOOKUP(D59,$A$175:$G$224,5,0) -> Desarrollar y recuperar espacios de turismo ecológico y paisajismo en el municipio de Tocancipá. | D59: 04010201-Construcción, adecuación y mantenimiento de la malla vial. | E59: 2013-25817-0006 | F59: REHABILITACIÓN, MEJORAMIENTO Y ADECUACIÓN DE LA VÍA TRES ESQUINAS - CASABLANCA EN LA VEREDA EL PORVENIR DEL MUNICIPIO DE TOCANCIPÁ, CUNDINAMARCA, CENTRO ORIENTE | G59: 23 | H59: 07 | I59: 2013 | J59: =VLOOKUP(K59,$N$138:$O$155,2,0) -> GUILLERMO LEON GUALTEROS ROCHA | K59: GERENTE DE FOMENTO DE LA INFRAESTRUCTURA | L59: 0-0 | M59: 0-0 | N59: 0-0 | O59: 0-0 | P59: 0-0 | Q59: 0-0 | R59: 0-0 | S59: 0-0 | T59: No Aplica | U59: 0-0 | X59: 9.893596e+09 | Y59: ESPECÍFICO | Z59: INSTITUTO NACIONAL DE VÍAS –INVÍAS– | AA59: DEVUELTO POR FALTA DE INCLUSIÓN EN EL PROGRAMA VÍAS PARA LA PROSPERIDAD.
A60: =VLOOKUP(D60,$A$175:$G$224,2,0) -> 0401-Tocancipá sostenible y sustentable: Municipio proyectado y planificado a largo plazo | B60: =VLOOKUP(D60,$A$175:$G$224,4,0) -> 040103-Equipamiento para todos | C60: =VLOOKUP(D60,$A$175:$G$224,5,0) -> Mejorar y mantener la infraestructura pública municipal, representada en edificios públicos, Instituciones educativas, escenarios deportivos, salones comunales y parques. | D60: 04010301-Infraestructura al servicio de la comunidad | E60: 2013-25817-0007 | F60: CONSTRUCCIÓN DE LA SEDE DE EDUCACIÓN BÁSICA SECUNDARIA Y MEDIA PARA LA INSTITUCIÓN EDUCATIVA LA FUENTE EN EL MUNICIPIO DE TOCANCIPÁ - CUNDINAMARCA | G60: 26 | H60: 07 | I60: 2013 | J60: =VLOOKUP(K60,$N$138:$O$155,2,0) -> GUILLERMO LEON GUALTEROS ROCHA | K60: GERENTE DE FOMENTO DE LA INFRAESTRUCTURA | L60: 0-0 | M60: 0-0 | N60: 0-0 | O60: 0-0 | P60: 0-0 | Q60: 0-0 | R60: 0-0 | S60: 0-0 | T60: No Aplica | U60: 0-0 | X60: 8601640960 | Y60: ESPECÍFICO | Z60: GOBERNACIÓN DE CUNDINAMARCA
A61: =VLOOKUP(D61,$A$175:$G$224,2,0) -> 0301-Espacios Verdes: Herencia para nuestros hijos | B61: =VLOOKUP(D61,$A$175:$G$224,4,0) -> 030105-Agua sustento de vida | C61: =VLOOKUP(D61,$A$175:$G$224,5,0) -> Preservar fuentes hídricas. | D61: 03010501-Manejo y recuperación del sistema hídrico. | E61: 2013-25817-0008 | F61: RECUPERACIÓN Y DISMINUCIÓN DEL RIESGO EN ÁREAS DE ZONAS DE QUEBRADAS Y VALLADOS EN EL MUNICIPIO DE TOCANCIPÁ, CUNDINAMARCA | G61: 6 | H61: 08 | I61: 2013 | J61: =VLOOKUP(K61,$N$138:$O$155,2,0) -> JORGE SARMIENTO TELLEZ | K61: GERENTE DE MEDIO AMBIENTE | L61: 0-0 | M61: 0-0 | N61: 0-0 | O61: 0-0 | P61: 0-0 | Q61: 0-0 | R61: 0-0 | S61: 0-0 | T61: No Aplica | U61: 0-0 | X61: 2000000000 | Y61: ESPECÍFICO | Z61: a)CORPORACIÓN AUTÓNOMA REGIONAL DE CUNDINAMARCA - CAR; b)UNIDAD NACIONAL PARA LA GESTION DEL RIESGO DE DESASTRES - “UNGRD”
A62: =VLOOKUP(D62,$A$175:$G$224,2,0) -> 0401-Tocancipá sostenible y sustentable: Municipio proyectado y planificado a largo plazo | B62: =VLOOKUP(D62,$A$175:$G$224,4,0) -> 040102-Espacios que se entrelazan y entornos para soñar | C62: =VLOOKUP(D62,$A$175:$G$224,5,0) -> Desarrollar y recuperar espacios de turismo ecológico y paisajismo en el municipio de Tocancipá. | D62: 04010201-Construcción, adecuación y mantenimiento de la malla vial. | E62: 2013-25817-0009 | F62: CONSTRUCCIÓN EN PLACA HUELLA DE LA VIA DE LA VEREDA LA FUENTE, SECTOR ABRAHAM BRAVO DEL MUNICIPIO DE TOCANCIPÁ | G62: 12 | H62: 08 | I62: 2013 | J62: =VLOOKUP(K62,$N$138:$O$155,2,0) -> GUILLERMO LEON GUALTEROS ROCHA | K62: GERENTE DE FOMENTO DE LA INFRAESTRUCTURA | L62: 0-0 | M62: 0-0 | N62: 0-0 | O62: 0-0 | P62: 0-0 | Q62: 0-0 | R62: 0-0 | S62: 0-0 | T62: No Aplica | U62: 0-0 | X62: 538175438 | Y62: ESPECÍFICO | Z62: GOBERNACIÓN DE CUNDINAMARCA
A63: =VLOOKUP(D63,$A$175:$G$224,2,0) -> 0301-Espacios Verdes: Herencia para nuestros hijos | B63: =VLOOKUP(D63,$A$175:$G$224,4,0) -> 030105-Agua sustento de vida | C63: =VLOOKUP(D63,$A$175:$G$224,5,0) -> Preservar fuentes hídricas. | D63: 03010501-Manejo y recuperación del sistema hídrico. | E63: 2013-25817-0010 | F63: MANTENIMIENTO Y CONSERVACIÓN DEL RÍO BOGOTÁ Y SUS JARILLONES EN EL MUNICIPIO DE TOCANCIPÁ, CUNDINAMARCA, CENTRO ORIENTE | G63: 4 | H63: 09 | I63: 2013 | J63: =VLOOKUP(K63,$N$138:$O$155,2,0) -> JORGE SARMIENTO TELLEZ | K63: GERENTE DE MEDIO AMBIENTE | L63: 0-0 | M63: 0-0 | N63: 0-0 | O63: 0-0 | P63: 0-0 | Q63: 0-0 | R63: 0-0 | S63: 0-0 | T63: No Aplica | U63: 0-0 | X63: 10400000000 | Y63: ESPECÍFICO | Z63: a)CORPORACIÓN AUTÓNOMA REGIONAL DE CUNDINAMARCA - CAR; b)UNIDAD NACIONAL PARA LA GESTION DEL RIESGO DE DESASTRES - “UNGRD”
A64: =VLOOKUP(D64,$A$175:$G$224,2,0) -> 0401-Tocancipá sostenible y sustentable: Municipio proyectado y planificado a largo plazo | B64: =VLOOKUP(D64,$A$175:$G$224,4,0) -> 040103-Equipamiento para todos | C64: =VLOOKUP(D64,$A$175:$G$224,5,0) -> Mejorar y mantener la infraestructura pública municipal, representada en edificios públicos, Instituciones educativas, escenarios deportivos, salones comunales y parques. | D64: 04010302-Infraestructura institucional | E64: 2013-25817-0011 | F64: ADECUACIÓN Y MEJORAMIENTO DE LOS CAMPOS DEPORTIVOS UBICADOS EN LAS VEREDAS LA ESMERALDA Y EL PORVENIR DEL MUNICIPIO DE TOCANCIPÁ, CUNDINAMARCA, CENTRO ORIENTE | G64: 10 | H64: 09 | I64: 2013 | J64: =VLOOKUP(K64,$N$138:$O$155,2,0) -> GUILLERMO LEON GUALTEROS ROCHA | K64: GERENTE DE FOMENTO DE LA INFRAESTRUCTURA | L64: 0-0 | M64: 0-0 | N64: 0-0 | O64: 0-0 | P64: 0-0 | Q64: 0-0 | R64: 0-0 | S64: 0-0 | T64: No Aplica | U64: 0-0 | X64: 5.9997784e+08 | Y64: ESPECÍFICO | Z64: DEPARTAMENTO ADMINISTRATIVO DEL DEPORTE, LA RECREACIÓN, LA ACTIVIDAD FÍSICA Y EL APROVECHAMIENTO DEL TIEMPO LIBRE - COLDEPORTES
A65: =VLOOKUP(D65,$A$175:$G$224,2,0) -> 0101-Camino para la construcción de un ciudadano participativo, productivo y competitivo | B65: =VLOOKUP(D65,$A$175:$G$224,4,0) -> 010103-Apoyo al sistema educativo para una formación integral (con innovación e investigación científica) | C65: =VLOOKUP(D65,$A$175:$G$224,5,0) -> Promocionar la formación integral acorde con las necesidades del municipio. | D65: 01010301-Uso de las nuevas tecnologías de la información y la comunicación | E65: 2013-25817-0012 | F65: IMPLEMENTACIÓN DE LAS AULAS INTELIGENTES DE LAS INSTITUCIONES EDUCATIVAS PÚBLICAS DEL MUNICIPIO DE TOCANCIPÁ, CUNDINAMARCA, CENTRO ORIENTE | G65: 16 | H65: 09 | I65: 2013 | J65: =VLOOKUP(K65,$N$138:$O$155,2,0) -> CARLOS ENRIQUE DELGADO RUEDA | K65: GERENTE DE EDUCACION | L65: 0-0 | M65: 0-0 | N65: 0-0 | O65: 0-0 | P65: 0-0 | Q65: 0-0 | R65: 0-0 | S65: 0-0 | T65: No Aplica | U65: 0-0 | X65: 14334500000 | Y65: ESPECÍFICO | Z65: SECRETARÍA TÉCNICA OCAD FONDO CTeI DEL SGR - COLCIENCIAS
A66: =VLOOKUP(D66,$A$175:$G$224,2,0) -> 0401-Tocancipá sostenible y sustentable: Municipio proyectado y planificado a largo plazo | B66: =VLOOKUP(D66,$A$175:$G$224,4,0) -> 040104-Entorno sostenible / Agua potable y saneamiento básico | C66: =VLOOKUP(D66,$A$175:$G$224,5,0) -> Optimizar el servicio de acueducto y alcantarillado en el municipio de Tocancipá. | D66: 04010401-Agua potable y saneamiento básico para el municipio. | E66: 2013-25817-0013 | F66: CONSTRUCCIÓN DE LA FASE II DEL SISTEMA DE ALCANTARILLADO (PLUVIAL) DE LA VEREDA VERGANZO, MUNICIPIO DE TOCANCIPÁ – CUNDINAMARCA | G66: 16 | H66: 09 | I66: 2013 | J66: =VLOOKUP(K66,$N$138:$O$155,2,0) -> JORGE ANDRES PORRAS VARGAS | K66: GERENTE EMPRESA DE SERVICIOS PUBLICOS | L66: 0-0 | M66: 0-0 | N66: 0-0 | O66: 0-0 | P66: 0-0 | Q66: 0-0 | R66: 0-0 | S66: 0-0 | T66: No Aplica | U66: 0-0 | X66: 1.6078377e+10 | Y66: ESPECÍFICO | Z66: MINISTERIO DE VIVIENDA, CIUDAD Y TERRITORIO DE COLOMBIA
A67: =VLOOKUP(D67,$A$175:$G$224,2,0) -> 0401-Tocancipá sostenible y sustentable: Municipio proyectado y planificado a largo plazo | B67: =VLOOKUP(D67,$A$175:$G$224,4,0) -> 040102-Espacios que se entrelazan y entornos para soñar | C67: =VLOOKUP(D67,$A$175:$G$224,5,0) -> Desarrollar y recuperar espacios de turismo ecológico y paisajismo en el municipio de Tocancipá. | D67: 04010201-Construcción, adecuación y mantenimiento de la malla vial. | E67: 2013-25817-0014 | F67: CONSTRUCCIÓN EN PLACA HUELLA DE LA VÍA CAMINO DEL GONE, SECTOR SAN MIGUEL, DE LA VEREDA LA FUENTE MUNICIPIO DE TOCANCIPÁ, CUNDINAMARCA, CENTRO ORIENTE | G67: 10 | H67: 10 | I67: 2013 | J67: =VLOOKUP(K67,$N$138:$O$155,2,0) -> GUILLERMO LEON GUALTEROS ROCHA | K67: GERENTE DE FOMENTO DE LA INFRAESTRUCTURA | L67: 0-0 | M67: 0-0 | N67: 0-0 | O67: 0-0 | P67: 0-0 | Q67: 0-0 | R67: 0-0 | S67: 0-0 | T67: No Aplica | U67: 0-0 | X67: =360596224.17+20000000 -> 3.8059622e+08 | Y67: ESPECÍFICO | Z67: INSTITUTO NACIONAL DE VÍAS –INVÍAS–
A68: =VLOOKUP(D68,$A$175:$G$224,2,0) -> 0401-Tocancipá sostenible y sustentable: Municipio proyectado y planificado a largo plazo | B68: =VLOOKUP(D68,$A$175:$G$224,4,0) -> 040102-Espacios que se entrelazan y entornos para soñar | C68: =VLOOKUP(D68,$A$175:$G$224,5,0) -> Desarrollar y recuperar espacios de turismo ecológico y paisajismo en el municipio de Tocancipá. | D68: 04010201-Construcción, adecuación y mantenimiento de la malla vial. | E68: 2013-25817-0015 | F68: DEMARCACIÓN Y SEÑALIZACIÓN VÍAL DE LA RED SECUNDARIA DE LAS VÍAS TOCANCIPÁ – LA FUENTE Y LA GLORIETA ENTRADA TERMOZIPA HASTA EL CRUCE VÍA ZIPAQUIRÁ BRICEÑO MUNICIPIO DE TOCANCIPA - CUNDINAMARCA | G68: 10 | H68: 10 | I68: 2013 | J68: =VLOOKUP(K68,$N$138:$O$155,2,0) -> GUILLERMO LEON GUALTEROS ROCHA | K68: GERENTE DE FOMENTO DE LA INFRAESTRUCTURA | L68: 0-0 | M68: 0-0 | N68: 0-0 | O68: 0-0 | P68: 0-0 | Q68: 0-0 | R68: 0-0 | S68: 0-0 | T68: No Aplica | U68: 0-0 | X68: =294000.002*1000 -> 294000002 | Y68: ESPECÍFICO | Z68: GOBERNACIÓN DE CUNDINAMARCA
A69: =VLOOKUP(D69,$A$175:$G$224,2,0) -> 0401-Tocancipá sostenible y sustentable: Municipio proyectado y planificado a largo plazo | B69: =VLOOKUP(D69,$A$175:$G$224,4,0) -> 040103-Equipamiento para todos | C69: =VLOOKUP(D69,$A$175:$G$224,5,0) -> Mejorar y mantener la infraestructura pública municipal, representada en edificios públicos, Instituciones educativas, escenarios deportivos, salones comunales y parques. | D69: 04010302-Infraestructura institucional | E69: 2013-25817-0016 | F69: CONSTRUCCIÓN DEL RESTAURANTE ESCOLAR INSTITUCIÓN EDUCATIVA DEPARTAMENTAL DE BACHILLERATO TÉCNICO COMERCIAL, EN EL ÁREA URBANA DEL MUNICIPIO DE TOCANCIPÁ - CUNDINAMARCA | G69: 22 | H69: 10 | I69: 2013 | J69: =VLOOKUP(K69,$N$138:$O$155,2,0) -> GUILLERMO LEON GUALTEROS ROCHA | K69: GERENTE DE FOMENTO DE LA INFRAESTRUCTURA | L69: 0-0 | M69: 0-0 | N69: 0-0 | O69: 0-0 | P69: 0-0 | Q69: 0-0 | R69: 0-0 | S69: 0-0 | T69: No Aplica | U69: 0-0 | X69: =936000000+20000000 -> 956000000 | Y69: ESPECÍFICO | Z69: GOBERNACIÓN DE CUNDINAMARCA
A70: =VLOOKUP(D70,$A$175:$G$224,2,0) -> 0401-Tocancipá sostenible y sustentable: Municipio proyectado y planificado a largo plazo | B70: =VLOOKUP(D70,$A$175:$G$224,4,0) -> 040103-Equipamiento para todos | C70: =VLOOKUP(D70,$A$175:$G$224,5,0) -> Mejorar y mantener la infraestructura pública municipal, representada en edificios públicos, Instituciones educativas, escenarios deportivos, salones comunales y parques. | D70: 04010302-Infraestructura institucional | E70: 2013-25817-0017 | F70: CONSTRUCCIÓN CUBIERTA PARA POLIDEPORTIVO VEREDA CANAVITA PARTE ALTA EN EL SECTOR BUENOS AIRES DEL MUNICIPIO DE TOCANCIPA CUNDINAMARCA | G70: 22 | H70: 10 | I70: 2013 | J70: =VLOOKUP(K70,$N$138:$O$155,2,0) -> GUILLERMO LEON GUALTEROS ROCHA | K70: GERENTE DE FOMENTO DE LA INFRAESTRUCTURA | L70: 0-0 | M70: 0-0 | N70: 0-0 | O70: 0-0 | P70: 0-0 | Q70: 0-0 | R70: 0-0 | S70: 0-0 | T70: No Aplica | U70: 0-0 | X70: =353679836+24757589 -> 378437425 | Y70: ESPECÍFICO | Z70: DEPARTAMENTO ADMINISTRATIVO DEL DEPORTE, LA RECREACIÓN, LA ACTIVIDAD FÍSICA Y EL APROVECHAMIENTO DEL TIEMPO LIBRE - COLDEPORTES
A71: =VLOOKUP(D71,$A$175:$G$224,2,0) -> 0401-Tocancipá sostenible y sustentable: Municipio proyectado y planificado a largo plazo | B71: =VLOOKUP(D71,$A$175:$G$224,4,0) -> 040103-Equipamiento para todos | C71: =VLOOKUP(D71,$A$175:$G$224,5,0) -> Mejorar y mantener la infraestructura pública municipal, representada en edificios públicos, Instituciones educativas, escenarios deportivos, salones comunales y parques. | D71: 04010302-Infraestructura institucional | E71: 2013-25817-0018 | F71: CONSTRUCCIÓN DE CUBIERTA PARA EL POLIDEPORTIVO DE LA VEREDA VERGAZO EN EL SECTOR MILENIUM III DEL MUNICIPIO DE TOCANCIPA CUNDINAMARCA | G71: 22 | H71: 10 | I71: 2013 | J71: =VLOOKUP(K71,$N$138:$O$155,2,0) -> GUILLERMO LEON GUALTEROS ROCHA | K71: GERENTE DE FOMENTO DE LA INFRAESTRUCTURA | L71: 0-0 | M71: 0-0 | N71: 0-0 | O71: 0-0 | P71: 0-0 | Q71: 0-0 | R71: 0-0 | S71: 0-0 | T71: No Aplica | U71: 0-0 | X71: =390361796+27325326 -> 417687122 | Y71: ESPECÍFICO | Z71: DEPARTAMENTO ADMINISTRATIVO DEL DEPORTE, LA RECREACIÓN, LA ACTIVIDAD FÍSICA Y EL APROVECHAMIENTO DEL TIEMPO LIBRE - COLDEPORTES
A72: =VLOOKUP(D72,$A$175:$G$224,2,0) -> 0401-Tocancipá sostenible y sustentable: Municipio proyectado y planificado a largo plazo | B72: =VLOOKUP(D72,$A$175:$G$224,4,0) -> 040104-Entorno sostenible / Agua potable y saneamiento básico | C72: =VLOOKUP(D72,$A$175:$G$224,5,0) -> Optimizar el servicio de acueducto y alcantarillado en el municipio de Tocancipá. | D72: 04010401-Agua potable y saneamiento básico para el municipio. | E72: 2013-25817-0019 | F72: CONSTRUCCIÓN ALCANTARILLADO SANITARIO COLECTOR VERGANZO DEL MUNICIPIO DE TOCANCIPÁ | G72: 22 | H72: 10 | I72: 2013 | J72: =VLOOKUP(K72,$N$138:$O$155,2,0) -> JORGE ANDRES PORRAS VARGAS | K72: GERENTE EMPRESA DE SERVICIOS PUBLICOS | L72: 0-0 | M72: 0-0 | N72: 0-0 | O72: 0-0 | P72: 0-0 | Q72: 0-0 | R72: 0-0 | S72: 0-0 | T72: No Aplica | U72: 0-0 | X72: 1674649001 | Y72: ESPECÍFICO | Z72: CORPORACIÓN AUTÓNOMA REGIONAL DE CUNDINAMARCA - CAR
A73: =VLOOKUP(D73,$A$175:$G$224,2,0) -> 0601-Transparencia y participación ciudadana: eje de una gestión pública eficiente | B73: =VLOOKUP(D73,$A$175:$G$224,4,0) -> 060104-Tocancipá participativa / Juntas de acción comunal, voces de la comunidad / Principio para el cambio | C73: =VLOOKUP(D73,$A$175:$G$224,5,0) -> Propiciar espacios de participación ciudadana en Tocancipá. | D73: 06010401-Participación activa de las juntas de acción comunal. | E73: 2014-25817-0001 | F73: ASISTENCIA A LA PARTICIPACIÓN ACTIVA DE LAS JUNTAS DE ACCIÓN COMUNAL DEL MUNICIPIO DE TOCANCIPÁ. | G73: 0-0 | H73: 0-0 | I73: 0-0 | J73: =VLOOKUP(K73,$N$138:$O$155,2,0) -> 0-0 | K73: 0-0 | L73: 0-0 | M73: 0-0 | N73: 0-0 | O73: 0-0 | P73: 0-0 | Q73: 0-0 | R73: 0-0 | S73: 0-0 | T73: No Aplica | U73: 0-0 | Y73: GENERAL | AB73: =VLOOKUP(D73,[1]Hoja3!$A$2:$E$50,2,0) -> 48 | AE73: =+CONCATENATE("Proyecto: ",D73,";"," Nombre Ficha EBI: ",F73,"; ","Código SSEPI: ",E73,".") -> Proyecto: 06010401-Participación activa de las juntas de acción comunal.; Nombre Ficha EBI: ASISTENCIA A LA PARTICIPACIÓN ACTIVA DE LAS JUNTAS DE ACCIÓN COMUNAL DEL MUNICIPIO DE TOCANCIPÁ.; Código SSEPI: 2014-25817-0001. | AJ73: =VLOOKUP(D73,[1]Hoja3!$A$2:$E$50,5,0) -> 0
...

Sheet DEPENDENCIAS
A1: NOMBRE DE LA DEPENDENCIA | B1: CARGO | C1: NOMBRES
A2: 0-0 | B2: 0-0 | C2: 0-0
A3: ALCALDIA DE TOCANCIPA | B3: ALCALDE MUNICPAL | C3: CARLOS JULIO ROZO MORENO
A4: OFICINA JURIDICA Y DE CONTRATACION | B4: JEFE OFICINA JURIDICA Y DE CONTRATACION | C4: MARLA PATRICIA BARBOSA PALLARES
A5: OFICINA DE CONTROL INTERNO | B5: JEFE DE CONTROL INTERNO | C5: LILIANA LOPEZ RIVEROS
A6: GERENCIA DE GOBIERNO | B6: GERENTE DE GOBIERNO | C6: ERICK JOHANY GALEANO BASABE
A7: GERENCIA DE DESARROLLO ADMINISTRATIVO | B7: GERENTE DE DESARROLLO ADMINISTRATIVO | C7: AMERICA REYES PENAGOS
A8: GERENCIA DE DESARROLLO ECONOMICO | B8: GERENTE DE DESARROLLO ECONOMICO | C8: FRANCISCO RODRIGUEZ SANTOS
A9: GERENCIA DE DESARROLLO SOCIAL | B9: GERENTE DE DESDAROLLO SOCIAL | C9: DINA LUZ SANCHEZ ARDILA
A10: GERENCIA DE MEDIO AMBIENTE | B10: GERENTE DE MEDIO AMBIENTE | C10: JORGE SARMIENTO TELLEZ
A11: GERENCIA DE PLANEACION | B11: SECRETARIA DE PLANEACION | C11: HECTOR ORLANDO RUÍZ PALACIOS
A12: GERENCIA DE SALUD | B12: GERENTE DE SALUD | C12: MONICA DEL PILAR MONTERO PEREZ
... A44: ND | B44: ND | C44: ND
