Workbook

Sheet POAI_2014_Políticas_$
C1: RECURSOS ASIGNADOS 2014 (CERTIFICADOS POR GERENCIA FINANCIERA) - POR METAS DE PRODUCTO ($ de 2014)
A2: CÓD. CONS. POLÍTICA | B2: POLÍTICA | C2: ICLD (Propios) | D2: SOB. BOMB. | E2: SOB. GAS. | F2: IMP. ESPEC. | G2: CONT. VALOR. | H2: PLUSV. | I2: CESIONES | J2: CONT. MIG. IB. | K2: CONT. CONTR. | L2: REC. LEY 99 | M2: EST. PROC. | N2: IMP. ULUMB. | O2: SGP MAT. | P2: SGP GRAT. | Q2: SGP ALIM. | R2: SGP PRIM. | S2: SGP AGUA | T2: SGP DEP. | U2: SGP CULT. | V2: SGP LIBRE | W2: SGP REG. SUB. | X2: SGP S. PUB. | Y2: ETESA | Z2: FOSYGA | AA2: CAJA COMP. | AB2: RENTAS CED. | AC2: REND. ICLD | AD2: REND. SGP ED. | AE2: REND. SGP AGUA | AF2: REND. SGP PROP. | AG2: REND. SGP REG. | AH2: REND. SGP SAL. | AI2: REND. ETESA | AJ2: OTROS REND. | AK2: FOND. ACT. LUD. | AL2: FOND. VIV. | AM2: FOND. ASIST. AG. | AN2: FOND. SOLID. | AO2: CREDITO | AP2: TOTAL ASIGNADO 2014 POR METAS DE PRODUCTO
A3: 0101 | B3: Camino para la construcción de un ciudadano participativo, productivo y competitivo | C3: =SUM('POAI_2014_Metas Prod'!AC7:AC42) -> 2770100000 | D3: =SUM('POAI_2014_Metas Prod'!AD7:AD42) -> 0 | E3: =SUM('POAI_2014_Metas Prod'!AE7:AE42) -> 0 | F3: =SUM('POAI_2014_Metas Prod'!AF7:AF42) -> 0 | G3: =SUM('POAI_2014_Metas Prod'!AG7:AG42) -> 0 | H3: =SUM('POAI_2014_Metas Prod'!AH7:AH42) -> 0 | I3: =SUM('POAI_2014_Metas Prod'!AI7:AI42) -> 0 | J3: =SUM('POAI_2014_Metas Prod'!AJ7:AJ42) -> 0 | ... AO3: =SUM('POAI_2014_Metas Prod'!BO7:BO42) -> 0 | AP3: =SUM(C3:AO3) -> 3.5166337e+09
A4: 0102 | B4: Bienestar y Calidad de Vida a través de servicios de salud eficientes y oportuno | C4: =SUM('POAI_2014_Metas Prod'!AC43:AC60) -> 9.5835105e+08 | D4: =SUM('POAI_2014_Metas Prod'!AD43:AD60) -> 0 | E4: =SUM('POAI_2014_Metas Prod'!AE43:AE60) -> 0 | F4: =SUM('POAI_2014_Metas Prod'!AF43:AF60) -> 0 | G4: =SUM('POAI_2014_Metas Prod'!AG43:AG60) -> 0 | H4: =SUM('POAI_2014_Metas Prod'!AH43:AH60) -> 0 | I4: =SUM('POAI_2014_Metas Prod'!AI43:AI60) -> 0 | J4: =SUM('POAI_2014_Metas Prod'!AJ43:AJ60) -> 0 | ... AO4: =SUM('POAI_2014_Metas Prod'!BO43:BO60) -> 0 | AP4: =SUM(C4:AO4) -> 3.4228389e+09
A5: 0103 | B5: Tocancipá Segura | C5: =SUM('POAI_2014_Metas Prod'!AC61:AC75) -> 180090000 | D5: =SUM('POAI_2014_Metas Prod'!AD61:AD75) -> 4.0357706e+08 | E5: =SUM('POAI_2014_Metas Prod'!AE61:AE75) -> 0 | F5: =SUM('POAI_2014_Metas Prod'!AF61:AF75) -> 0 | G5: =SUM('POAI_2014_Metas Prod'!AG61:AG75) -> 0 | H5: =SUM('POAI_2014_Metas Prod'!AH61:AH75) -> 0 | I5: =SUM('POAI_2014_Metas Prod'!AI61:AI75) -> 0 | J5: =SUM('POAI_2014_Metas Prod'!AJ61:AJ75) -> 0 | ... AO5: =SUM('POAI_2014_Metas Prod'!BO61:BO75) -> 0 | AP5: =SUM(C5:AO5) -> 2.2944001e+09
A6: 0104 | B6: Nuevos Vientos Culturales y Turísticos | C6: =SUM('POAI_2014_Metas Prod'!AC76:AC91) -> 2421140400 | D6: =SUM('POAI_2014_Metas Prod'!AD76:AD91) -> 0 | E6: =SUM('POAI_2014_Metas Prod'!AE76:AE91) -> 0 | F6: =SUM('POAI_2014_Metas Prod'!AF76:AF91) -> 0 | G6: =SUM('POAI_2014_Metas Prod'!AG76:AG91) -> 0 | H6: =SUM('POAI_2014_Metas Prod'!AH76:AH91) -> 0 | I6: =SUM('POAI_2014_Metas Prod'!AI76:AI91) -> 0 | J6: =SUM('POAI_2014_Metas Prod'!AJ76:AJ91) -> 0 | ... AO6: =SUM('POAI_2014_Metas Prod'!BO76:BO91) -> 0 | AP6: =SUM(C6:AO6) -> 2756962998
A7: 0105 | B7: Desarrollo armónico e integral del ser humano por medio del deporte | C7: =SUM('POAI_2014_Metas Prod'!AC92:AC103) -> 959800000 | D7: =SUM('POAI_2014_Metas Prod'!AD92:AD103) -> 0 | E7: =SUM('POAI_2014_Metas Prod'!AE92:AE103) -> 0 | F7: =SUM('POAI_2014_Metas Prod'!AF92:AF103) -> 0 | G7: =SUM('POAI_2014_Metas Prod'!AG92:AG103) -> 0 | H7: =SUM('POAI_2014_Metas Prod'!AH92:AH103) -> 0 | I7: =SUM('POAI_2014_Metas Prod'!AI92:AI103) -> 0 | J7: =SUM('POAI_2014_Metas Prod'!AJ92:AJ103) -> 5.1153167e+08 | ... AO7: =SUM('POAI_2014_Metas Prod'!BO92:BO103) -> 0 | AP7: =SUM(C7:AO7) -> 1.6093831e+09
A8: 0201 | B8: Inclusión Social, Politicamente responsables y con corresponsabilidad de todos los actores | C8: =SUM('POAI_2014_Metas Prod'!AC104:AC128) -> 4354212100 | D8: =SUM('POAI_2014_Metas Prod'!AD104:AD128) -> 0 | E8: =SUM('POAI_2014_Metas Prod'!AE104:AE128) -> 0 | F8: =SUM('POAI_2014_Metas Prod'!AF104:AF128) -> 0 | G8: =SUM('POAI_2014_Metas Prod'!AG104:AG128) -> 0 | H8: =SUM('POAI_2014_Metas Prod'!AH104:AH128) -> 0 | I8: =SUM('POAI_2014_Metas Prod'!AI104:AI128) -> 0 | J8: =SUM('POAI_2014_Metas Prod'!AJ104:AJ128) -> 0 | ... AO8: =SUM('POAI_2014_Metas Prod'!BO104:BO128) -> 0 | AP8: =SUM(C8:AO8) -> 4426117167
A9: 0301 | B9: Espacios Verdes: Herencia para nuestros hijos | C9: =SUM('POAI_2014_Metas Prod'!AC129:AC145) -> 1148831800 | D9: =SUM('POAI_2014_Metas Prod'!AD129:AD145) -> 0 | E9: =SUM('POAI_2014_Metas Prod'!AE129:AE145) -> 0 | F9: =SUM('POAI_2014_Metas Prod'!AF129:AF145) -> 0 | G9: =SUM('POAI_2014_Metas Prod'!AG129:AG145) -> 0 | H9: =SUM('POAI_2014_Metas Prod'!AH129:AH145) -> 0 | I9: =SUM('POAI_2014_Metas Prod'!AI129:AI145) -> 0 | J9: =SUM('POAI_2014_Metas Prod'!AJ129:AJ145) -> 0 | ... AO9: =SUM('POAI_2014_Metas Prod'!BO129:BO145) -> 0 | AP9: =SUM(C9:AO9) -> 1433634300
A10: 0401 | B10: Tocancipá sostenible y sustentable: Municipio proyectado y planificado a largo plazo | C10: =SUM('POAI_2014_Metas Prod'!AC146:AC167) -> 9.1798553e+09 | D10: =SUM('POAI_2014_Metas Prod'!AD146:AD167) -> 0 | E10: =SUM('POAI_2014_Metas Prod'!AE146:AE167) -> 1042091000 | F10: =SUM('POAI_2014_Metas Prod'!AF146:AF167) -> 84476000 | G10: =SUM('POAI_2014_Metas Prod'!AG146:AG167) -> 330000000 | H10: =SUM('POAI_2014_Metas Prod'!AH146:AH167) -> 2408073698 | I10: =SUM('POAI_2014_Metas Prod'!AI146:AI167) -> 0 | J10: =SUM('POAI_2014_Metas Prod'!AJ146:AJ167) -> 2.1922786e+08 | ... AO10: =SUM('POAI_2014_Metas Prod'!BO146:BO167) -> 5061550000 | AP10: =SUM(C10:AO10) -> 2.1982689e+10
A11: 0501 | B11: Por una Tocancipá Productiva y Competitiva | C11: =SUM('POAI_2014_Metas Prod'!AC168:AC178) -> 967000000 | D11: =SUM('POAI_2014_Metas Prod'!AD168:AD178) -> 0 | E11: =SUM('POAI_2014_Metas Prod'!AE168:AE178) -> 0 | F11: =SUM('POAI_2014_Metas Prod'!AF168:AF178) -> 0 | G11: =SUM('POAI_2014_Metas Prod'!AG168:AG178) -> 0 | H11: =SUM('POAI_2014_Metas Prod'!AH168:AH178) -> 0 | I11: =SUM('POAI_2014_Metas Prod'!AI168:AI178) -> 0 | J11: =SUM('POAI_2014_Metas Prod'!AJ168:AJ178) -> 0 | ... AO11: =SUM('POAI_2014_Metas Prod'!BO168:BO178) -> 0 | AP11: =SUM(C11:AO11) -> 973362065
A12: 0601 | B12: Transparencia y participación ciudadana: eje de una gestión pública eficiente | C12: =SUM('POAI_2014_Metas Prod'!AC179:AC195) -> 1037900000 | D12: =SUM('POAI_2014_Metas Prod'!AD179:AD195) -> 0 | E12: =SUM('POAI_2014_Metas Prod'!AE179:AE195) -> 0 | F12: =SUM('POAI_2014_Metas Prod'!AF179:AF195) -> 0 | G12: =SUM('POAI_2014_Metas Prod'!AG179:AG195) -> 0 | H12: =SUM('POAI_2014_Metas Prod'!AH179:AH195) -> 0 | I12: =SUM('POAI_2014_Metas Prod'!AI179:AI195) -> 0 | J12: =SUM('POAI_2014_Metas Prod'!AJ179:AJ195) -> 0 | ... AO12: =SUM('POAI_2014_Metas Prod'!BO179:BO195) -> 0 | AP12: =SUM(C12:AO12) -> 1037900000
B13: TOTALES | C13: =SUM(C3:C12) -> 2.3977281e+10 | D13: =SUM(D3:D12) -> 4.0357706e+08 | E13: =SUM(E3:E12) -> 1042091000 | F13: =SUM(F3:F12) -> 84476000 | G13: =SUM(G3:G12) -> 330000000 | H13: =SUM(H3:H12) -> 2408073698 | I13: =SUM(I3:I12) -> 0 | J13: =SUM(J3:J12) -> 730759524 | ... AP13: =SUM(AP3:AP12) -> 43453921017 | AR13: 43453921017 | AT13: =+AP13-AR13 -> 0
B15: TECHO PRESUPUESTAL | C15: =+'TECHOS PRESUPUESTALES 2014'!C9 -> 2.3977281e+10 | D15: =+'TECHOS PRESUPUESTALES 2014'!C11 -> 4.0357706e+08 | E15: =+'TECHOS PRESUPUESTALES 2014'!C12 -> 1042091000 | F15: =+'TECHOS PRESUPUESTALES 2014'!C13 -> 84476000 | G15: =+'TECHOS PRESUPUESTALES 2014'!C14 -> 330000000 | H15: =+'TECHOS PRESUPUESTALES 2014'!C15 -> 2408073698 | I15: =+'TECHOS PRESUPUESTALES 2014'!C16 -> 0 | J15: =+'TECHOS PRESUPUESTALES 2014'!C17 -> 730759524 | K15: =+'TECHOS PRESUPUESTALES 2014'!C18 -> 1710733000 | L15: =+'TECHOS PRESUPUESTALES 2014'!C19 -> 569605000 | M15: =+'TECHOS PRESUPUESTALES 2014'!C21 -> 231055000 | N15: =+'TECHOS PRESUPUESTALES 2014'!C22 -> 214843000 | O15: =+'TECHOS PRESUPUESTALES 2014'!C23 -> 471318035 | P15: =+'TECHOS PRESUPUESTALES 2014'!C24 -> 532877000 | Q15: =+'TECHOS PRESUPUESTALES 2014'!C25 -> 71905067 | R15: =+'TECHOS PRESUPUESTALES 2014'!C26 -> 0 | S15: =+'TECHOS PRESUPUESTALES 2014'!C27 -> 627203496 | T15: =+'TECHOS PRESUPUESTALES 2014'!C28 -> 138051463 | U15: =+'TECHOS PRESUPUESTALES 2014'!C29 -> 103538598 | V15: =+'TECHOS PRESUPUESTALES 2014'!C30 -> 1311488905 | W15: =+'TECHOS PRESUPUESTALES 2014'!C31 -> 592582137 | X15: =+'TECHOS PRESUPUESTALES 2014'!C32 -> 131546231 | Y15: =+'TECHOS PRESUPUESTALES 2014'!C33 -> 42382703 | Z15: =+'TECHOS PRESUPUESTALES 2014'!C34 -> 849622614 | AA15: =+'TECHOS PRESUPUESTALES 2014'!C35 -> 450323371 | AB15: =+'TECHOS PRESUPUESTALES 2014'!C36 -> 382110888 | AC15: =+'TECHOS PRESUPUESTALES 2014'!C37 -> 790394940 | AD15: =+'TECHOS PRESUPUESTALES 2014'!C38 -> 3474618 | AE15: =+'TECHOS PRESUPUESTALES 2014'!C39 -> 9205236 | AF15: =+'TECHOS PRESUPUESTALES 2014'!C40 -> 28503988 | AG15: =+'TECHOS PRESUPUESTALES 2014'!C41 -> 10991042 | AH15: =+'TECHOS PRESUPUESTALES 2014'!C42 -> 300000 | AI15: =+'TECHOS PRESUPUESTALES 2014'!C43 -> 4628895 | AJ15: =+'TECHOS PRESUPUESTALES 2014'!C44 -> 41604832 | AK15: =+'TECHOS PRESUPUESTALES 2014'!C45 -> 1229000 | AL15: =+'TECHOS PRESUPUESTALES 2014'!C46 -> 0 | AM15: =+'TECHOS PRESUPUESTALES 2014'!C47 -> 6362065 | AN15: =+'TECHOS PRESUPUESTALES 2014'!C48 -> 88231991 | AO15: =+'TECHOS PRESUPUESTALES 2014'!C49 -> 5061550000 | AP15: =SUM(C15:AO15) -> 4.3453921e+10 | AR15: 43453921017 | AT15: =+AP15-AR15 -> 0.0019836426
B17: PENDIENTE POR DISTRIBUIR | C17: =+C15-C13 -> 0 | D17: =+D15-D13 -> 0.0019840002 | E17: =+E15-E13 -> 0 | F17: =+F15-F13 -> 0 | G17: =+G15-G13 -> 0 | H17: =+H15-H13 -> 0 | I17: =+I15-I13 -> 0 | J17: =+J15-J13 -> 0 | ... AP17: =+AP15-AP13 -> 0.0019836426
AP22: 43453921017
AP25: =+AP13-AP22 -> 0
AP28: =+AP15-AP22 -> 0.0019836426

Sheet POAI_2014_Metas Prod
A1: MUNICIPIO DE TOCANCIPÁ
A2: PLAN DE DESARROLLO MUNICIPAL "TOCANCIPÁ INCLUYENTE Y PARTICIPATIVA (2012 - 2015)
A3: PLAN OPERATIVO ANUAL DE INVERSIONES - VIGENCIA 2014
A4: Objetivo general del plan: Avanzar en procesos de desarrollo integral a través de estrategias que articulen las potencialidades del municipio de Tocancipá.
A5: Visión compartida de desarrollo. Tocancipá capital industrial del Departamento, se convertirá para el 2050 en una ciudad competente, sostenible y generadora de desarrollo integral, mediante la optimización de los niveles de calidad de vida de su población, a través de la armonización y concertación con corresponsabilidad social. | X5: INFORMACIÓN FINANCIERA INICIAL PLAN INDICATIVO A PESOS ($) DE 2012 | AA5: INFORMACIÓN FINANCIERA ACTUALIZADA A PESOS ($) DE LA VIGENCIA 2014 | AC5: RECURSOS ASIGNADOS 2014 (CERTIFICADOS POR GERENCIA FINANCIERA) - POR METAS DE PRODUCTO ($ de 2014)
A6: CÓD DIMENSIÓN | B6: DIMENSIÓN | C6: POND % DIMEN 2013 | D6: CÓD. CONS. POLÍTICA | E6: POLÍTICA | F6: POND % POLIT 2013 | G6: Sectores Guía DNP | H6: CÓD. CONS. PROGR. | I6: PROGRAMAS DE INVERSIÓN | J6: CÓD. CONS. META RESULTADO | K6: DESCRIPCIÓN DE LAS METAS DE RESULTADO | L6: POND % META RESULT | M6: TIPO DE META | N6: LÍNEA BASE IND. RESULTADO (DICIEMBRE DE 2011) | O6: CANT. IND. RESULTADO CUATRIENIO | P6: CÓD. CONS. PROYECTO | Q6: PROYECTO | R6: CÓD. CONS. META PROD | S6: DESCRIPCIÓN DE LAS METAS DE PRODUCTO | T6: NOMBRE INDICADOR META PRODUCTO | U6: LÍNEA BASE IND. PROD. (DICIEMBRE DE 2011) | V6: CANT. IND. META PRODUCTO CUATRIENIO | W6: CANT. IND. META PRODUCTO 2014 | X6: V/R Programado POR META PRODUCTO VIGENCIA 2014 ($ de 2012) | Z6: SUBTOTALES PROGRAMAS DE INVERSIÓN PLAN INDICATIVO ($ DE 2012) | AA6: V/R Programado PLAN INDICATIVO POR META PROD (Actualización $ de 2014) | AB6: V/R Solicitado PROGRAMAS DE INVERSIÓN 2014 ($ de 2014) | AC6: ICLD (Propios) | AD6: SOB. BOMB. | AE6: SOB. GAS. | AF6: IMP. ESPEC. | AG6: CONT. VALOR. | AH6: PLUSV. | AI6: CESIONES | AJ6: CONT. MIG. IB. | AK6: CONT. CONTR. | AL6: REC. LEY 99 | AM6: EST. PROC. | AN6: IMP. ULUMB. | AO6: SGP MAT. | AP6: SGP GRAT. | AQ6: SGP ALIM. | AR6: SGP PRIM. | AS6: SGP AGUA | AT6: SGP DEP. | AU6: SGP CULT. | AV6: SGP LIBRE | AW6: SGP REG. SUB. | AX6: SGP S. PUB. | AY6: ETESA | AZ6: FOSYGA | BA6: CAJA COMP. | BB6: RENTAS CED. | BC6: REND. ICLD | BD6: REND. SGP ED. | BE6: REND. SGP AGUA | BF6: REND. SGP PROP. | BG6: REND. SGP REG. | BH6: REND. SGP SAL. | BI6: REND. ETESA | BJ6: OTROS REND. | BK6: FOND. ACT. LUD. | BL6: FOND. VIV. | BM6: FOND. ASIST. AG. | BN6: FOND. SOLID. | BO6: CREDITO | BP6: TOTAL ASIGNADO 2014 POR METAS DE PRODUCTO | BQ6: V/R POR FINANCIAR 2014 | BR6: VALIDADOR FINANCIACIÓN | BS6: DEPENDENCIA RESPONSABLE / CARGO RESPONSABLE | CT6: REDUCCIÓN ICLD POR PLUSVALÍA | CU6: REDUCCIÓN ICLD POR CESIONES | CV6: REDUCCIÓN ICLD POR VIV_CESIONES
A7: 01 | B7: SOCIO CULTURAL | C7: =+(Z7+Z18+Z24+Z39+Z41+Z43+Z48+Z53+Z61+Z70+Z73+Z76+Z85+Z88+Z92+Z96)/$Z$196 -> 0.16705545 | D7: 0101 | E7: Camino para la construcción de un ciudadano participativo, productivo y competitivo | F7: =+(Z7+Z18+Z24+Z39+Z41)/$Z$196 -> 0.069845447 | G7: Educación | H7: 010101 | I7: Calidad, eficiencia y cobertura educativa | J7: 010101-MR1 | K7: Mejorar los resultados de pruebas ICFES en las Instituciones Educativa Municipales: Técnico Comercial a Superior; Técnico Industrial a Superior; La Fuente a Alto. | L7: =+(SUM(X7:X11))/$Z$196 -> 0.0071902391 | N7: Técnico Comercial Alto; Técnico Industrial , Alto; La Fuente, Medio. | O7: Técnico Comercial (0.745085 hasta 0.8318356); Técnico Industrial (0.745085 hasta 0.8318356); La Fuente (0.6778498 hasta 0.745085). | P7: 01010101 | Q7: Tocancipá por la calidad de la educación. | R7: 01010101-MP1 | S7: Reformular el plan educativo municipal. | T7: Plan Educativo Municipal Reformulado | U7: 1 | V7: 1 | W7: 1 | X7: 0 | Y7: =+X7*1.0244 -> 0 | Z7: =SUM(X7:X17) -> 4529216000 | AA7: =+Y7*1.04 -> 0 | AB7: =SUM(AA7:AA17) -> 4.825318e+09 | BP7: =SUM(AC7:BO7) -> 0 | BQ7: =+AA7-BP7 -> 0 | BR7: =+IF(AA7>=BP7,"CORRECTO","INCORRECTO") -> CORRECTO | BS7: GERENCIA DE EDUCACION | BT7: GERENTE DE EDUCACION
A8: 01 | B8: SOCIO CULTURAL | D8: 0101 | E8: Camino para la construcción de un ciudadano participativo, productivo y competitivo | H8: 010101 | I8: Calidad, eficiencia y cobertura educativa | J8: 010101-MR1 | K8: Mejorar los resultados de pruebas ICFES en las Instituciones Educativa Municipales: Técnico Comercial a Superior; Técnico Industrial a Superior; La Fuente a Alto. | N8: Técnico Comercial Alto; Técnico Industrial , Alto; La Fuente, Medio. | P8: 01010101 | Q8: Tocancipá por la calidad de la educación. | R8: 01010101-MP2 | S8: Implementar el sistema de gestión de calidad en el sector educativo. | T8: Número de IED con Sistemas de Gestión de Calidad Implementado | U8: 0 | V8: 3 | W8: 2 | X8: 150000000 | Y8: =+X8*1.0244 -> 153660000 | AA8: =+Y8*1.04 -> 159806400 | BP8: =SUM(AC8:BO8) -> 0 | BQ8: =+AA8-BP8 -> 159806400 | BR8: =+IF(AA8>=BP8,"CORRECTO","INCORRECTO") -> CORRECTO | BS8: GERENCIA DE EDUCACION | BT8: GERENTE DE EDUCACION
A9: 01 | B9: SOCIO CULTURAL | D9: 0101 | E9: Camino para la construcción de un ciudadano participativo, productivo y competitivo | H9: 010101 | I9: Calidad, eficiencia y cobertura educativa | J9: 010101-MR1 | K9: Mejorar los resultados de pruebas ICFES en las Instituciones Educativa Municipales: Técnico Comercial a Superior; Técnico Industrial a Superior; La Fuente a Alto. | N9: Técnico Comercial Alto; Técnico Industrial , Alto; La Fuente, Medio. | P9: 01010101 | Q9: Tocancipá por la calidad de la educación. | R9: 01010101-MP3 | S9: Mejorar el modelo pedagógico acorde a las necesidades del municipio a través de la resignificación del Proyecto Educativo Institucional (PEI) | T9: Número de PEI's Reformulados | U9: 3 | V9: 3 | W9: 3 | X9: 558216000 | Y9: =+X9*1.0244 -> 5.7183647e+08 | AA9: =+Y9*1.04 -> 5.9470993e+08 | AP9: 532877000 | BP9: =SUM(AC9:BO9) -> 532877000 | BQ9: =+AA9-BP9 -> 61832929 | BR9: =+IF(AA9>=BP9,"CORRECTO","INCORRECTO") -> CORRECTO | BS9: GERENCIA DE EDUCACION | BT9: GERENTE DE EDUCACION
A10: 01 | B10: SOCIO CULTURAL | D10: 0101 | E10: Camino para la construcción de un ciudadano participativo, productivo y competitivo | H10: 010101 | I10: Calidad, eficiencia y cobertura educativa | J10: 010101-MR1 | K10: Mejorar los resultados de pruebas ICFES en las Instituciones Educativa Municipales: Técnico Comercial a Superior; Técnico Industrial a Superior; La Fuente a Alto. | N10: Técnico Comercial Alto; Técnico Industrial , Alto; La Fuente, Medio. | P10: 01010101 | Q10: Tocancipá por la calidad de la educación. | R10: 01010101-MP4 | S10: Capacitar a 216 docentes en el sistema de evaluación por competencias. | T10: Número de Docentes Capacitados | U10: 216 | V10: 216 | W10: 216 | X10: 150000000 | Y10: =+X10*1.0244 -> 153660000 | AA10: =+Y10*1.04 -> 159806400 | BP10: =SUM(AC10:BO10) -> 0 | BQ10: =+AA10-BP10 -> 159806400 | BR10: =+IF(AA10>=BP10,"CORRECTO","INCORRECTO") -> CORRECTO | BS10: GERENCIA DE EDUCACION | BT10: GERENTE DE EDUCACION
A11: 01 | B11: SOCIO CULTURAL | D11: 0101 | E11: Camino para la construcción de un ciudadano participativo, productivo y competitivo | H11: 010101 | I11: Calidad, eficiencia y cobertura educativa | J11: 010101-MR1 | K11: Mejorar los resultados de pruebas ICFES en las Instituciones Educativa Municipales: Técnico Comercial a Superior; Técnico Industrial a Superior; La Fuente a Alto. | N11: Técnico Comercial Alto; Técnico Industrial , Alto; La Fuente, Medio. | P11: 01010101 | Q11: Tocancipá por la calidad de la educación. | R11: 01010101-MP5 | S11: Adoptar 3 nuevos modelos estratégicos para fortalecer la lecto-escritura y lógica matemática en los procesos pedagógicos. | T11: Número de Modelos Pedagógicos adoptados | U11: 1 | V11: 3 | W11: 2 | X11: 5000000 | Y11: =+X11*1.0244 -> 5122000 | AA11: =+Y11*1.04 -> 5326880 | AC11: =75000000-2900000 -> 72100000 | BP11: =SUM(AC11:BO11) -> 72100000 | BQ11: =+AA11-BP11 -> -66773120 | BR11: =+IF(AA11>=BP11,"CORRECTO","INCORRECTO") -> INCORRECTO | BS11: GERENCIA DE EDUCACION | BT11: GERENTE DE EDUCACION
A12: 01 | B12: SOCIO CULTURAL | D12: 0101 | E12: Camino para la construcción de un ciudadano participativo, productivo y competitivo | H12: 010101 | I12: Calidad, eficiencia y cobertura educativa | J12: 010101-MR2 | K12: Alcanzar el 95% la Tasa de Cobertura Bruta en Preescolar. | L12: =+(SUM(X12:X12))/$Z$196 -> 0.0099955132 | N12: 0.8495 | O12: 95 | P12: 01010102 | Q12: Mejorando la cobertrua de los programas educativos | R12: 01010102-MP1 | S12: Aumentar a 1789 estudiantes beneficiados del servicio de transporte escolar. | T12: Estudiantes Beneficiados del Servicio de Ruta Escolar | U12: 1600 | V12: 1789 | W12: 1789 | X12: 1200000000 | Y12: =+X12*1.0244 -> 1229280000 | AA12: =+Y12*1.04 -> 1278451200 | AC12: 730000000 | BP12: =SUM(AC12:BO12) -> 730000000 | BQ12: =+AA12-BP12 -> 548451200 | BR12: =+IF(AA12>=BP12,"CORRECTO","INCORRECTO") -> CORRECTO | BS12: GERENCIA DE EDUCACION | BT12: GERENTE DE EDUCACION
A13: 01 | B13: SOCIO CULTURAL | D13: 0101 | E13: Camino para la construcción de un ciudadano participativo, productivo y competitivo | H13: 010101 | I13: Calidad, eficiencia y cobertura educativa | J13: 010101-MR3 | K13: Alcanzar el 99% la Tasa de Cobertura Bruta en Báscia Primaria (LB 2664) | L13: =+(SUM(X13:X13))/$Z$196 -> 0.0005830716 | N13: 98,5% (2664) | O13: 99 | P13: 01010102 | Q13: Mejorando la cobertrua de los programas educativos | R13: 01010102-MP2 | S13: Implementar un sistema de transporte alternativo. | T13: Transporte Escolar Alternativo implementado | U13: 0 | V13: 1 | W13: 1 | X13: 70000000 | Y13: =+X13*1.0244 -> 71708000 | AA13: =+Y13*1.04 -> 74576320 | AC13: 20000000 | BP13: =SUM(AC13:BO13) -> 20000000 | BQ13: =+AA13-BP13 -> 54576320 | BR13: =+IF(AA13>=BP13,"CORRECTO","INCORRECTO") -> CORRECTO | BS13: GERENCIA DE EDUCACION | BT13: GERENTE DE EDUCACION
A14: 01 | B14: SOCIO CULTURAL | D14: 0101 | E14: Camino para la construcción de un ciudadano participativo, productivo y competitivo | H14: 010101 | I14: Calidad, eficiencia y cobertura educativa | J14: 010101-MR4 | K14: Aumentar al 95% la Tasa de Cobertura Bruta en Secundaria y Media. | L14: =+(SUM(X14:X14))/$Z$196 -> 0.01929134 | N14: 93,23% (LB 3620) | O14: 95 | P14: 01010102 | Q14: Mejorando la cobertrua de los programas educativos | R14: 01010102-MP3 | S14: Dotar con elementos didácticos las sedes de las 3 Instituciones Educativas. | T14: Instituciones Educativas Dotadas | U14: ND | V14: 3 | W14: 3 | X14: 2316000000 | Y14: =+X14*1.0244 -> 2372510400 | AA14: =+Y14*1.04 -> 2467410816 | AO14: =471318035*0.45 -> 2.1209312e+08 | BD14: =3474618*0.45 -> 1563578.1 | BP14: =SUM(AC14:BO14) -> 2.1365669e+08 | BQ14: =+AA14-BP14 -> 2.2537541e+09 | BR14: =+IF(AA14>=BP14,"CORRECTO","INCORRECTO") -> CORRECTO | BS14: GERENCIA DE EDUCACION | BT14: GERENTE DE EDUCACION
A15: 01 | B15: SOCIO CULTURAL | D15: 0101 | E15: Camino para la construcción de un ciudadano participativo, productivo y competitivo | H15: 010101 | I15: Calidad, eficiencia y cobertura educativa | J15: 010101-MR5 | K15: Atender el 100% de la población analfabeta registrada en las estadistics del SISBEN. | L15: =+(SUM(X15:X15))/$Z$196 -> 0.00033318377 | N15: 0 | O15: 100 | P15: 01010102 | Q15: Mejorando la cobertrua de los programas educativos | R15: 01010102-MP4 | S15: Atender a 523 adultos adicionales a través del programa de alfabetización. | T15: Usuarios Programa Alfabetización atendidos | U15: 404 | V15: 523 | W15: 510 | X15: 40000000 | Y15: =+X15*1.0244 -> 40976000 | AA15: =+Y15*1.04 -> 42615040 | AC15: 5000000 | BP15: =SUM(AC15:BO15) -> 5000000 | BQ15: =+AA15-BP15 -> 37615040 | BR15: =+IF(AA15>=BP15,"CORRECTO","INCORRECTO") -> CORRECTO | BS15: GERENCIA DE EDUCACION | BT15: GERENTE DE EDUCACION
A16: 01 | B16: SOCIO CULTURAL | D16: 0101 | E16: Camino para la construcción de un ciudadano participativo, productivo y competitivo | H16: 010101 | I16: Calidad, eficiencia y cobertura educativa | J16: 010101-MR6 | K16: Atender al 80% niños y jóvenes en Extra Edad. | L16: =+(SUM(X16:X17))/$Z$196 -> 0.00033318377 | N16: 0 | O16: 80 | P16: 01010102 | Q16: Mejorando la cobertrua de los programas educativos | R16: 01010102-MP5 | S16: Atender al 80% de los niños y jóvenes en situación de extra edad existentes en el municipio, con la estrategia de aceleración del aprendizaje. | T16: Población Atendida Programa Extra Edad | U16: 80 | V16: 80 | W16: 65 | X16: 40000000 | Y16: =+X16*1.0244 -> 40976000 | AA16: =+Y16*1.04 -> 42615040 | AC16: 500000 | BP16: =SUM(AC16:BO16) -> 500000 | BQ16: =+AA16-BP16 -> 42115040 | BR16: =+IF(AA16>=BP16,"CORRECTO","INCORRECTO") -> CORRECTO | BS16: GERENCIA DE EDUCACION | BT16: GERENTE DE EDUCACION
A17: 01 | B17: SOCIO CULTURAL | D17: 0101 | E17: Camino para la construcción de un ciudadano participativo, productivo y competitivo | H17: 010101 | I17: Calidad, eficiencia y cobertura educativa | J17: 010101-MR6 | K17: Atender al 70% niños y jóvenes en Extra Edad. | N17: 80 | P17: 01010102 | Q17: Mejorando la cobertrua de los programas educativos | R17: 01010102-MP6 | S17: Desarrollar un diagnóstico para determinar la población en extra edad y desescolarizada. | T17: Documento Diagnóstico desarrollado | U17: 0 | V17: 1 | W17: 1 | X17: 0 | Y17: =+X17*1.0244 -> 0 | AA17: =+Y17*1.04 -> 0 | AC17: 500000 | BP17: =SUM(AC17:BO17) -> 500000 | BQ17: =+AA17-BP17 -> -500000 | BR17: =+IF(AA17>=BP17,"CORRECTO","INCORRECTO") -> INCORRECTO | BS17: GERENCIA DE EDUCACION | BT17: GERENTE DE EDUCACION
A18: 01 | B18: SOCIO CULTURAL | D18: 0101 | E18: Camino para la construcción de un ciudadano participativo, productivo y competitivo | G18: Educación | H18: 010102 | I18: Educación Superior | J18: 010102-MR1 | K18: Vincular a la educación técnica o superior al 50% de los estudiantes egresados de las instituciones educativas del municipio, a través de los programas de educación técnica, tecnológica y superior. | L18: =+(SUM(X18:X23))/$Z$196 -> 0.0064137876 | N18: 12% (52) | O18: 50 | P18: 01010201 | Q18: Jóvenes con mayores oportunidades en educación superior. | R18: 01010201-MP1 | S18: Atender a 180 jóvenes a través de la articulación de la educación media con el SENA. | T18: Jóvenes atendidos por el SENA | U18: 60 | V18: 180 | W18: 180 | X18: 70000000 | Y18: =+X18*1.0244 -> 71708000 | Z18: =SUM(X18:X23) -> 770000000 | AA18: =+Y18*1.04 -> 74576320 | AB18: =SUM(AA18:AA23) -> 820339520 | AC18: 10000000 | BP18: =SUM(AC18:BO18) -> 10000000 | BQ18: =+AA18-BP18 -> 64576320 | BR18: =+IF(AA18>=BP18,"CORRECTO","INCORRECTO") -> CORRECTO | BS18: GERENCIA DE EDUCACION | BT18: GERENTE DE EDUCACION
A19: 01 | B19: SOCIO CULTURAL | D19: 0101 | E19: Camino para la construcción de un ciudadano participativo, productivo y competitivo | H19: 010102 | I19: Educación Superior | J19: 010102-MR1 | K19: Vincular a la educación técnica o superior al 50% de los estudiantes egresados de las instituciones educativas del municipio, a través de los programas de educación técnica, tecnológica y superior. | N19: 12% (52) | P19: 01010201 | Q19: Jóvenes con mayores oportunidades en educación superior. | R19: 01010201-MP2 | S19: Implementar la estrategia "Articulación de la educación media con la educación superior" a través de la firma de 3 convenios. | T19: Número de Convenios de Articulación con la Educación Superior Firmados | U19: 1 | V19: 3 | W19: 2 | X19: 0 | Y19: =+X19*1.0244 -> 0 | AA19: =+Y19*1.04 -> 0 | AC19: 500000 | BP19: =SUM(AC19:BO19) -> 500000 | BQ19: =+AA19-BP19 -> -500000 | BR19: =+IF(AA19>=BP19,"CORRECTO","INCORRECTO") -> INCORRECTO | BS19: GERENCIA DE EDUCACION | BT19: GERENTE DE EDUCACION
A20: 01 | B20: SOCIO CULTURAL | D20: 0101 | E20: Camino para la construcción de un ciudadano participativo, productivo y competitivo | H20: 010102 | I20: Educación Superior | J20: 010102-MR1 | K20: Vincular a la educación técnica o superior al 50% de los estudiantes egresados de las instituciones educativas del municipio, a través de los programas de educación técnica, tecnológica y superior. | N20: 12% (52) | P20: 01010201 | Q20: Jóvenes con mayores oportunidades en educación superior. | R20: 01010201-MP3 | S20: Suscribir e implementar 4 convenios con establecimientos educativos técnicos, tecnológicos y de educación superior. | T20: Número de Convenios Firmados con Instituciones de Educación Técnica, Tecnológica o Superior | U20: 1 | V20: 4 | W20: 3 | X20: 140000000 | Y20: =+X20*1.0244 -> 143416000 | AA20: =+Y20*1.04 -> 149152640 | AC20: 500000 | BP20: =SUM(AC20:BO20) -> 500000 | BQ20: =+AA20-BP20 -> 148652640 | BR20: =+IF(AA20>=BP20,"CORRECTO","INCORRECTO") -> CORRECTO | BS20: GERENCIA DE EDUCACION | BT20: GERENTE DE EDUCACION
A21: 01 | B21: SOCIO CULTURAL | D21: 0101 | E21: Camino para la construcción de un ciudadano participativo, productivo y competitivo | H21: 010102 | I21: Educación Superior | J21: 010102-MR1 | K21: Vincular a la educación técnica o superior al 50% de los estudiantes egresados de las instituciones educativas del municipio, a través de los programas de educación técnica, tecnológica y superior. | N21: 12% (52) | P21: 01010201 | Q21: Jóvenes con mayores oportunidades en educación superior. | R21: 01010201-MP4 | S21: Crear y fortalecer el Fondo Educativo Municipal. | T21: Fondo creado y fortalecido | U21: 0 | V21: 1 | W21: 1 | X21: 490000000 | Y21: =+X21*1.0244 -> 501956000 | AA21: =+Y21*1.04 -> 522034240 | AC21: 100000000 | BP21: =SUM(AC21:BO21) -> 100000000 | BQ21: =+AA21-BP21 -> 422034240 | BR21: =+IF(AA21>=BP21,"CORRECTO","INCORRECTO") -> CORRECTO | BS21: GERENCIA DE EDUCACION | BT21: GERENTE DE EDUCACION
A22: 01 | B22: SOCIO CULTURAL | D22: 0101 | E22: Camino para la construcción de un ciudadano participativo, productivo y competitivo | H22: 010102 | I22: Educación Superior | J22: 010102-MR1 | K22: Vincular a la educación técnica o superior al 50% de los estudiantes egresados de las instituciones educativas del municipio, a través de los programas de educación técnica, tecnológica y superior. | N22: 12% (52) | P22: 01010201 | Q22: Jóvenes con mayores oportunidades en educación superior. | R22: 01010201-MP5 | S22: Beneficiar a 120 estudiantes dando continuidad al convenio Icetex. | T22: Número de Estudiantes beneficiaros con el Convenio ICETEX | U22: 120 | V22: 120 | W22: 120 | X22: 0 | Y22: =+X22*1.0244 -> 0 | AA22: =+Y22*1.04 -> 0 | AC22: 500000 | BP22: =SUM(AC22:BO22) -> 500000 | BQ22: =+AA22-BP22 -> -500000 | BR22: =+IF(AA22>=BP22,"CORRECTO","INCORRECTO") -> INCORRECTO | BS22: GERENCIA DE EDUCACION | BT22: GERENTE DE EDUCACION
A23: 01 | B23: SOCIO CULTURAL | D23: 0101 | E23: Camino para la construcción de un ciudadano participativo, productivo y competitivo | H23: 010102 | I23: Educación Superior | J23: 010102-MR1 | K23: Vincular a la educación técnica o superior al 50% de los estudiantes egresados de las instituciones educativas del municipio, a través de los programas de educación técnica, tecnológica y superior. | N23: 12% (52) | P23: 01010201 | Q23: Jóvenes con mayores oportunidades en educación superior. | R23: 01010201-MP6 | S23: Desarrollar una feria universitaria anual. | T23: Ferias realizadas | U23: 1 | V23: 4 | W23: 3 | X23: 70000000 | Y23: =+X23*1.0244 -> 71708000 | AA23: =+Y23*1.04 -> 74576320 | AC23: 5000000 | BP23: =SUM(AC23:BO23) -> 5000000 | BQ23: =+AA23-BP23 -> 69576320 | BR23: =+IF(AA23>=BP23,"CORRECTO","INCORRECTO") -> CORRECTO | BS23: GERENCIA DE EDUCACION | BT23: GERENTE DE EDUCACION
A24: 01 | B24: SOCIO CULTURAL | D24: 0101 | E24: Camino para la construcción de un ciudadano participativo, productivo y competitivo | G24: Educación | H24: 010103 | I24: Apoyo al sistema educativo para una formación integral (con innovación e investigación científica) | J24: 010103-MR1 | K24: Beneficiar a 6700 estudiantes a través del uso de Tecnologías de la Información y la Comunicación (TIC´s). | L24: =+(SUM(X24:X28))/$Z$196 -> 0.0095373855 | N24: 3153 | O24: 6700 | P24: 01010301 | Q24: Uso de las nuevas tecnologías de la información y la comunicación | R24: 01010301-MP1 | S24: Ampliar en las 8 sedes de las instituciones educativas del municipio, el uso pedagógico de las TIC´s en la enseñanza y el aprendizaje. | T24: Número de sedes educativas que aprovechan pedagógicamente las TIC's | U24: 3 | V24: 8 | W24: 8 | X24: 0 | Y24: =+X24*1.0244 -> 0 | Z24: =SUM(X24:X38) -> 2926000000 | AA24: =+Y24*1.04 -> 0 | AB24: =SUM(AA24:AA38) -> 3117290176 | AC24: 500000 | BP24: =SUM(AC24:BO24) -> 500000 | BQ24: =+AA24-BP24 -> -500000 | BR24: =+IF(AA24>=BP24,"CORRECTO","INCORRECTO") -> INCORRECTO | BS24: GERENCIA DE EDUCACION | BT24: GERENTE DE EDUCACION
A25: 01 | B25: SOCIO CULTURAL | D25: 0101 | E25: Camino para la construcción de un ciudadano participativo, productivo y competitivo | H25: 010103 | I25: Apoyo al sistema educativo para una formación integral (con innovación e investigación científica) | J25: 010103-MR1 | K25: Beneficiar a 6700 estudiantes a través del uso de Tecnologías de la Información y la Comunicación (TIC´s). | N25: 3153 | P25: 01010301 | Q25: Uso de las nuevas tecnologías de la información y la comunicación | R25: 01010301-MP2 | S25: Implementar un departamento de sistemas al servicio del sistema educativo. | T25: Departamento de Sistemas implementado | U25: 0 | V25: 1 | W25: 1 | X25: 50000000 | Y25: =+X25*1.0244 -> 51220000 | AA25: =+Y25*1.04 -> 53268800 | AC25: 40000000 | BP25: =SUM(AC25:BO25) -> 40000000 | BQ25: =+AA25-BP25 -> 13268800 | BR25: =+IF(AA25>=BP25,"CORRECTO","INCORRECTO") -> CORRECTO | BS25: GERENCIA DE EDUCACION | BT25: GERENTE DE EDUCACION
A26: 01 | B26: SOCIO CULTURAL | D26: 0101 | E26: Camino para la construcción de un ciudadano participativo, productivo y competitivo | H26: 010103 | I26: Apoyo al sistema educativo para una formación integral (con innovación e investigación científica) | J26: 010103-MR1 | K26: Beneficiar a 6700 estudiantes a través del uso de Tecnologías de la Información y la Comunicación (TIC´s). | N26: 3153 | P26: 01010301 | Q26: Uso de las nuevas tecnologías de la información y la comunicación | R26: 01010301-MP3 | S26: Mantener y dotar los 5 talleres de la IED Técnico Industrial. | T26: Número de Talleres mantenidos y dotados | U26: 5 | V26: 5 | W26: 5 | X26: 0 | Y26: =+X26*1.0244 -> 0 | AA26: =+Y26*1.04 -> 0 | AC26: 10000000 | BP26: =SUM(AC26:BO26) -> 10000000 | BQ26: =+AA26-BP26 -> -10000000 | BR26: =+IF(AA26>=BP26,"CORRECTO","INCORRECTO") -> INCORRECTO | BS26: GERENCIA DE EDUCACION | BT26: GERENTE DE EDUCACION
A27: 01 | B27: SOCIO CULTURAL | D27: 0101 | E27: Camino para la construcción de un ciudadano participativo, productivo y competitivo | H27: 010103 | I27: Apoyo al sistema educativo para una formación integral (con innovación e investigación científica) | J27: 010103-MR1 | K27: Beneficiar a 6700 estudiantes a través del uso de Tecnologías de la Información y la Comunicación (TIC´s). | N27: 3153 | P27: 01010301 | Q27: Uso de las nuevas tecnologías de la información y la comunicación | R27: 01010301-MP4 | S27: Aumentar a 8, las salas de TIC´s en los establecimientos educativos. | T27: Número de Salas TIC's en establecimientos educativos | U27: 3 | V27: 8 | W27: 8 | X27: 300000000 | Y27: =+X27*1.0244 -> 307320000 | AA27: =+Y27*1.04 -> 319612800 | AC27: 265000000 | BP27: =SUM(AC27:BO27) -> 265000000 | BQ27: =+AA27-BP27 -> 54612800 | BR27: =+IF(AA27>=BP27,"CORRECTO","INCORRECTO") -> CORRECTO | BS27: GERENCIA DE EDUCACION | BT27: GERENTE DE EDUCACION
A28: 01 | B28: SOCIO CULTURAL | D28: 0101 | E28: Camino para la construcción de un ciudadano participativo, productivo y competitivo | H28: 010103 | I28: Apoyo al sistema educativo para una formación integral (con innovación e investigación científica) | J28: 010103-MR1 | K28: Beneficiar a 6700 estudiantes a través del uso de Tecnologías de la Información y la Comunicación (TIC´s). | N28: 3153 | P28: 01010301 | Q28: Uso de las nuevas tecnologías de la información y la comunicación | R28: 01010301-MP5 | S28: Reducir a 10 el número de estudiantes por computador. | T28: Número de estudiantes por computador | U28: 20 | V28: 10 | W28: 10 | X28: 795000000 | Y28: =+X28*1.0244 -> 814398000 | AA28: =+Y28*1.04 -> 846973920 | AC28: 360000000 | BP28: =SUM(AC28:BO28) -> 360000000 | BQ28: =+AA28-BP28 -> 486973920 | BR28: =+IF(AA28>=BP28,"CORRECTO","INCORRECTO") -> CORRECTO | BS28: GERENCIA DE EDUCACION | BT28: GERENTE DE EDUCACION
A29: 01 | B29: SOCIO CULTURAL | D29: 0101 | E29: Camino para la construcción de un ciudadano participativo, productivo y competitivo | H29: 010103 | I29: Apoyo al sistema educativo para una formación integral (con innovación e investigación científica) | J29: 010103-MR2 | K29: Beneficiar a 6700 estudiantes con la aplicación de herramientas innovadoras y de tecnología de las 3 instituciones educativas. | L29: =+(SUM(X29:X33))/$Z$196 -> 0.012744279 | N29: ND | O29: 6700 | P29: 01010302 | Q29: Innovación y tecnología; herramientas para el desarrollo. | R29: 01010302-MP1 | S29: Institucionalizar un convenio para intercambios y transferencia de tecnología. | T29: Número de convenios para intercambios y transferencia de tecnología | U29: 1 | V29: 1 | W29: 1 | X29: 50000000 | Y29: =+X29*1.0244 -> 51220000 | AA29: =+Y29*1.04 -> 53268800 | AC29: 500000 | BP29: =SUM(AC29:BO29) -> 500000 | BQ29: =+AA29-BP29 -> 52768800 | BR29: =+IF(AA29>=BP29,"CORRECTO","INCORRECTO") -> CORRECTO | BS29: GERENCIA DE EDUCACION | BT29: GERENTE DE EDUCACION
A30: 01 | B30: SOCIO CULTURAL | D30: 0101 | E30: Camino para la construcción de un ciudadano participativo, productivo y competitivo | H30: 010103 | I30: Apoyo al sistema educativo para una formación integral (con innovación e investigación científica) | J30: 010103-MR2 | K30: Beneficiar a 6700 estudiantes con la aplicación de herramientas innovadoras y de tecnología de las 3 instituciones educativas. | N30: ND | P30: 01010302 | Q30: Innovación y tecnología; herramientas para el desarrollo. | R30: 01010302-MP2 | S30: Establecer un plan de incentivos educativos. | T30: Plan de incentivos establecido | U30: 0 | V30: 1 | W30: 1 | X30: 200000000 | Y30: =+X30*1.0244 -> 204880000 | AA30: =+Y30*1.04 -> 213075200 | AC30: 500000 | BP30: =SUM(AC30:BO30) -> 500000 | BQ30: =+AA30-BP30 -> 212575200 | BR30: =+IF(AA30>=BP30,"CORRECTO","INCORRECTO") -> CORRECTO | BS30: GERENCIA DE EDUCACION | BT30: GERENTE DE EDUCACION
A31: 01 | B31: SOCIO CULTURAL | D31: 0101 | E31: Camino para la construcción de un ciudadano participativo, productivo y competitivo | H31: 010103 | I31: Apoyo al sistema educativo para una formación integral (con innovación e investigación científica) | J31: 010103-MR2 | K31: Beneficiar a 6700 estudiantes con la aplicación de herramientas innovadoras y de tecnología de las 3 instituciones educativas. | N31: ND | P31: 01010302 | Q31: Innovación y tecnología; herramientas para el desarrollo. | R31: 01010302-MP3 | S31: Implementar la modalidad técnica en la IED la Fuente. | T31: Modalidad Técnica implementada | U31: 0 | V31: 1 | W31: 1 | X31: 0 | Y31: =+X31*1.0244 -> 0 | AA31: =+Y31*1.04 -> 0 | AC31: 500000 | BP31: =SUM(AC31:BO31) -> 500000 | BQ31: =+AA31-BP31 -> -500000 | BR31: =+IF(AA31>=BP31,"CORRECTO","INCORRECTO") -> INCORRECTO | BS31: GERENCIA DE EDUCACION | BT31: GERENTE DE EDUCACION
A32: 01 | B32: SOCIO CULTURAL | D32: 0101 | E32: Camino para la construcción de un ciudadano participativo, productivo y competitivo | H32: 010103 | I32: Apoyo al sistema educativo para una formación integral (con innovación e investigación científica) | J32: 010103-MR2 | K32: Beneficiar a 6700 estudiantes con la aplicación de herramientas innovadoras y de tecnología de las 3 instituciones educativas. | N32: ND | P32: 01010302 | Q32: Innovación y tecnología; herramientas para el desarrollo. | R32: 01010302-MP4 | S32: Dotar a las 3 instituciones educativas con los materiales y equipos técnicos y tecnológicos para los procesos de formación. | T32: Instituciones educativas dotadas con materiales y equipos técnicos y tecnológicos | U32: ND | V32: 3 | W32: 3 | X32: 480000000 | Y32: =+X32*1.0244 -> 491712000 | AA32: =+Y32*1.04 -> 511380480 | AC32: 500000 | BP32: =SUM(AC32:BO32) -> 500000 | BQ32: =+AA32-BP32 -> 510880480 | BR32: =+IF(AA32>=BP32,"CORRECTO","INCORRECTO") -> CORRECTO | BS32: GERENCIA DE EDUCACION | BT32: GERENTE DE EDUCACION
A33: 01 | B33: SOCIO CULTURAL | D33: 0101 | E33: Camino para la construcción de un ciudadano participativo, productivo y competitivo | H33: 010103 | I33: Apoyo al sistema educativo para una formación integral (con innovación e investigación científica) | J33: 010103-MR2 | K33: Beneficiar a 6700 estudiantes con la aplicación de herramientas innovadoras y de tecnología de las 3 instituciones educativas. | N33: ND | P33: 01010302 | Q33: Innovación y tecnología; herramientas para el desarrollo. | R33: 01010302-MP5 | S33: Mejorar los laboratorios de física, química y biología de las 3 instituciones educativas. | T33: Número de IED con laboratorios de Física, Química y Biología mejorados | U33: 3 | V33: 3 | W33: 3 | X33: 800000000 | Y33: =+X33*1.0244 -> 819520000 | AA33: =+Y33*1.04 -> 852300800 | AC33: 500000 | BP33: =SUM(AC33:BO33) -> 500000 | BQ33: =+AA33-BP33 -> 851800800 | BR33: =+IF(AA33>=BP33,"CORRECTO","INCORRECTO") -> CORRECTO | BS33: GERENCIA DE EDUCACION | BT33: GERENTE DE EDUCACION
A34: 01 | B34: SOCIO CULTURAL | D34: 0101 | E34: Camino para la construcción de un ciudadano participativo, productivo y competitivo | H34: 010103 | I34: Apoyo al sistema educativo para una formación integral (con innovación e investigación científica) | J34: 010103-MR3 | K34: Beneficiar a 6700 estudiantes a través de estrategias de formación integral. | L34: =+(SUM(X34:X38))/$Z$196 -> 0.0020907282 | N34: 6700 | O34: 6700 | P34: 01010303 | Q34: Por la formación integral. | R34: 01010303-MP1 | S34: Brindar en las 3 instituciones educativas, escenarios de aprendizaje del aprender, haciendo salidas pedagógicas. | T34: Instituciones educativas con escenarios de Aprender-Haciendo | U34: ND | V34: 3 | W34: 2 | X34: 100000000 | Y34: =+X34*1.0244 -> 102440000 | AA34: =+Y34*1.04 -> 106537600 | BP34: =SUM(AC34:BO34) -> 0 | BQ34: =+AA34-BP34 -> 106537600 | BR34: =+IF(AA34>=BP34,"CORRECTO","INCORRECTO") -> CORRECTO | BS34: GERENCIA DE EDUCACION | BT34: GERENTE DE EDUCACION
A35: 01 | B35: SOCIO CULTURAL | D35: 0101 | E35: Camino para la construcción de un ciudadano participativo, productivo y competitivo | H35: 010103 | I35: Apoyo al sistema educativo para una formación integral (con innovación e investigación científica) | J35: 010103-MR3 | K35: Beneficiar a 6700 estudiantes a través de estrategias de formación integral. | N35: 6700 | P35: 01010303 | Q35: Por la formación integral. | R35: 01010303-MP2 | S35: Incorporar en las 3 instituciones educativas los Proyectos Ambientales Escolares (PRAES) en los Proyectos Educativos Institucionales (PEI). | T35: Instituciones educativas con proyectos PRAES | U35: 0 | V35: 3 | W35: 3 | X35: 0 | Y35: =+X35*1.0244 -> 0 | AA35: =+Y35*1.04 -> 0 | AC35: 500000 | BP35: =SUM(AC35:BO35) -> 500000 | BQ35: =+AA35-BP35 -> -500000 | BR35: =+IF(AA35>=BP35,"CORRECTO","INCORRECTO") -> INCORRECTO | BS35: GERENCIA DE EDUCACION | BT35: GERENTE DE EDUCACION
A36: 01 | B36: SOCIO CULTURAL | D36: 0101 | E36: Camino para la construcción de un ciudadano participativo, productivo y competitivo | H36: 010103 | I36: Apoyo al sistema educativo para una formación integral (con innovación e investigación científica) | J36: 010103-MR3 | K36: Beneficiar a 6700 estudiantes a través de estrategias de formación integral. | N36: 6700 | P36: 01010303 | Q36: Por la formación integral. | R36: 01010303-MP3 | S36: Implementar un departamento de sicología y trabajo social al servicio del estudiantado de acuerdo a las competencias. | T36: Departamento de Psicología creado | U36: 0 | V36: 1 | W36: 1 | X36: 136000000 | Y36: =+X36*1.0244 -> 139318400 | AA36: =+Y36*1.04 -> 144891136 | AC36: 74000000 | BP36: =SUM(AC36:BO36) -> 74000000 | BQ36: =+AA36-BP36 -> 70891136 | BR36: =+IF(AA36>=BP36,"CORRECTO","INCORRECTO") -> CORRECTO | BS36: GERENCIA DE EDUCACION | BT36: GERENTE DE EDUCACION
A37: 01 | B37: SOCIO CULTURAL | D37: 0101 | E37: Camino para la construcción de un ciudadano participativo, productivo y competitivo | H37: 010103 | I37: Apoyo al sistema educativo para una formación integral (con innovación e investigación científica) | J37: 010103-MR3 | K37: Beneficiar a 6700 estudiantes a través de estrategias de formación integral. | N37: 6700 | P37: 01010303 | Q37: Por la formación integral. | R37: 01010303-MP4 | S37: Implementar una pedagogía innovativa, para ofrecer una segunda oportunidad de ingreso a las aulas. | T37: Pedagogía innovadora implementada | U37: 0 | V37: 1 | W37: 1 | X37: 0 | Y37: =+X37*1.0244 -> 0 | AA37: =+Y37*1.04 -> 0 | BP37: =SUM(AC37:BO37) -> 0 | BQ37: =+AA37-BP37 -> 0 | BR37: =+IF(AA37>=BP37,"CORRECTO","INCORRECTO") -> CORRECTO | BS37: GERENCIA DE EDUCACION | BT37: GERENTE DE EDUCACION
A38: 01 | B38: SOCIO CULTURAL | D38: 0101 | E38: Camino para la construcción de un ciudadano participativo, productivo y competitivo | H38: 010103 | I38: Apoyo al sistema educativo para una formación integral (con innovación e investigación científica) | J38: 010103-MR3 | K38: Beneficiar a 6700 estudiantes a través de estrategias de formación integral. | N38: 6700 | P38: 01010303 | Q38: Por la formación integral. | R38: 01010303-MP5 | S38: Implementar y mantener el programa educativo integral "Cuido Mi Escuela", orientado al aprendizaje, al mejoramiento y embellecimiento de las instituciones educativas. | T38: Programa educativo "Cuido Mi Escuela" implementado | U38: 0 | V38: 1 | W38: 1 | X38: 15000000 | Y38: =+X38*1.0244 -> 15366000 | AA38: =+Y38*1.04 -> 15980640 | AC38: 1010000000 | BP38: =SUM(AC38:BO38) -> 1010000000 | BQ38: =+AA38-BP38 -> -994019360 | BR38: =+IF(AA38>=BP38,"CORRECTO","INCORRECTO") -> INCORRECTO | BS38: GERENCIA DE EDUCACION | BT38: GERENTE DE EDUCACION
A39: 01 | B39: SOCIO CULTURAL | D39: 0101 | E39: Camino para la construcción de un ciudadano participativo, productivo y competitivo | G39: Educación | H39: 010104 | I39: Segunda lengua. | J39: 010104-MR1 | K39: Atender con enfoque diferencial a 1050 estudiantes y/o personas en la estrategia de mejoramiento de los niveles de inglés. | L39: =+(SUM(X39:X40))/$Z$196 -> 0.00024988783 | N39: 370 | O39: 1050 | P39: 01010401 | Q39: Mejores niveles de inglés. | R39: 01010401-MP1 | S39: Fortalecer el aprendizaje del inglés en tiempo extra escolar a 700 estudiantes, de los niveles de básica secundaria y media. | T39: Número de Estudiantes partícipes del fortalecimiento de inglés | U39: 250 | V39: 700 | W39: 630 | X39: 20000000 | Y39: =+X39*1.0244 -> 20488000 | Z39: =SUM(X39:X40) -> 30000000 | AA39: =+Y39*1.04 -> 21307520 | AB39: =SUM(AA39:AA40) -> 31961280 | AC39: 12000000 | BP39: =SUM(AC39:BO39) -> 12000000 | BQ39: =+AA39-BP39 -> 9307520 | BR39: =+IF(AA39>=BP39,"CORRECTO","INCORRECTO") -> CORRECTO | BS39: GERENCIA DE EDUCACION | BT39: GERENTE DE EDUCACION
A40: 01 | B40: SOCIO CULTURAL | D40: 0101 | E40: Camino para la construcción de un ciudadano participativo, productivo y competitivo | H40: 010104 | I40: Segunda lengua. | J40: 010104-MR1 | K40: Atender con enfoque diferencial a 1050 estudiantes y/o personas en la estrategia de mejoramiento de los niveles de inglés. | N40: 370 | P40: 01010401 | Q40: Mejores niveles de inglés. | R40: 01010401-MP2 | S40: Aumentar a 350 personas de la comunidad, en la formación para mejorar sus niveles de inglés. | T40: Número de personas de la comunidad que participan en el Programa de Mejoramiento del Inglés | U40: 120 | V40: 350 | W40: 279 | X40: 10000000 | Y40: =+X40*1.0244 -> 10244000 | AA40: =+Y40*1.04 -> 10653760 | AC40: 50000000 | BP40: =SUM(AC40:BO40) -> 50000000 | BQ40: =+AA40-BP40 -> -39346240 | BR40: =+IF(AA40>=BP40,"CORRECTO","INCORRECTO") -> INCORRECTO | BS40: GERENCIA DE EDUCACION | BT40: GERENTE DE EDUCACION
...

Sheet TECHOS PRESUPUESTALES 2014
A2: CUADRO No. 1
A3: MUNICIPIO DE TOCANCIPA
A4: GERENCIA FINANCIERA
A5: PROYECCION RECURSOS FINANCIEROS PARA FINANCIAR EL PLAN DE INVERSIONES 2014
A7: TIPO DE RECURSO | B7: DESTINACION | C7: AÑO 2014 | D7: GERENCIA | E7: DETALLES DE LA DESTINACIÓN ESPECÍFICA
A8: RENTAS RECURRENTES
A9: INGRESOS CORRIENTES DE LIBRE DESTINACION- ICLD | B9: TODOS LOS SECTORES DEL PD | C9: =+[1]INVERSION!$C$8+120.978446960449 -> 2.3977281e+10
A10: PARTICIPACION CON DESTINO AMBIENTAL | B10: TRANSFERENCIA CAR R`PROTECCION RECURSOS NATURALES | E10: Ley 99/1993, art. 45 "Porcentaje Ambiental de los Gravámenes a la Propiedad Inmueble (…) y con destino a la protección del medio ambiente y los recursos naturales renovables, un porcentaje sobre el total del recaudo por concepto de impuesto predial, que no podrá ser inferior al 15% ni superior al 25.9% (...)
A11: SOBRETASA BOMBERIL | B11: FINANCIAR ACTIVIDAD BOMBERIL | C11: 4.0357706e+08 | D11: GOBIERNO | E11: $403'577.060,76 para Inversión; $353'545.541,24 para gastos de funcionamiento del cuerpo oficial de bomberos.
A12: SOBRETASA A LA GASOLINA | B12: INFRAESTRUCTURA VIAL | C12: =+[1]INVERSION!$C$11 -> 1042091000 | D12: INFRAESTRUCTURA
A13: IMPUESTO DE ESPECTACULOS PUBLICOS | B13: CULTURA | C13: 84476000 | D13: CULTURA | E13: LEY 1493 DE 2011. Artículo 13. Asignación de los recursos. La Cuenta Especial de la contribución parafiscal de los espectáculos públicos de las artes escénicas estará a cargo del Ministerio de Cultura, entidad que trasladará los recursos a los municipios a través de las Secretarías de Hacienda o quienes hagan sus veces, las cuales a su vez, deberán transferir los recursos a las secretarías de cultura o quienes hagan sus veces. Estos recursos y sus rendimientos serán de destinación específica y estarán orientados a inversión en construcción, adecuación, mejoramiento y dotación de la infraestructura de los escenarios para los espectáculos públicos de las artes escénicas.
A14: CONTRIBUCION DE VALORIZACION | B14: INFRAESTRUCTURA VIAL SEGÚN ACUERDO | C14: 330000000 | D14: INFRAESTRUCTURA
A15: PLUSVALIA | C15: 2408073698 | D15: INFRAESTRUCTURA | E15: Dec. M/pal No. 111 de 2008, art. 319, destinación: a)Terrenos proyectos VIS; b)Construcción o mejoramiento de Infraestructura vial, const. o mejor infraest. Servicios públicos domiciliarios; c)Áreas de recreación y equipamientos sociales; d)Adecuación de asentamientos urbanos en áreas de desarrollo incompleto o inadecuado; e)Proyectos y obras de recreación, parques y zonas verdes y expansión y recuperación de los centros de equipamientos que conforman la red del espacio público urbano; f)Infraestructura vial y sistemas de transporte masivo; g)programas de renovación urbana; h)indemnizaciones por adquisición de inmuebles para programas de renovación urbana; i)mejora, adecuación o restauración de bienes inmuebles catalogados como patrimonio cultural.
A16: CESIONES TIPO A | C16: 0 | D16: INFRAESTRUCTURA | E16: Ley 388 de 1997, art. 37: (…) las cesiones gratuitas que los propietarios de inmuebles deben hacer con destino a vías locales, equipamientos colectivos y espacio público en general (…)
A17: CONTRIBUCION MIGUEL DE IBARRA | B17: DEPORTYE | C17: 730759524 | D17: DEPORTES
A18: CONTRIBUCION CONTRATOS DE OBRA PUBLICA | B18: FONDO DE SEGURIDAD CIUDADANA | C18: 1710733000 | D18: GOBIERNO
A19: RECURSOS EMGESA LEY 99/93 | B19: AGUA POTABLE Y SANEAMIENTO BASICO 50% | C19: 569605000 | D19: SERVICIOS PÚBLICOS | E19: Ley 99/1993, art. 45 "(...)Estos recursos sólo podrán ser utilizados por el municipio en obras previstas en el plan de desarrollo municipal, con prioridad para proyectos de saneamiento básico y mejoramiento ambiental."; "Parágrafo 1º.- De los recursos de que habla este artículo sólo se podrá destinar hasta el 10% para gastos de funcionamiento. Parágrafo 2º.- Se entiende por saneamiento básico y mejoramiento ambiental la ejecución de obras de acueductos urbanos y rurales, alcantarillados, tratamientos de aguas y manejo y disposición de desechos líquidos y sólidos. Ley 1450 de 2011, art. 222 "(...) Estos recursos deberán ser utilizados por el municipio, en al menos un 50% a partir del año 2012, en proyectos de agua potable, saneamiento básico y mejoramiento ambiental. Parágrafo 1°. De los recursos de que habla este artículo, solo se podrá destinar hasta el 10% para gastos de funcionamiento. Parágrafo 2°. Se entiende por saneamiento básico y mejoramiento ambiental la ejecución de obras de acueductos urbanos y rurales, alcantarillados, tratamientos de aguas y manejo y disposición de desechos líquidos y sólidos.
A20: REGALIAS Y COMPENSACIONES | B20: AGUA POTABLE, EDUCACION Y SALUD - NUTRICION INFANTIL
A21: ESTAMPILLA PROCULTURA | B21: CULTURA | C21: 231055000 | D21: CULTURA
A22: IMPUESTO SOBRE ALUMBRADO PUBLICO | B22: ALIMBRADO PUBLICO | C22: 214843000 | D22: INFRAESTRUCTURA
A23: SGP EDUCACION MATRICULA | B23: EDUCACION INFRAESTRUCTURA, DOTACION, S.P Y FTO ID | C23: 471318035 | D23: EDUCACIÓN
A24: SGP EDUCACION GRATUIDAD | B24: GRATUIDAD GIRO A INS. EDUC | C24: 532877000 | D24: EDUCACIÓN
A25: SGP ALIMENTACION ESCOLAR | B25: ALIMENTACION ESCOLAR | C25: 71905067 | D25: SOCIAL
A26: SGP PRIMERA INFANCIA | B26: PRIMERA INFANCIA
A27: SGP AGUA POTABLE Y SANEAMIENTO BASICO | B27: ACUEDUCTO, ALCANTARILLADO Y ASEO | C27: 627203496 | D27: SERVICIOS PÚBLICOS
A28: SGP DEPORTE Y RECREACION | B28: DEPORTE Y RECREACION | C28: 138051463 | D28: DEPORTES
A29: SGP CULTURA | B29: CULTURA | C29: 103538598 | D29: CULTURA
A30: SGP LIBRE INVERSION | B30: TODOS LOS SECTORES DEL PD | C30: 1311488905
A31: SGP SALUD REGIMEN SUBSIDIADO | B31: AFILIACION REGIMEN SUBSIDIADO | C31: 592582137 | D31: SALUD
A32: SGP SALUD PUBLICA | B32: PIC | C32: 131546231 | D32: SALUD
A33: RECURSOS ETESA | B33: AFILIACION REGIMEN SUBSIDIADO | C33: 42382703 | D33: SALUD
A34: RECURSOS FOSYGA | B34: AFILIACION REGIMEN SUBSIDIADO | C34: 849622614 | D34: SALUD
A35: RECURSOS CAJA DE COMPENSACION FAMILIAR REG. SUBSIDIADO | B35: AFILIACION REGIMEN SUBSIDIADO | C35: 450323371 | D35: SALUD
A36: RENTAS CEDIDAS DEPARTAMENTO REGIMEN SUBSIDIADO | B36: AFILIACION REGIMEN SUBSIDIADO | C36: 382110888 | D36: SALUD
A37: RENDIMIENTOS FINANCIEROS ICLD | B37: TODOS LOS SECTORES DEL PD | C37: 790394940
A38: RENDIMIENTOS FINANCIEROS SGP EDUCACION | B38: EDUCACION INFRAESTRUCTURA, DOTACION, S.P Y FTO ID | C38: 3474618 | D38: EDUCACIÓN
A39: RENDIMIENTOS FUNANCIEROS SGP AGUA POTABLE Y SANEAMIENTO BASICO | B39: ACUEDUCTO, ALCANTARILLADO Y ASEO | C39: 9205236 | D39: SERVICIOS PÚBLICOS
A40: RENDIMIENTOS FINANCIEROS SGP PROPOSITO GENERAL | B40: TODOS LOS SECTORES DEL PD | C40: 28503988
A41: RENDIMIENTOS FINANCIEROS SGP REGIMEN SUBSIDIADO | B41: AFILIACION REGIMEN SUBSIDIADO | C41: 10991042 | D41: SALUD
A42: RENDIMIENTOS FINANCIEROS SGP SALUD PUBLICA | B42: PIC | C42: 300000 | D42: SALUD
...
