Workbook

Sheet POAI_2020_Programas_$
E1: RECURSOS ASIGNADOS 2020 (CERTIFICADOS POR SECRETARIA DE HACIENDA) - POR PROGRAMA
A2: COD. EJE | B2: EJES | C2: CÓD. CONS. PROGR. | D2: PROGRAMAS DE INVERSIÓN | E2: ICLD | F2: RENDIMIENTOS FINANCIEROS ICLD | G2: SGP EDUCACION CALIDAD | H2: RENDIMIENTOS FINANCIEROS SGP EDUCACION CALIDAD | I2: SGP GRATUIDAD | J2: SGP ALIMENTACION ESCOLAR | K2: RENDIMIENTOS FINANCIEROS SGP ALIMENTACION ESCOLAR | L2: SGP SALUD PUBLICA | M2: RENDIMIENTOS FINANCIEROS SGP SALUD PUBLICA | N2: SGP DEPORTE | O2: SGP CULTURA | P2: SGP PROPOSITO GENERAL - LIBRE INVERSIÓN | Q2: RENDIMIENTOS FINANCIEROS SGP PROPOSITO GENERAL - LIBRE INV. | R2: SGP AGUA POTABLE | S2: RENDIMIENTOS FINANCIEROS SGP AGUA POTABLE | T2: ESTAMPILLA PROCULTURA 100% | U2: RENDIMIENTOS FINANCIEROS ESTAMPILLA PROCULTURA | V2: SOBRETASA A LA GASOLINA | W2: RENDIMIENTOS FINANCIEROS SOBRETASA A LA GASOLINA | X2: FONDO DE SEGURIDAD | Y2: RENDIMIENTOS FINANCIEROS FONDO DE SEGURIDAD | Z2: RECURSOS LEY 99 DE 1993 | AA2: RENDIMIENTOS FINANCIEROS RECURSOS LEY 99 | AB2: TRANSPORTE OLEODUCTOS | AC2: RENDIMIENTOS FINANCIEROS TRANSPORTE OLEODUCTOS | AD2: FONDO ASISTENCIA TECNICA RURAL | AE2: RENDIMIENTOS FINANCIEROS FONDO ASISTENCIA TECNICA RURAL | AF2: FONDO DE ACTIVIDADES LUDICAS | AG2: ESTAMPILLA MIGUEL DE IBARRA | AH2: RENDIMIENTOS FINANCIEROS ESTAMPILLA MIGUEL DE IBARRA | AI2: ALUMBRADO PUBLICO | AJ2: RENDIMIENTOS FINANCIEROS ALUMBRADO PUBLICO | AK2: COMPARENDO AMBIENTAL | AL2: RENDIMIENTOS FINANCIEROS COMPARENDO AMBIENTAL | AM2: CESIONES TIPO A | AN2: RENDIMIENTOS FINANCIEROS CESIONES TIPO A | AO2: CONSUMO CIGARRILLO | AP2: PLUSVALIA | AQ2: RENDIMIENTOS FINANCIEROS PLUSVALIA | AR2: FONDO DE SOLIDARIDAD SS PP | AS2: RENDIMIENTOS FINANCIEROS FONDO SOLIDARIDAD SERVICIOS PUBLICOS | AT2: SOBRETASA BOMBERIL | AU2: RENDIMIENTOS FINANCIEROS SOBRETASA BOMBERIL | AV2: ESTAMPILLA ADULTO MAYOR 30% | AW2: ESTAMPILLA ADULTO MAYOR 70% | AX2: RENDIMIENTOS FINANCIEROS ESTAMPILLA ADULTO MAYOR | AY2: CARGAS Y BENEFICIOS | AZ2: OBLIGACIONES VIP | BA2: RENDIMIENTOS FINANCIEROS FONDO DE VIVIENDA | BB2: ESTRATIFICACION SOCIO ECONOMICA | BC2: RENDIMIENTOS FINANCIEROS ESTRATIFICACION | BD2: SALUD REGIMEN SUBSIDIADO | BE2: RECURSOS COLJUEGOS 25% CSF | BF2: RENDIMIENTOS FINANCIEROS OTROS GASTOS EN SALUD | BG2: TOTAL ASIGNADO 2020 POR PROGRAMA | BH2: TOTAL ASIGNADO 2020 POR EJE
A3: E1. | B3: SOCIAL: Desarrollo Social con alta competitividad y proyección | C3: E1.P_A | D3: TOCANCIPA BIEN EDUCADA | E3: =SUM('Proyectos 2020'!T7:T33) -> 1.2631217e+10 | F3: =SUM('Proyectos 2020'!U7:U33) -> 400000000 | G3: =SUM('Proyectos 2020'!V7:V33) -> 474694256 | H3: =SUM('Proyectos 2020'!W7:W33) -> 10000000 | I3: =SUM('Proyectos 2020'!X7:X33) -> 602678896 | J3: =SUM('Proyectos 2020'!Y7:Y33) -> 133525790 | K3: =SUM('Proyectos 2020'!Z7:Z33) -> 400000 | L3: =SUM('Proyectos 2020'!AA7:AA33) -> 0 | ... BF3: =SUM('Proyectos 2020'!BU7:BU33) -> 0 | BG3: =SUM(E3:BF3) -> 1.4252516e+10 | BH3: =SUM(BG3:BG12) -> 3.8599556e+10
C4: E1.P_B | D4: SALUD CON ATENCIÓN DIGNA, PRIORITARIA Y DE CALIDAD | E4: =SUM('Proyectos 2020'!T34:T50) -> 1178000000 | F4: =SUM('Proyectos 2020'!U34:U50) -> 0 | G4: =SUM('Proyectos 2020'!V34:V50) -> 0 | H4: =SUM('Proyectos 2020'!W34:W50) -> 0 | I4: =SUM('Proyectos 2020'!X34:X50) -> 0 | J4: =SUM('Proyectos 2020'!Y34:Y50) -> 0 | K4: =SUM('Proyectos 2020'!Z34:Z50) -> 0 | L4: =SUM('Proyectos 2020'!AA34:AA50) -> 283188006 | ... BF4: =SUM('Proyectos 2020'!BU34:BU50) -> 0 | BG4: =SUM(E4:BF4) -> 6028672657
C5: E1.P_C | D5: CULTURA DE TODOS Y PARA TODOS | E5: =SUM('Proyectos 2020'!T51:T66) -> 5785000000 | F5: =SUM('Proyectos 2020'!U51:U66) -> 400000000 | G5: =SUM('Proyectos 2020'!V51:V66) -> 0 | H5: =SUM('Proyectos 2020'!W51:W66) -> 0 | I5: =SUM('Proyectos 2020'!X51:X66) -> 0 | J5: =SUM('Proyectos 2020'!Y51:Y66) -> 0 | K5: =SUM('Proyectos 2020'!Z51:Z66) -> 0 | L5: =SUM('Proyectos 2020'!AA51:AA66) -> 0 | ... BF5: =SUM('Proyectos 2020'!BU51:BU66) -> 0 | BG5: =SUM(E5:BF5) -> 6631067230
C6: E1.P_D | D6: DEPORTE Y RECREACIÓN PARA EL MEJORAMIENTO DE LA CALIDAD DE VIDA Y LA SANA CONVIVENCIA | E6: =SUM('Proyectos 2020'!T67:T79) -> 1755243693 | F6: =SUM('Proyectos 2020'!U67:U79) -> 0 | G6: =SUM('Proyectos 2020'!V67:V79) -> 0 | H6: =SUM('Proyectos 2020'!W67:W79) -> 0 | I6: =SUM('Proyectos 2020'!X67:X79) -> 0 | J6: =SUM('Proyectos 2020'!Y67:Y79) -> 0 | K6: =SUM('Proyectos 2020'!Z67:Z79) -> 0 | L6: =SUM('Proyectos 2020'!AA67:AA79) -> 0 | ... BF6: =SUM('Proyectos 2020'!BU67:BU79) -> 0 | BG6: =SUM(E6:BF6) -> 2000000000
C7: E1.P_E | D7: ATENCIÓN INTEGRAL DEL ADULTO MAYOR | E7: =SUM('Proyectos 2020'!T80:T84) -> 0 | F7: =SUM('Proyectos 2020'!U80:U84) -> 0 | G7: =SUM('Proyectos 2020'!V80:V84) -> 0 | H7: =SUM('Proyectos 2020'!W80:W84) -> 0 | I7: =SUM('Proyectos 2020'!X80:X84) -> 0 | J7: =SUM('Proyectos 2020'!Y80:Y84) -> 0 | K7: =SUM('Proyectos 2020'!Z80:Z84) -> 0 | L7: =SUM('Proyectos 2020'!AA80:AA84) -> 0 | ... BF7: =SUM('Proyectos 2020'!BU80:BU84) -> 0 | BG7: =SUM(E7:BF7) -> 1852000000
C8: E1.P_F | D8: PRIMERA INFANCIA, INFANCIA, ADOLESCENCIA Y JUVENTUD CON DESARROLLO Y PROYECCIÓN | E8: =SUM('Proyectos 2020'!T85:T92) -> 3628000000 | F8: =SUM('Proyectos 2020'!U85:U92) -> 1200000000 | G8: =SUM('Proyectos 2020'!V85:V92) -> 0 | H8: =SUM('Proyectos 2020'!W85:W92) -> 0 | I8: =SUM('Proyectos 2020'!X85:X92) -> 0 | J8: =SUM('Proyectos 2020'!Y85:Y92) -> 0 | K8: =SUM('Proyectos 2020'!Z85:Z92) -> 0 | L8: =SUM('Proyectos 2020'!AA85:AA92) -> 0 | ... BF8: =SUM('Proyectos 2020'!BU85:BU92) -> 0 | BG8: =SUM(E8:BF8) -> 4828200000
C9: E1.P_G | D9: EMPODERAMIENTO E INCLUSIÓN DE GÉNERO Y POBLACIÓN LGTBI | E9: =SUM('Proyectos 2020'!T93:T96) -> 1077000000 | F9: =SUM('Proyectos 2020'!U93:U96) -> 0 | G9: =SUM('Proyectos 2020'!V93:V96) -> 0 | H9: =SUM('Proyectos 2020'!W93:W96) -> 0 | I9: =SUM('Proyectos 2020'!X93:X96) -> 0 | J9: =SUM('Proyectos 2020'!Y93:Y96) -> 0 | K9: =SUM('Proyectos 2020'!Z93:Z96) -> 0 | L9: =SUM('Proyectos 2020'!AA93:AA96) -> 0 | ... BF9: =SUM('Proyectos 2020'!BU93:BU96) -> 0 | BG9: =SUM(E9:BF9) -> 1077000000
C10: E1.P_H | D10: VICTIMAS DEL CONFLICTO ARMADO Y POSTCONFLICTO | E10: =SUM('Proyectos 2020'!T97:T103) -> 310100000 | F10: =SUM('Proyectos 2020'!U97:U103) -> 0 | G10: =SUM('Proyectos 2020'!V97:V103) -> 0 | H10: =SUM('Proyectos 2020'!W97:W103) -> 0 | I10: =SUM('Proyectos 2020'!X97:X103) -> 0 | J10: =SUM('Proyectos 2020'!Y97:Y103) -> 0 | K10: =SUM('Proyectos 2020'!Z97:Z103) -> 0 | L10: =SUM('Proyectos 2020'!AA97:AA103) -> 0 | ... BF10: =SUM('Proyectos 2020'!BU97:BU103) -> 0 | BG10: =SUM(E10:BF10) -> 310100000
C11: E1.P_I | D11: REDUCCIÓN DE LA POBREZA EXTREMA | E11: =SUM('Proyectos 2020'!T104:T106) -> 580000000 | F11: =SUM('Proyectos 2020'!U104:U106) -> 0 | G11: =SUM('Proyectos 2020'!V104:V106) -> 0 | H11: =SUM('Proyectos 2020'!W104:W106) -> 0 | I11: =SUM('Proyectos 2020'!X104:X106) -> 0 | J11: =SUM('Proyectos 2020'!Y104:Y106) -> 0 | K11: =SUM('Proyectos 2020'!Z104:Z106) -> 0 | L11: =SUM('Proyectos 2020'!AA104:AA106) -> 0 | ... BF11: =SUM('Proyectos 2020'!BU104:BU106) -> 0 | BG11: =SUM(E11:BF11) -> 580000000
C12: E1.P_J | D12: CAPACIDADES DIFERENCIALES | E12: =SUM('Proyectos 2020'!T107:T108) -> 1040000000 | F12: =SUM('Proyectos 2020'!U107:U108) -> 0 | G12: =SUM('Proyectos 2020'!V107:V108) -> 0 | H12: =SUM('Proyectos 2020'!W107:W108) -> 0 | I12: =SUM('Proyectos 2020'!X107:X108) -> 0 | J12: =SUM('Proyectos 2020'!Y107:Y108) -> 0 | K12: =SUM('Proyectos 2020'!Z107:Z108) -> 0 | L12: =SUM('Proyectos 2020'!AA107:AA108) -> 0 | ... BF12: =SUM('Proyectos 2020'!BU107:BU108) -> 0 | BG12: =SUM(E12:BF12) -> 1040000000
A13: E2. | B13: ECONÓMICO: Desarrollo Económico con alta competitividad y proyección | C13: E2.P_A | D13: EMPLEO DIGNO | E13: =SUM('Proyectos 2020'!T109:T118) -> 70000000 | F13: =SUM('Proyectos 2020'!U109:U118) -> 0 | G13: =SUM('Proyectos 2020'!V109:V118) -> 0 | H13: =SUM('Proyectos 2020'!W109:W118) -> 0 | I13: =SUM('Proyectos 2020'!X109:X118) -> 0 | J13: =SUM('Proyectos 2020'!Y109:Y118) -> 0 | K13: =SUM('Proyectos 2020'!Z109:Z118) -> 0 | L13: =SUM('Proyectos 2020'!AA109:AA118) -> 0 | ... BF13: =SUM('Proyectos 2020'!BU109:BU118) -> 0 | BG13: =SUM(E13:BF13) -> 70000000 | BH13: =SUM(BG13:BG18) -> 1337300000
C14: E2.P_B | D14: EMPRENDIMIENTO Y ASOCIATIVIDAD | E14: =SUM('Proyectos 2020'!T119:T122) -> 150000000 | F14: =SUM('Proyectos 2020'!U119:U122) -> 0 | G14: =SUM('Proyectos 2020'!V119:V122) -> 0 | H14: =SUM('Proyectos 2020'!W119:W122) -> 0 | I14: =SUM('Proyectos 2020'!X119:X122) -> 0 | J14: =SUM('Proyectos 2020'!Y119:Y122) -> 0 | K14: =SUM('Proyectos 2020'!Z119:Z122) -> 0 | L14: =SUM('Proyectos 2020'!AA119:AA122) -> 0 | ... BF14: =SUM('Proyectos 2020'!BU119:BU122) -> 0 | BG14: =SUM(E14:BF14) -> 150000000
C15: E2.P_C | D15: COMPETITIVIDAD Y DESARROLLO | E15: =SUM('Proyectos 2020'!T123:T125) -> 40000000 | F15: =SUM('Proyectos 2020'!U123:U125) -> 0 | G15: =SUM('Proyectos 2020'!V123:V125) -> 0 | H15: =SUM('Proyectos 2020'!W123:W125) -> 0 | I15: =SUM('Proyectos 2020'!X123:X125) -> 0 | J15: =SUM('Proyectos 2020'!Y123:Y125) -> 0 | K15: =SUM('Proyectos 2020'!Z123:Z125) -> 0 | L15: =SUM('Proyectos 2020'!AA123:AA125) -> 0 | ... BF15: =SUM('Proyectos 2020'!BU123:BU125) -> 0 | BG15: =SUM(E15:BF15) -> 40000000
C16: E2.P_D | D16: CIENCIA, TECNOLOGIA E INNOVACIÓN | E16: =SUM('Proyectos 2020'!T126:T130) -> 340000000 | F16: =SUM('Proyectos 2020'!U126:U130) -> 0 | G16: =SUM('Proyectos 2020'!V126:V130) -> 0 | H16: =SUM('Proyectos 2020'!W126:W130) -> 0 | I16: =SUM('Proyectos 2020'!X126:X130) -> 0 | J16: =SUM('Proyectos 2020'!Y126:Y130) -> 0 | K16: =SUM('Proyectos 2020'!Z126:Z130) -> 0 | L16: =SUM('Proyectos 2020'!AA126:AA130) -> 0 | ... BF16: =SUM('Proyectos 2020'!BU126:BU130) -> 0 | BG16: =SUM(E16:BF16) -> 340000000
C17: E2.P_E | D17: DESARROLLO AGROPECUARIO DE ALTA COMPETITIVIDAD | E17: =SUM('Proyectos 2020'!T131:T136) -> 515000000 | F17: =SUM('Proyectos 2020'!U131:U136) -> 0 | G17: =SUM('Proyectos 2020'!V131:V136) -> 0 | H17: =SUM('Proyectos 2020'!W131:W136) -> 0 | I17: =SUM('Proyectos 2020'!X131:X136) -> 0 | J17: =SUM('Proyectos 2020'!Y131:Y136) -> 0 | K17: =SUM('Proyectos 2020'!Z131:Z136) -> 0 | L17: =SUM('Proyectos 2020'!AA131:AA136) -> 0 | ... BF17: =SUM('Proyectos 2020'!BU131:BU136) -> 0 | BG17: =SUM(E17:BF17) -> 534300000
C18: E2.P_F | D18: DESARROLLO TURISTICO DE ALTA COMPETITIVIDAD | E18: =SUM('Proyectos 2020'!T137:T145) -> 203000000 | F18: =SUM('Proyectos 2020'!U137:U145) -> 0 | G18: =SUM('Proyectos 2020'!V137:V145) -> 0 | H18: =SUM('Proyectos 2020'!W137:W145) -> 0 | I18: =SUM('Proyectos 2020'!X137:X145) -> 0 | J18: =SUM('Proyectos 2020'!Y137:Y145) -> 0 | K18: =SUM('Proyectos 2020'!Z137:Z145) -> 0 | L18: =SUM('Proyectos 2020'!AA137:AA145) -> 0 | ... BF18: =SUM('Proyectos 2020'!BU137:BU145) -> 0 | BG18: =SUM(E18:BF18) -> 203000000
A19: E3. | B19: Infraestructura, Planeación, Ambiente y Servicios Públicos | C19: E3.P_A | D19: INFRAESTRUCTURAS INSTITUCIONALES Y COMUNITARIAS | E19: =SUM('Proyectos 2020'!T146:T166) -> 1186036079 | F19: =SUM('Proyectos 2020'!U146:U166) -> 0 | G19: =SUM('Proyectos 2020'!V146:V166) -> 0 | H19: =SUM('Proyectos 2020'!W146:W166) -> 0 | I19: =SUM('Proyectos 2020'!X146:X166) -> 0 | J19: =SUM('Proyectos 2020'!Y146:Y166) -> 0 | K19: =SUM('Proyectos 2020'!Z146:Z166) -> 0 | L19: =SUM('Proyectos 2020'!AA146:AA166) -> 0 | ... BF19: =SUM('Proyectos 2020'!BU146:BU166) -> 0 | BG19: =SUM(E19:BF19) -> 9275220984 | BH19: =SUM(BG19:BG30) -> 22312540143
C20: E3.P_B | D20: PLAN VIAL, VIAS Y MOVILIDAD | E20: =SUM('Proyectos 2020'!T167:T179) -> 2861000001 | F20: =SUM('Proyectos 2020'!U167:U179) -> 0 | G20: =SUM('Proyectos 2020'!V167:V179) -> 0 | H20: =SUM('Proyectos 2020'!W167:W179) -> 0 | I20: =SUM('Proyectos 2020'!X167:X179) -> 0 | J20: =SUM('Proyectos 2020'!Y167:Y179) -> 0 | K20: =SUM('Proyectos 2020'!Z167:Z179) -> 0 | L20: =SUM('Proyectos 2020'!AA167:AA179) -> 0 | ... BF20: =SUM('Proyectos 2020'!BU167:BU179) -> 0 | BG20: =SUM(E20:BF20) -> 4291000001
C21: E3.P_C | D21: ALUMBRADO PÚBLICO, ENERGÍA Y ENERGÍAS RENOVABLES, GAS, CONECTIVIDAD Y TELECOMUNICACIONES | E21: =SUM('Proyectos 2020'!T180:T183) -> 0 | F21: =SUM('Proyectos 2020'!U180:U183) -> 0 | G21: =SUM('Proyectos 2020'!V180:V183) -> 0 | H21: =SUM('Proyectos 2020'!W180:W183) -> 0 | I21: =SUM('Proyectos 2020'!X180:X183) -> 0 | J21: =SUM('Proyectos 2020'!Y180:Y183) -> 0 | K21: =SUM('Proyectos 2020'!Z180:Z183) -> 0 | L21: =SUM('Proyectos 2020'!AA180:AA183) -> 0 | ... BF21: =SUM('Proyectos 2020'!BU180:BU183) -> 0 | BG21: =SUM(E21:BF21) -> 2003000000
C22: E3.P_D | D22: ORDENAMIENTO, GESTIÓN DEL TERRITORIO Y PLANEACIÓN DEL DESARROLLO | E22: =SUM('Proyectos 2020'!T184:T192) -> 920000000 | F22: =SUM('Proyectos 2020'!U184:U192) -> 0 | G22: =SUM('Proyectos 2020'!V184:V192) -> 0 | H22: =SUM('Proyectos 2020'!W184:W192) -> 0 | I22: =SUM('Proyectos 2020'!X184:X192) -> 0 | J22: =SUM('Proyectos 2020'!Y184:Y192) -> 0 | K22: =SUM('Proyectos 2020'!Z184:Z192) -> 0 | L22: =SUM('Proyectos 2020'!AA184:AA192) -> 0 | ... BF22: =SUM('Proyectos 2020'!BU184:BU192) -> 0 | BG22: =SUM(E22:BF22) -> 970050000
C23: E3.P_E | D23: VIVIENDA | E23: =SUM('Proyectos 2020'!T193:T198) -> 210000000 | F23: =SUM('Proyectos 2020'!U193:U198) -> 0 | G23: =SUM('Proyectos 2020'!V193:V198) -> 0 | H23: =SUM('Proyectos 2020'!W193:W198) -> 0 | I23: =SUM('Proyectos 2020'!X193:X198) -> 0 | J23: =SUM('Proyectos 2020'!Y193:Y198) -> 0 | K23: =SUM('Proyectos 2020'!Z193:Z198) -> 0 | L23: =SUM('Proyectos 2020'!AA193:AA198) -> 0 | ... BF23: =SUM('Proyectos 2020'!BU193:BU198) -> 0 | BG23: =SUM(E23:BF23) -> 2215000000
C24: E3.P_F | D24: TOCANCIPA SE PREPARA PARA EL CAMBIO CLIMÁTICO | E24: =SUM('Proyectos 2020'!T199:T203) -> 62000000 | F24: =SUM('Proyectos 2020'!U199:U203) -> 0 | G24: =SUM('Proyectos 2020'!V199:V203) -> 0 | H24: =SUM('Proyectos 2020'!W199:W203) -> 0 | I24: =SUM('Proyectos 2020'!X199:X203) -> 0 | J24: =SUM('Proyectos 2020'!Y199:Y203) -> 0 | K24: =SUM('Proyectos 2020'!Z199:Z203) -> 0 | L24: =SUM('Proyectos 2020'!AA199:AA203) -> 0 | ... BF24: =SUM('Proyectos 2020'!BU199:BU203) -> 0 | BG24: =SUM(E24:BF24) -> 62000000
C25: E3.P_G | D25: AGUA | E25: =SUM('Proyectos 2020'!T204:T208) -> 901000000 | F25: =SUM('Proyectos 2020'!U204:U208) -> 0 | G25: =SUM('Proyectos 2020'!V204:V208) -> 0 | H25: =SUM('Proyectos 2020'!W204:W208) -> 0 | I25: =SUM('Proyectos 2020'!X204:X208) -> 0 | J25: =SUM('Proyectos 2020'!Y204:Y208) -> 0 | K25: =SUM('Proyectos 2020'!Z204:Z208) -> 0 | L25: =SUM('Proyectos 2020'!AA204:AA208) -> 0 | ... BF25: =SUM('Proyectos 2020'!BU204:BU208) -> 0 | BG25: =SUM(E25:BF25) -> 1272100000
C26: E3.P_H | D26: FLORA, FAUNA, SUELO, MINERÍA Y GESTIÓN DE RESIDUOS SÓLIDOS | E26: =SUM('Proyectos 2020'!T209:T215) -> 118000000 | F26: =SUM('Proyectos 2020'!U209:U215) -> 0 | G26: =SUM('Proyectos 2020'!V209:V215) -> 0 | H26: =SUM('Proyectos 2020'!W209:W215) -> 0 | I26: =SUM('Proyectos 2020'!X209:X215) -> 0 | J26: =SUM('Proyectos 2020'!Y209:Y215) -> 0 | K26: =SUM('Proyectos 2020'!Z209:Z215) -> 0 | L26: =SUM('Proyectos 2020'!AA209:AA215) -> 0 | ... BF26: =SUM('Proyectos 2020'!BU209:BU215) -> 0 | BG26: =SUM(E26:BF26) -> 118000000
C27: E3.P_I | D27: AIRE, RUIDO Y CONTAMINACIÓN VISUAL | E27: =SUM('Proyectos 2020'!T216:T218) -> 55000000 | F27: =SUM('Proyectos 2020'!U216:U218) -> 0 | G27: =SUM('Proyectos 2020'!V216:V218) -> 0 | H27: =SUM('Proyectos 2020'!W216:W218) -> 0 | I27: =SUM('Proyectos 2020'!X216:X218) -> 0 | J27: =SUM('Proyectos 2020'!Y216:Y218) -> 0 | K27: =SUM('Proyectos 2020'!Z216:Z218) -> 0 | L27: =SUM('Proyectos 2020'!AA216:AA218) -> 0 | ... BF27: =SUM('Proyectos 2020'!BU216:BU218) -> 0 | BG27: =SUM(E27:BF27) -> 55000000
C28: E3.P_J | D28: SIGAM, PRAES, PIGA Y PROCEDAS | E28: =SUM('Proyectos 2020'!T219:T226) -> 77000000 | F28: =SUM('Proyectos 2020'!U219:U226) -> 0 | G28: =SUM('Proyectos 2020'!V219:V226) -> 0 | H28: =SUM('Proyectos 2020'!W219:W226) -> 0 | I28: =SUM('Proyectos 2020'!X219:X226) -> 0 | J28: =SUM('Proyectos 2020'!Y219:Y226) -> 0 | K28: =SUM('Proyectos 2020'!Z219:Z226) -> 0 | L28: =SUM('Proyectos 2020'!AA219:AA226) -> 0 | ... BF28: =SUM('Proyectos 2020'!BU219:BU226) -> 0 | BG28: =SUM(E28:BF28) -> 77000000
C29: E3.P_K | D29: SENTENCIA DEL RÍO BOGOTÁ | E29: =SUM('Proyectos 2020'!T227) -> 100000000 | F29: =SUM('Proyectos 2020'!U227) -> 0 | G29: =SUM('Proyectos 2020'!V227) -> 0 | H29: =SUM('Proyectos 2020'!W227) -> 0 | I29: =SUM('Proyectos 2020'!X227) -> 0 | J29: =SUM('Proyectos 2020'!Y227) -> 0 | K29: =SUM('Proyectos 2020'!Z227) -> 0 | L29: =SUM('Proyectos 2020'!AA227) -> 0 | ... BF29: =SUM('Proyectos 2020'!BU227) -> 0 | BG29: =SUM(E29:BF29) -> 100000000
C30: E3.P_L | D30: ACUEDUCTO, ALCANTARILLADO Y ASEO | E30: =SUM('Proyectos 2020'!T228:T253) -> 0 | F30: =SUM('Proyectos 2020'!U228:U253) -> 0 | G30: =SUM('Proyectos 2020'!V228:V253) -> 0 | H30: =SUM('Proyectos 2020'!W228:W253) -> 0 | I30: =SUM('Proyectos 2020'!X228:X253) -> 0 | J30: =SUM('Proyectos 2020'!Y228:Y253) -> 0 | K30: =SUM('Proyectos 2020'!Z228:Z253) -> 0 | L30: =SUM('Proyectos 2020'!AA228:AA253) -> 0 | ... BF30: =SUM('Proyectos 2020'!BU228:BU253) -> 0 | BG30: =SUM(E30:BF30) -> 1874169158
A31: E4. | B31: Seguridad y Justicia, La Integración Comunitaria y la Administración Pública son con la Gente y por la Gente | C31: E4.P_A | D31: SEGURIDAD Y JUSTICIA | E31: =SUM('Proyectos 2020'!T254:T272) -> 4253708000 | F31: =SUM('Proyectos 2020'!U254:U272) -> 0 | G31: =SUM('Proyectos 2020'!V254:V272) -> 0 | H31: =SUM('Proyectos 2020'!W254:W272) -> 0 | I31: =SUM('Proyectos 2020'!X254:X272) -> 0 | J31: =SUM('Proyectos 2020'!Y254:Y272) -> 0 | K31: =SUM('Proyectos 2020'!Z254:Z272) -> 0 | L31: =SUM('Proyectos 2020'!AA254:AA272) -> 0 | ... BF31: =SUM('Proyectos 2020'!BU254:BU272) -> 0 | BG31: =SUM(E31:BF31) -> 6303808000 | BH31: =SUM(BG31:BG35) -> 12207745142
C32: E4.P_B | D32: TOCANCIPA GESTIONA SUS RIESGOS | E32: =SUM('Proyectos 2020'!T273:T278) -> 516937142 | F32: =SUM('Proyectos 2020'!U273:U278) -> 0 | G32: =SUM('Proyectos 2020'!V273:V278) -> 0 | H32: =SUM('Proyectos 2020'!W273:W278) -> 0 | I32: =SUM('Proyectos 2020'!X273:X278) -> 0 | J32: =SUM('Proyectos 2020'!Y273:Y278) -> 0 | K32: =SUM('Proyectos 2020'!Z273:Z278) -> 0 | L32: =SUM('Proyectos 2020'!AA273:AA278) -> 0 | ... BF32: =SUM('Proyectos 2020'!BU273:BU278) -> 0 | BG32: =SUM(E32:BF32) -> 1818937142
C33: E4.P_C | D33: DESARROLLO COMUNITARIO | E33: =SUM('Proyectos 2020'!T279:T280) -> 200000000 | F33: =SUM('Proyectos 2020'!U279:U280) -> 0 | G33: =SUM('Proyectos 2020'!V279:V280) -> 0 | H33: =SUM('Proyectos 2020'!W279:W280) -> 0 | I33: =SUM('Proyectos 2020'!X279:X280) -> 0 | J33: =SUM('Proyectos 2020'!Y279:Y280) -> 0 | K33: =SUM('Proyectos 2020'!Z279:Z280) -> 0 | L33: =SUM('Proyectos 2020'!AA279:AA280) -> 0 | ... BF33: =SUM('Proyectos 2020'!BU279:BU280) -> 0 | BG33: =SUM(E33:BF33) -> 200000000
C34: E4.P_D | D34: FORTALECIMIENTO Y EQUIPAMIENTO INSTITUCIONAL Y SISTEMA DE GESTIÓN Y CONTROL | E34: =SUM('Proyectos 2020'!T281:T296) -> 3385000000 | F34: =SUM('Proyectos 2020'!U281:U296) -> 0 | G34: =SUM('Proyectos 2020'!V281:V296) -> 0 | H34: =SUM('Proyectos 2020'!W281:W296) -> 0 | I34: =SUM('Proyectos 2020'!X281:X296) -> 0 | J34: =SUM('Proyectos 2020'!Y281:Y296) -> 0 | K34: =SUM('Proyectos 2020'!Z281:Z296) -> 0 | L34: =SUM('Proyectos 2020'!AA281:AA296) -> 0 | ... BF34: =SUM('Proyectos 2020'!BU281:BU296) -> 0 | BG34: =SUM(E34:BF34) -> 3385000000
C35: E4.P_E | D35: ESTRATEGIAS, TRIBUTACIÓN Y FINANCIEMAIENTO DEL PDM | E35: =SUM('Proyectos 2020'!T297:T302) -> 500000000 | F35: =SUM('Proyectos 2020'!U297:U302) -> 0 | G35: =SUM('Proyectos 2020'!V297:V302) -> 0 | H35: =SUM('Proyectos 2020'!W297:W302) -> 0 | I35: =SUM('Proyectos 2020'!X297:X302) -> 0 | J35: =SUM('Proyectos 2020'!Y297:Y302) -> 0 | K35: =SUM('Proyectos 2020'!Z297:Z302) -> 0 | L35: =SUM('Proyectos 2020'!AA297:AA302) -> 0 | ... BF35: =SUM('Proyectos 2020'!BU297:BU302) -> 0 | BG35: =SUM(E35:BF35) -> 500000000
C36: TOTALES | E36: =SUM(E3:E35) -> 4.4648242e+10 | F36: =SUM(F3:F35) -> 2000000000 | G36: =SUM(G3:G35) -> 474694256 | H36: =SUM(H3:H35) -> 10000000 | I36: =SUM(I3:I35) -> 602678896 | J36: =SUM(J3:J35) -> 133525790 | K36: =SUM(K3:K35) -> 400000 | L36: =SUM(L3:L35) -> 283188006 | ... BH36: =SUM(BH3:BH35) -> 7.4457141e+10
C38: TECHO PRESUPUESTAL | E38: =+'TECHOS PRESU 2020'!B6 -> 44648241709 | F38: =+'TECHOS PRESU 2020'!B7 -> 2000000000 | G38: =+'TECHOS PRESU 2020'!B8 -> 474694256 | H38: =+'TECHOS PRESU 2020'!B9 -> 10000000 | I38: =+'TECHOS PRESU 2020'!B10 -> 602678896 | J38: =+'TECHOS PRESU 2020'!B11 -> 133525790 | K38: =+'TECHOS PRESU 2020'!B12 -> 400000 | L38: =+'TECHOS PRESU 2020'!B13 -> 283188006 | M38: =+'TECHOS PRESU 2020'!B14 -> 1000000 | N38: =+'TECHOS PRESU 2020'!B15 -> 218756307 | O38: =+'TECHOS PRESU 2020'!B16 -> 164067230 | P38: =+'TECHOS PRESU 2020'!B17 -> 2078184905 | Q38: =+'TECHOS PRESU 2020'!B18 -> 7000000 | R38: =+'TECHOS PRESU 2020'!B19 -> 1020169158 | S38: =+'TECHOS PRESU 2020'!B20 -> 4000000 | T38: =+'TECHOS PRESU 2020'!B21 -> 280000000 | U38: =+'TECHOS PRESU 2020'!B22 -> 2000000 | V38: =+'TECHOS PRESU 2020'!B23 -> 1400000000 | W38: =+'TECHOS PRESU 2020'!B24 -> 30000000 | X38: =+'TECHOS PRESU 2020'!B25 -> 2000000000 | Y38: =+'TECHOS PRESU 2020'!B26 -> 30000000 | Z38: =+'TECHOS PRESU 2020'!B27 -> 600000000 | AA38: =+'TECHOS PRESU 2020'!B28 -> 500000 | AB38: =+'TECHOS PRESU 2020'!B29 -> 70000000 | AC38: =+'TECHOS PRESU 2020'!B30 -> 600000 | AD38: =+'TECHOS PRESU 2020'!B31 -> 19200000 | AE38: =+'TECHOS PRESU 2020'!B32 -> 100000 | AF38: =+'TECHOS PRESU 2020'!B33 -> 200000 | AG38: =+'TECHOS PRESU 2020'!B34 -> 0 | AH38: =+'TECHOS PRESU 2020'!B35 -> 0 | AI38: =+'TECHOS PRESU 2020'!B36 -> 2000000000 | AJ38: =+'TECHOS PRESU 2020'!B37 -> 3000000 | AK38: =+'TECHOS PRESU 2020'!B38 -> 20000000 | AL38: =+'TECHOS PRESU 2020'!B39 -> 100000 | AM38: =+'TECHOS PRESU 2020'!B40 -> 2000000000 | AN38: =+'TECHOS PRESU 2020'!B41 -> 2000000 | AO38: =+'TECHOS PRESU 2020'!B42 -> 26000000 | AP38: =+'TECHOS PRESU 2020'!B43 -> 2000000000 | AQ38: =+'TECHOS PRESU 2020'!B44 -> 2000000 | AR38: =+'TECHOS PRESU 2020'!B45 -> 470000000 | AS38: =+'TECHOS PRESU 2020'!B46 -> 80000000 | AT38: =+'TECHOS PRESU 2020'!B47 -> 1300000000 | AU38: =+'TECHOS PRESU 2020'!B48 -> 2000000 | AV38: =+'TECHOS PRESU 2020'!B49 -> 630000000 | AW38: =+'TECHOS PRESU 2020'!B50 -> 1470000000 | AX38: =+'TECHOS PRESU 2020'!B51 -> 2000000 | AY38: =+'TECHOS PRESU 2020'!B52 -> 2000000000 | AZ38: =+'TECHOS PRESU 2020'!B53 -> 2000000000 | BA38: =+'TECHOS PRESU 2020'!B54 -> 5000000 | BB38: =+'TECHOS PRESU 2020'!B55 -> 50000000 | BC38: =+'TECHOS PRESU 2020'!B56 -> 50000 | BD38: =+'TECHOS PRESU 2020'!B57 -> 4316484651 | BE38: =+'TECHOS PRESU 2020'!B58 -> 0 | BF38: =+'TECHOS PRESU 2020'!B59 -> 0 | BG38: =SUM(E38:BF38) -> 74457140908 | BH38: =+BG38 -> 74457140908
C40: PENDIENTE POR DISTRIBUIR | E40: =+E38-E36 -> -0.5 | F40: =+F38-F36 -> 0 | G40: =+G38-G36 -> 0 | H40: =+H38-H36 -> 0 | I40: =+I38-I36 -> 0 | J40: =+J38-J36 -> 0 | K40: =+K38-K36 -> 0 | L40: =+L38-L36 -> 0 | ... BH40: =+BH38-BH36 -> -0.5

Sheet Proyectos 2020
A1: MUNICIPIO DE TOCANCIPÁ - CUNADINAMARCA
A2: PLAN DE DESARROLLO MUNICIPAL "TOCANCIPÁ ALTA COMPETITIVIDAD CON DESARROLLO Y PROYECCIÓN 2016 - 2019"
A3: PLAN OPERATIVO ANUAL DE INVERSIONES - POAI - VIGENCIA 2020
A4: OBJETIVO GENERAL: El Plan de Desarrollo tiene como objetivo principal brindar a la Administración Municipal las herramientas para generar el desarrollo social, económico y la preservación ambiental que el municipio necesita.
A5: VISIÓN: Para el año 2026, Tocancipá será reconocido a nivel Nacional como un Municipio líder en garantía de derechos y servicios, con seguridad, altos niveles de avane e innovación para el desarrollo social, productivo y proyección de su economía en el crecimiento integral y eficiente de su comunidad, con capital humano capacitado y altamente competitivo, desde una perspectiva de inclusión y una política de responsabilidad social y ambiental a través de infraestruturas sostenibles. | S5: DISTRIBUCIÓN POR PROGRAMAS | T5: RECURSOS ASIGNADOS VIGENCIA 2020 (CERTIFICADOS POR SECRETARÍA DE HACIENDA)
A6: CÓD. CONS. EJE | B6: EJE | C6: CÓD. CONS. PROGR. | D6: PROGRAMAS DE INVERSIÓN | E6: CÓD. CONS. META RESULTADO | F6: DESCRIPCIÓN DE LAS METAS DE RESULTADO | G6: NOMBRE DEL INDICADOR DE RESULTADO | H6: LÍNEA BASE IND. RESULTADO (DICIEMBRE DE 2015) | I6: CANT. IND. RESULTADO CUATRIENIO | J6: PROYECTOS (CÓD. SSEPI Y NOMBRE EBI) | K6: CÓD. CONS. META PROD | L6: DESCRIPCIÓN DE LAS METAS DE PRODUCTO | M6: DESCRIPCIÓN DEL INDICADOR DE PRODUCTO | N6: LÍNEA BASE IND. PROD. (DICIEMBRE DE 2015) | O6: CANT. IND. META PRODUCTO CUATRIENIO | P6: CANT. IND. META PRODUCTO 2020 | Q6: V/R SUBTOTAL SOLICITADO PROYECTO DE INVERSIÓN 2019 | S6: V/R ASIGNADO POR PROGRAMA - Vigencia 2020 | T6: ICLD | U6: RENDIMIENTOS FINANCIEROS ICLD | V6: SGP EDUCACION CALIDAD | W6: RENDIMIENTOS FINANCIEROS SGP EDUCACION CALIDAD | X6: SGP GRATUIDAD | Y6: SGP ALIMENTACION ESCOLAR | Z6: RENDIMIENTOS FINANCIEROS SGP ALIMENTACION ESCOLAR | AA6: SGP SALUD PUBLICA | AB6: RENDIMIENTOS FINANCIEROS SGP SALUD PUBLICA | AC6: SGP DEPORTE | AD6: SGP CULTURA | AE6: SGP PROPOSITO GENERAL - LIBRE INVERSIÓN | AF6: RENDIMIENTOS FINANCIEROS SGP PROPOSITO GENERAL - LIBRE INV. | AG6: SGP AGUA POTABLE | AH6: RENDIMIENTOS FINANCIEROS SGP AGUA POTABLE | AI6: ESTAMPILLA PROCULTURA 100% | AJ6: RENDIMIENTOS FINANCIEROS ESTAMPILLA PROCULTURA | AK6: SOBRETASA A LA GASOLINA | AL6: RENDIMIENTOS FINANCIEROS SOBRETASA A LA GASOLINA | AM6: FONDO DE SEGURIDAD | AN6: RENDIMIENTOS FINANCIEROS FONDO DE SEGURIDAD | AO6: RECURSOS LEY 99 DE 1993 | AP6: RENDIMIENTOS FINANCIEROS RECURSOS LEY 99 | AQ6: TRANSPORTE OLEODUCTOS | AR6: RENDIMIENTOS FINANCIEROS TRANSPORTE OLEODUCTOS | AS6: FONDO ASISTENCIA TECNICA RURAL | AT6: RENDIMIENTOS FINANCIEROS FONDO ASISTENCIA TECNICA RURAL | AU6: FONDO DE ACTIVIDADES LUDICAS | AV6: ESTAMPILLA MIGUEL DE IBARRA | AW6: RENDIMIENTOS FINANCIEROS ESTAMPILLA MIGUEL DE IBARRA | AX6: ALUMBRADO PUBLICO | AY6: RENDIMIENTOS FINANCIEROS ALUMBRADO PUBLICO | AZ6: COMPARENDO AMBIENTAL | BA6: RENDIMIENTOS FINANCIEROS COMPARENDO AMBIENTAL | BB6: CESIONES TIPO A | BC6: RENDIMIENTOS FINANCIEROS CESIONES TIPO A | BD6: CONSUMO CIGARRILLO | BE6: PLUSVALIA | BF6: RENDIMIENTOS FINANCIEROS PLUSVALIA | BG6: FONDO DE SOLIDARIDAD SS PP | BH6: RENDIMIENTOS FINANCIEROS FONDO SOLIDARIDAD SERVICIOS PUBLICOS | BI6: SOBRETASA BOMBERIL | BJ6: RENDIMIENTOS FINANCIEROS SOBRETASA BOMBERIL | BK6: ESTAMPILLA ADULTO MAYOR 30% | BL6: ESTAMPILLA ADULTO MAYOR 70% | BM6: RENDIMIENTOS FINANCIEROS ESTAMPILLA ADULTO MAYOR | BN6: CARGAS Y BENEFICIOS | BO6: OBLIGACIONES VIP | BP6: RENDIMIENTOS FINANCIEROS FONDO DE VIVIENDA | BQ6: ESTRATIFICACION SOCIO ECONOMICA | BR6: RENDIMIENTOS FINANCIEROS ESTRATIFICACION | BS6: SALUD REGIMEN SUBSIDIADO | BT6: RECURSOS COLJUEGOS 25% CSF | BU6: RENDIMIENTOS FINANCIEROS OTROS GASTOS EN SALUD | BV6: TOTAL ASIGNADO 2020 POR METAS DE PRODUCTO | BW6: V/R POR FINANCIAR 2020 | BX6: Responsable | DU6: 1 | DV6: 2 | DW6: 3 | DX6: 4 | DY6: 5 | DZ6: 6 | EA6: 7 | EB6: 8 | EC6: 9
A7: E1. | B7: SOCIAL: Desarrollo Social con alta competitividad y proyección | C7: E1.P_A | D7: TOCANCIPA BIEN EDUCADA | E7: E1.P_A.MR1 | F7: Mejorar los indicadores de resultado de las pruebas SABER en las Instituciones Educativas del Municipio | G7: Índice de resultado pruebas SABER | H7: 0 | I7: 0.1 | J7: 2016-25817-0047 Mantenimiento de la cobertura en educación, para mejorar el resultado de pruebas SABER, Tocancipá, Cundinamarca, Centro Oriente | K7: E1.P_A.MR1-MP01-1 | L7: Constituir el mecanismo de gestión y financiación contemplados en el PDM para la creación de un complejo Universitario en el Municipio cofinanciado con el departamento, la nación y universidades públicas y privadas nacionales y/o internacionales | M7: Porcentaje de construcción del Complejo Universitario Municipal | N7: =VLOOKUP(K7,$DU$8:$EC$303,4,0) -> 0 | O7: =VLOOKUP(K7,$DU$8:$EC$303,5,0) -> 30 | P7: 0 | Q7: =SUM(R7:R14) -> 600 | R7: =+GJ7 -> 100 | S7: =SUM(BV7:BV33) -> 1.4252516e+10 | T7: 0 | BV7: =SUM(T7:BU7) -> 0 | BW7: =+R7-BV7 -> 100 | BX7: Secretaria de Educación | DU7: CÓD. CONS. META PRODUCTO | DV7: Metas de Producto | DW7: Indicador | DX7: Lïnea base | DY7: Meta de Producto Cuatrenio | DZ7: Valor Esperado INICIAL 2016 | EA7: Valor esperado VIGENTE 2017 | EB7: Valor esperado VIGENTE 2018 | EC7: Valor esperado VIGENTE 2019 | GH7: =+IF(P7=0,"0","1") -> 0 | GI7: =+IF(BV7=0,"0","1") -> 0 | GJ7: =+((IF((GH7+GI7)=0,"100",(((GH7+GI7)/2)*100)))) -> 100
A8: E1. | B8: SOCIAL: Desarrollo Social con alta competitividad y proyección | C8: E1.P_A | D8: TOCANCIPA BIEN EDUCADA | E8: E1.P_A.MR1 | F8: Mejorar los indicadores de resultado de las pruebas SABER en las Instituciones Educativas del Municipio | G8: Índice de resultado pruebas SABER | H8: 0 | I8: 0.1 | K8: E1.P_A.MR1-MP01-2 | L8: Constituir el mecanismo de gestión y financiación contemplados en el PDM para la creación de un complejo Universitario en el Municipio cofinanciado con el departamento, la nación y universidades públicas y privadas nacionales y/o internacionales | M8: No. De mecanismos de gestión y financiación suscritos para la operación del Complejo Universitario Municipal | N8: =VLOOKUP(K8,$DU$8:$EC$303,4,0) -> 0 | O8: =VLOOKUP(K8,$DU$8:$EC$303,5,0) -> 1 | P8: 0 | R8: =+GJ8 -> 100 | T8: 0 | BV8: =SUM(T8:BU8) -> 0 | BW8: =+R8-BV8 -> 100 | BX8: Secretaria de Educación | DU8: E1.P_A.MR1-MP01-1 | DV8: Constituir el mecanismo de gestión y financiación contemplados en el PDM para la creación de un complejo Universitario en el Municipio cofinanciado con el departamento, la nación y universidades públicas y privadas nacionales y/o internacionales | DW8: Porcentaje de construcción del Complejo Universitario Municipal (%) | DX8: 0 | DY8: 30 | DZ8: 0 | EA8: 0 | EB8: 0 | EC8: 30 | GH8: =+IF(P8=0,"0","1") -> 0 | GI8: =+IF(BV8=0,"0","1") -> 0 | GJ8: =+((IF((GH8+GI8)=0,"100",(((GH8+GI8)/2)*100)))) -> 100
A9: E1. | B9: SOCIAL: Desarrollo Social con alta competitividad y proyección | C9: E1.P_A | D9: TOCANCIPA BIEN EDUCADA | E9: E1.P_A.MR1 | F9: Mejorar los indicadores de resultado de las pruebas SABER en las Instituciones Educativas del Municipio | G9: Índice de resultado pruebas SABER | H9: 0 | I9: 0.1 | K9: E1.P_A.MR1-MP02-1 | L9: implementar acciones para mejorar los resultados de las Pruebas Saber 3°, 5°, 7°, 9° y 11 | M9: No. De acciones implementadas | N9: =VLOOKUP(K9,$DU$8:$EC$303,4,0) -> 1 | O9: =VLOOKUP(K9,$DU$8:$EC$303,5,0) -> 2 | P9: =VLOOKUP(K9,$DU$8:$EC$303,9,0) -> 1 | R9: =+GJ9 -> 100 | T9: 86940000 | BV9: =SUM(T9:BU9) -> 86940000 | BW9: =+R9-BV9 -> -86939900 | BX9: Secretaria de Educación | DU9: E1.P_A.MR1-MP01-2 | DV9: Constituir el mecanismo de gestión y financiación contemplados en el PDM para la creación de un complejo Universitario en el Municipio cofinanciado con el departamento, la nación y universidades públicas y privadas nacionales y/o internacionales | DW9: No. De mecanismos de gestión y financiación suscritos para la operación del Complejo Universitario Municipal | DX9: 0 | DY9: 1 | DZ9: 0 | EA9: 0 | EB9: 0 | EC9: 1 | GH9: =+IF(P9=0,"0","1") -> 1 | GI9: =+IF(BV9=0,"0","1") -> 1 | GJ9: =+((IF((GH9+GI9)=0,"100",(((GH9+GI9)/2)*100)))) -> 100
A10: E1. | B10: SOCIAL: Desarrollo Social con alta competitividad y proyección | C10: E1.P_A | D10: TOCANCIPA BIEN EDUCADA | E10: E1.P_A.MR1 | F10: Mejorar los indicadores de resultado de las pruebas SABER en las Instituciones Educativas del Municipio | G10: Índice de resultado pruebas SABER | H10: 0 | I10: 0.1 | K10: E1.P_A.MR1-MP03-1 | L10: Mantener la cobertura del servicio de transporte escolar | M10: Tasa de Cobertura de Transporte Escolar según distancia legal para los estudiantes que lo requieren | N10: =VLOOKUP(K10,$DU$8:$EC$303,4,0) -> 98 | O10: =VLOOKUP(K10,$DU$8:$EC$303,5,0) -> 98 | P10: =VLOOKUP(K10,$DU$8:$EC$303,9,0) -> 98 | R10: =+GJ10 -> 100 | T10: =2400000000+(2400000000*0.05) -> 2520000000 | BV10: =SUM(T10:BU10) -> 2520000000 | BW10: =+R10-BV10 -> -2519999900 | BX10: Secretaria de Educación | DU10: E1.P_A.MR1-MP02-1 | DV10: implementar acciones para mejorar los resultados de las Pruebas Saber 3°, 5°, 7°, 9° y 11 | DW10: No. De acciones implementadas | DX10: 1 | DY10: 2 | DZ10: 0 | EA10: 0.5 | EB10: 0.5 | EC10: 1 | GH10: =+IF(P10=0,"0","1") -> 1 | GI10: =+IF(BV10=0,"0","1") -> 1 | GJ10: =+((IF((GH10+GI10)=0,"100",(((GH10+GI10)/2)*100)))) -> 100
A11: E1. | B11: SOCIAL: Desarrollo Social con alta competitividad y proyección | C11: E1.P_A | D11: TOCANCIPA BIEN EDUCADA | E11: E1.P_A.MR1 | F11: Mejorar los indicadores de resultado de las pruebas SABER en las Instituciones Educativas del Municipio | G11: Índice de resultado pruebas SABER | H11: 0 | I11: 0.1 | K11: E1.P_A.MR1-MP04-1 | L11: Implementar semilleros de investigación en tecnología e innovación | M11: No. de semilleros de investigación en tecnología e innovación implementados | N11: =VLOOKUP(K11,$DU$8:$EC$303,4,0) -> 0 | O11: =VLOOKUP(K11,$DU$8:$EC$303,5,0) -> 3 | P11: =VLOOKUP(K11,$DU$8:$EC$303,9,0) -> 1 | R11: =+GJ11 -> 100 | T11: =38500000+(38500000*5%) -> 40425000 | BV11: =SUM(T11:BU11) -> 40425000 | BW11: =+R11-BV11 -> -40424900 | BX11: Secretaria de Educación | DU11: E1.P_A.MR1-MP03-1 | DV11: Mantener la cobertura del servicio de transporte escolar | DW11: Tasa de Cobertura de Transporte Escolar según distancia legal para los estudiantes que lo requieren (%) | DX11: 98 | DY11: 98 | DZ11: 98 | EA11: 98 | EB11: 98 | EC11: 98 | GH11: =+IF(P11=0,"0","1") -> 1 | GI11: =+IF(BV11=0,"0","1") -> 1 | GJ11: =+((IF((GH11+GI11)=0,"100",(((GH11+GI11)/2)*100)))) -> 100
A12: E1. | B12: SOCIAL: Desarrollo Social con alta competitividad y proyección | C12: E1.P_A | D12: TOCANCIPA BIEN EDUCADA | E12: E1.P_A.MR1 | F12: Mejorar los indicadores de resultado de las pruebas SABER en las Instituciones Educativas del Municipio | G12: Índice de resultado pruebas SABER | H12: 0 | I12: 0.1 | K12: E1.P_A.MR1-MP05-1 | L12: Mantener las Dotaciones de las I.E.D en Infraestructura Educativa y en Material y Medios Pedagógicos para el Aprendizaje | M12: No. de instituciones dotadas | N12: =VLOOKUP(K12,$DU$8:$EC$303,4,0) -> 3 | O12: =VLOOKUP(K12,$DU$8:$EC$303,5,0) -> 3 | P12: =VLOOKUP(K12,$DU$8:$EC$303,9,0) -> 3 | R12: =+GJ12 -> 100 | T12: 200000000 | V12: 474694256 | W12: 10000000 | BV12: =SUM(T12:BU12) -> 684694256 | BW12: =+R12-BV12 -> -684694156 | BX12: Secretaria de Educación | DU12: E1.P_A.MR1-MP04-1 | DV12: Implementar semilleros de investigación en tecnología e innovación | DW12: No. de semilleros de investigación en tecnología e innovación implementados | DX12: 0 | DY12: 3 | DZ12: 0.5 | EA12: 0.5 | EB12: 1 | EC12: 1 | GH12: =+IF(P12=0,"0","1") -> 1 | GI12: =+IF(BV12=0,"0","1") -> 1 | GJ12: =+((IF((GH12+GI12)=0,"100",(((GH12+GI12)/2)*100)))) -> 100
A13: E1. | B13: SOCIAL: Desarrollo Social con alta competitividad y proyección | C13: E1.P_A | D13: TOCANCIPA BIEN EDUCADA | E13: E1.P_A.MR1 | F13: Mejorar los indicadores de resultado de las pruebas SABER en las Instituciones Educativas del Municipio | G13: Índice de resultado pruebas SABER | H13: 0 | I13: 0.1 | K13: E1.P_A.MR1-MP06-1 | L13: Mantener la infraestructura educativa y recursos de aprendizaje de las I.E.D | M13: No. de I.E.D a las que se ha realizado mantenimiento | N13: =VLOOKUP(K13,$DU$8:$EC$303,4,0) -> 3 | O13: =VLOOKUP(K13,$DU$8:$EC$303,5,0) -> 3 | P13: =VLOOKUP(K13,$DU$8:$EC$303,9,0) -> 3 | R13: =+GJ13 -> 100 | T13: 100000000 | BV13: =SUM(T13:BU13) -> 100000000 | BW13: =+R13-BV13 -> -99999900 | BX13: Secretaria de Educación | DU13: E1.P_A.MR1-MP05-1 | DV13: Mantener las Dotaciones de las I.E.D en Infraestructura Educativa y en Material y Medios Pedagógicos para el Aprendizaje | DW13: No. de instituciones dotadas | DX13: 3 | DY13: 3 | DZ13: 3 | EA13: 3 | EB13: 3 | EC13: 3 | GH13: =+IF(P13=0,"0","1") -> 1 | GI13: =+IF(BV13=0,"0","1") -> 1 | GJ13: =+((IF((GH13+GI13)=0,"100",(((GH13+GI13)/2)*100)))) -> 100
A14: E1. | B14: SOCIAL: Desarrollo Social con alta competitividad y proyección | C14: E1.P_A | D14: TOCANCIPA BIEN EDUCADA | E14: E1.P_A.MR1 | F14: Mejorar los indicadores de resultado de las pruebas SABER en las Instituciones Educativas del Municipio | G14: Índice de resultado pruebas SABER | H14: 0 | I14: 0.1 | K14: E1.P_A.MR1-MP07-1 | L14: Realizar procesos de apoyo y acompañamiento a las Instituciones Educativas Oficiales en su operación institucional | M14: No. de Instituciones Educativas Oficiales apoyadas y acompañadas | N14: =VLOOKUP(K14,$DU$8:$EC$303,4,0) -> 3 | O14: =VLOOKUP(K14,$DU$8:$EC$303,5,0) -> 3 | P14: =VLOOKUP(K14,$DU$8:$EC$303,9,0) -> 3 | R14: =+GJ14 -> 100 | T14: =124624200+(124624200*5%)+100000000 -> 230855410 | X14: 602678896 | BV14: =SUM(T14:BU14) -> 833534306 | BW14: =+R14-BV14 -> -833534206 | BX14: Secretaria de Educación | DU14: E1.P_A.MR1-MP06-1 | DV14: Mantener la infraestructura educativa y recursos de aprendizaje de las I.E.D | DW14: No. de I.E.D a las que se ha realizado mantenimiento | DX14: 3 | DY14: 3 | DZ14: 3 | EA14: 3 | EB14: 3 | EC14: 3 | GH14: =+IF(P14=0,"0","1") -> 1 | GI14: =+IF(BV14=0,"0","1") -> 1 | GJ14: =+((IF((GH14+GI14)=0,"100",(((GH14+GI14)/2)*100)))) -> 100
A15: E1. | B15: SOCIAL: Desarrollo Social con alta competitividad y proyección | C15: E1.P_A | D15: TOCANCIPA BIEN EDUCADA | E15: E1.P_A.MR1 | F15: Mejorar los indicadores de resultado de las pruebas SABER en las Instituciones Educativas del Municipio | G15: Índice de resultado pruebas SABER | H15: 0 | I15: 0.1 | J15: 2016-25817-0051 Desarrollo del programa Restaurantes Escolares en el Municipio de Tocancipá, Cundinamarca, Centro Oriente | K15: E1.P_A.MR1-MP08-1 | L15: Realizar acciones para fortalecer la estrategia de complementación alimentaria y nutricional de calidad (refrigerios y restaurante escolar) para la población a la luz de criterios del Plan de Seguridad Alimentaria y Nutricional Departamental -PSAIN | M15: N° de acciones realizadas | N15: =VLOOKUP(K15,$DU$8:$EC$303,4,0) -> 0 | O15: =VLOOKUP(K15,$DU$8:$EC$303,5,0) -> 3 | P15: =VLOOKUP(K15,$DU$8:$EC$303,9,0) -> 0.68 | Q15: =SUM(R15) -> 100 | R15: =+GJ15 -> 100 | T15: =2896074210-400000000 -> 2496074210 | U15: =400000000 -> 400000000 | Y15: 133525790 | Z15: 400000 | BV15: =SUM(T15:BU15) -> 3030000000 | BW15: =+R15-BV15 -> -3029999900 | BX15: Secretaria de Educación | DU15: E1.P_A.MR1-MP07-1 | DV15: Realizar procesos de apoyo y acompañamiento a las Instituciones Educativas Oficiales en su operación institucional | DW15: No. de Instituciones Educativas Oficiales apoyadas y acompañadas | DX15: 3 | DY15: 3 | DZ15: 3 | EA15: 3 | EB15: 3 | EC15: 3 | GH15: =+IF(P15=0,"0","1") -> 1 | GI15: =+IF(BV15=0,"0","1") -> 1 | GJ15: =+((IF((GH15+GI15)=0,"100",(((GH15+GI15)/2)*100)))) -> 100
A16: E1. | B16: SOCIAL: Desarrollo Social con alta competitividad y proyección | C16: E1.P_A | D16: TOCANCIPA BIEN EDUCADA | E16: E1.P_A.MR2 | F16: Disminuir el número de estudiantes por equipo de cómputo | G16: No. de estudiantes por equipo de cómputo | H16: 3 | I16: 2 | J16: 2016-25817-0026 Fortalecimiento de la enseñanza mediante ambientes digitales y cualificación docente en el Municipio de Tocancipá, Cundinamarca, Centro Oriente | K16: E1.P_A.MR2-MP01-1 | L16: Realizar acciones para mejorar la cualificación docente | M16: No. de acciones realizadas | N16: =VLOOKUP(K16,$DU$8:$EC$303,4,0) -> 0 | O16: =VLOOKUP(K16,$DU$8:$EC$303,5,0) -> 4 | P16: 0 | Q16: =SUM(R16:R19) -> 300 | R16: =+GJ16 -> 100 | T16: 0 | BV16: =SUM(T16:BU16) -> 0 | BW16: =+R16-BV16 -> 100 | BX16: Secretaria de Educación | DU16: E1.P_A.MR1-MP08-1 | DV16: Realizar acciones para fortalecer la estrategia de complementación alimentaria y nutricional de calidad (refrigerios y restaurante escolar) para la población a la luz de criterios del Plan de Seguridad Alimentaria y Nutricional Departamental -PSAIN | DW16: N° de acciones realizadas | DX16: 0 | DY16: 3 | DZ16: 1 | EA16: 0.66 | EB16: 0.66 | EC16: 0.68 | GH16: =+IF(P16=0,"0","1") -> 0 | GI16: =+IF(BV16=0,"0","1") -> 0 | GJ16: =+((IF((GH16+GI16)=0,"100",(((GH16+GI16)/2)*100)))) -> 100
A17: E1. | B17: SOCIAL: Desarrollo Social con alta competitividad y proyección | C17: E1.P_A | D17: TOCANCIPA BIEN EDUCADA | E17: E1.P_A.MR2 | F17: Disminuir el número de estudiantes por equipo de cómputo | G17: No. de estudiantes por equipo de cómputo | H17: 3 | I17: 2 | K17: E1.P_A.MR2-MP02-1 | L17: Implementar una estrategia de “reconocimiento labor docente” | M17: No. de estrategias implementadas | N17: =VLOOKUP(K17,$DU$8:$EC$303,4,0) -> 0 | O17: =VLOOKUP(K17,$DU$8:$EC$303,5,0) -> 1 | P17: =VLOOKUP(K17,$DU$8:$EC$303,9,0) -> 0.25 | R17: =+GJ17 -> 100 | T17: 39000000 | BV17: =SUM(T17:BU17) -> 39000000 | BW17: =+R17-BV17 -> -38999900 | BX17: Secretaria de Educación | DU17: E1.P_A.MR2-MP01-1 | DV17: Realizar acciones para mejorar la cualificación docente | DW17: No. de acciones realizadas | DX17: 0 | DY17: 4 | DZ17: 0 | EA17: 1 | EB17: 2 | EC17: 1 | GH17: =+IF(P17=0,"0","1") -> 1 | GI17: =+IF(BV17=0,"0","1") -> 1 | GJ17: =+((IF((GH17+GI17)=0,"100",(((GH17+GI17)/2)*100)))) -> 100
A18: E1. | B18: SOCIAL: Desarrollo Social con alta competitividad y proyección | C18: E1.P_A | D18: TOCANCIPA BIEN EDUCADA | E18: E1.P_A.MR2 | F18: Disminuir el número de estudiantes por equipo de cómputo | G18: No. de estudiantes por equipo de cómputo | H18: 3 | I18: 2 | K18: E1.P_A.MR2-MP03-1 | L18: Mantener y fortalecer los ambientes digitales | M18: No. de ambientes mantenidos y fortalecidos | N18: =VLOOKUP(K18,$DU$8:$EC$303,4,0) -> 8 | O18: =VLOOKUP(K18,$DU$8:$EC$303,5,0) -> 8 | P18: =VLOOKUP(K18,$DU$8:$EC$303,9,0) -> 8 | R18: =+GJ18 -> 100 | T18: =678000000+(678000000*5%) -> 711900000 | BV18: =SUM(T18:BU18) -> 711900000 | BW18: =+R18-BV18 -> -711899900 | BX18: Secretaria de Educación | DU18: E1.P_A.MR2-MP02-1 | DV18: Implementar una estrategia de “reconocimiento labor docente” | DW18: No. de estrategias implementadas | DX18: 0 | DY18: 1 | DZ18: 0.25 | EA18: 0.25 | EB18: 0.25 | EC18: 0.25 | GH18: =+IF(P18=0,"0","1") -> 1 | GI18: =+IF(BV18=0,"0","1") -> 1 | GJ18: =+((IF((GH18+GI18)=0,"100",(((GH18+GI18)/2)*100)))) -> 100
A19: E1. | B19: SOCIAL: Desarrollo Social con alta competitividad y proyección | C19: E1.P_A | D19: TOCANCIPA BIEN EDUCADA | E19: E1.P_A.MR2 | F19: Disminuir el número de estudiantes por equipo de cómputo | G19: No. de estudiantes por equipo de cómputo | H19: 3 | I19: 2 | K19: E1.P_A.MR2-MP04-1 | L19: Otorgar estímulos a las IED para que logren alta calidad educativa | M19: No. de estímulos otorgados | N19: =VLOOKUP(K19,$DU$8:$EC$303,4,0) -> 0 | O19: =VLOOKUP(K19,$DU$8:$EC$303,5,0) -> 3 | P19: =VLOOKUP(K19,$DU$8:$EC$303,9,0) -> 0.75 | R19: =+GJ19 -> 100 | T19: 199500000 | BV19: =SUM(T19:BU19) -> 199500000 | BW19: =+R19-BV19 -> -199499900 | BX19: Secretaria de Educación | DU19: E1.P_A.MR2-MP03-1 | DV19: Mantener y fortalecer los ambientes digitales | DW19: No. de ambientes mantenidos y fortalecidos | DX19: 8 | DY19: 8 | DZ19: 8 | EA19: 8 | EB19: 8 | EC19: 8 | GH19: =+IF(P19=0,"0","1") -> 1 | GI19: =+IF(BV19=0,"0","1") -> 1 | GJ19: =+((IF((GH19+GI19)=0,"100",(((GH19+GI19)/2)*100)))) -> 100
A20: E1. | B20: SOCIAL: Desarrollo Social con alta competitividad y proyección | C20: E1.P_A | D20: TOCANCIPA BIEN EDUCADA | E20: E1.P_A.MR3 | F20: Mantener las tasas de cobertura bruta por niveles | G20: Tasa de cobertura transición Tasa de cobertura primaria Tasa de cobertura secundaria Tasa de cobertura media | H20: 104% 108% 126% 90,83% | I20: 104% 108% 126% 90,83% | J20: 2016-25817-0044 Mantenimiento de las tasas de cobertura escolar Tocancipá, Cundinamarca, Centro Oriente | K20: E1.P_A.MR3-MP01-1 | L20: Implementar procesos de apoyo para la permanencia y cobertura educativa en la población desescolarizada | M20: No. de procesos implementados | N20: =VLOOKUP(K20,$DU$8:$EC$303,4,0) -> 1 | O20: =VLOOKUP(K20,$DU$8:$EC$303,5,0) -> 2 | P20: =VLOOKUP(K20,$DU$8:$EC$303,9,0) -> 0.5 | Q20: =SUM(R20:R24) -> 300 | R20: =+GJ20 -> 100 | T20: 63179655 | BV20: =SUM(T20:BU20) -> 63179655 | BW20: =+R20-BV20 -> -63179555 | BX20: Secretaria de Educación | DU20: E1.P_A.MR2-MP04-1 | DV20: Otorgar estímulos a las IED para que logren alta calidad educativa | DW20: No. de estímulos otorgados | DX20: 0 | DY20: 3 | DZ20: 0.75 | EA20: 0.75 | EB20: 0.75 | EC20: 0.75 | GH20: =+IF(P20=0,"0","1") -> 1 | GI20: =+IF(BV20=0,"0","1") -> 1 | GJ20: =+((IF((GH20+GI20)=0,"100",(((GH20+GI20)/2)*100)))) -> 100
A21: E1. | B21: SOCIAL: Desarrollo Social con alta competitividad y proyección | C21: E1.P_A | D21: TOCANCIPA BIEN EDUCADA | E21: E1.P_A.MR3 | F21: Mantener las tasas de cobertura bruta por niveles | G21: Tasa de cobertura transición Tasa de cobertura primaria Tasa de cobertura secundaria Tasa de cobertura media | H21: 104% 108% 126% 90,83% | I21: 104% 108% 126% 90,83% | K21: E1.P_A.MR3-MP02-1 | L21: Otorgar estímulos para las IED que implementen la jornada única escolar | M21: No. de Estímulos otorgados | N21: =VLOOKUP(K21,$DU$8:$EC$303,4,0) -> 0 | O21: =VLOOKUP(K21,$DU$8:$EC$303,5,0) -> 3 | P21: 0 | R21: =+GJ21 -> 100 | T21: 0 | BV21: =SUM(T21:BU21) -> 0 | BW21: =+R21-BV21 -> 100 | BX21: Secretaria de Educación | DU21: E1.P_A.MR3-MP01-1 | DV21: Implementar procesos de apoyo para la permanencia y cobertura educativa en la población desescolarizada | DW21: No. de procesos implementados | DX21: 1 | DY21: 2 | DZ21: 0.5 | EA21: 0.5 | EB21: 0.5 | EC21: 0.5 | GH21: =+IF(P21=0,"0","1") -> 0 | GI21: =+IF(BV21=0,"0","1") -> 0 | GJ21: =+((IF((GH21+GI21)=0,"100",(((GH21+GI21)/2)*100)))) -> 100
A22: E1. | B22: SOCIAL: Desarrollo Social con alta competitividad y proyección | C22: E1.P_A | D22: TOCANCIPA BIEN EDUCADA | E22: E1.P_A.MR3 | F22: Mantener las tasas de cobertura bruta por niveles | G22: Tasa de cobertura transición Tasa de cobertura primaria Tasa de cobertura secundaria Tasa de cobertura media | H22: 104% 108% 126% 90,83% | I22: 104% 108% 126% 90,83% | K22: E1.P_A.MR3-MP03-1 | L22: Mantener el acceso a la educación de la población en condiciones de vulnerabilidad que demande el servicio | M22: % de población vulnerable en el sistema educativo | N22: =VLOOKUP(K22,$DU$8:$EC$303,4,0) -> 100 | O22: =VLOOKUP(K22,$DU$8:$EC$303,5,0) -> 100 | P22: =VLOOKUP(K22,$DU$8:$EC$303,9,0) -> 100 | R22: =+GJ22 -> 100 | T22: 72155160 | BV22: =SUM(T22:BU22) -> 72155160 | BW22: =+R22-BV22 -> -72155060 | BX22: Secretaria de Educación | DU22: E1.P_A.MR3-MP02-1 | DV22: Otorgar estímulos para las IED que implementen la jornada única escolar | DW22: No. de Estímulos otorgados | DX22: 0 | DY22: 3 | DZ22: 0 | EA22: 0 | EB22: 1 | EC22: 2 | GH22: =+IF(P22=0,"0","1") -> 1 | GI22: =+IF(BV22=0,"0","1") -> 1 | GJ22: =+((IF((GH22+GI22)=0,"100",(((GH22+GI22)/2)*100)))) -> 100
A23: E1. | B23: SOCIAL: Desarrollo Social con alta competitividad y proyección | C23: E1.P_A | D23: TOCANCIPA BIEN EDUCADA | E23: E1.P_A.MR3 | F23: Mantener las tasas de cobertura bruta por niveles | G23: Tasa de cobertura transición Tasa de cobertura primaria Tasa de cobertura secundaria Tasa de cobertura media | H23: 104% 108% 126% 90,83% | I23: 104% 108% 126% 90,83% | K23: E1.P_A.MR3-MP04-1 | L23: Garantizar los servicios de aseo y vigilancia en las I.E.D | M23: No. de I.E.D con Servicios de aseo y vigilancia de calidad mantenidos | N23: =VLOOKUP(K23,$DU$8:$EC$303,4,0) -> 3 | O23: =VLOOKUP(K23,$DU$8:$EC$303,5,0) -> 3 | P23: =VLOOKUP(K23,$DU$8:$EC$303,9,0) -> 3 | R23: =+GJ23 -> 100 | T23: =2134000000+(2134000000*5%) -> 2240700000 | BV23: =SUM(T23:BU23) -> 2240700000 | BW23: =+R23-BV23 -> -2240699900 | BX23: Secretaria de Educación | DU23: E1.P_A.MR3-MP03-1 | DV23: Mantener el acceso a la educación de la población en condiciones de vulnerabilidad que demande el servicio | DW23: % de población vulnerable en el sistema educativo | DX23: 100 | DY23: 100 | DZ23: 100 | EA23: 100 | EB23: 100 | EC23: 100 | GH23: =+IF(P23=0,"0","1") -> 1 | GI23: =+IF(BV23=0,"0","1") -> 1 | GJ23: =+((IF((GH23+GI23)=0,"100",(((GH23+GI23)/2)*100)))) -> 100
A24: E1. | B24: SOCIAL: Desarrollo Social con alta competitividad y proyección | C24: E1.P_A | D24: TOCANCIPA BIEN EDUCADA | E24: E1.P_A.MR3 | F24: Mantener las tasas de cobertura bruta por niveles | G24: Tasa de cobertura transición Tasa de cobertura primaria Tasa de cobertura secundaria Tasa de cobertura media | H24: 104% 108% 126% 90,83% | I24: 104% 108% 126% 90,83% | K24: E1.P_A.MR3-MP05-1 | L24: Obtener la concesión de servicios educativos en el municipio con entidades de carácter privado | M24: No. Concesiones obtenidas | N24: =VLOOKUP(K24,$DU$8:$EC$303,4,0) -> 0 | O24: =VLOOKUP(K24,$DU$8:$EC$303,5,0) -> 1 | P24: 0 | R24: =+GJ24 -> 100 | T24: 0 | BV24: =SUM(T24:BU24) -> 0 | BW24: =+R24-BV24 -> 100 | BX24: Secretaria de Educación | DU24: E1.P_A.MR3-MP04-1 | DV24: Garantizar los servicios de aseo y vigilancia en las I.E.D | DW24: No. de I.E.D con Servicios de aseo y vigilancia de calidad mantenidos | DX24: 3 | DY24: 3 | DZ24: 3 | EA24: 3 | EB24: 3 | EC24: 3 | GH24: =+IF(P24=0,"0","1") -> 0 | GI24: =+IF(BV24=0,"0","1") -> 0 | GJ24: =+((IF((GH24+GI24)=0,"100",(((GH24+GI24)/2)*100)))) -> 100
A25: E1. | B25: SOCIAL: Desarrollo Social con alta competitividad y proyección | C25: E1.P_A | D25: TOCANCIPA BIEN EDUCADA | E25: E1.P_A.MR4 | F25: Mejorar el perfil ocupacional de la población | G25: Índice de perfil ocupacional | H25: 0 | I25: 0.04 | J25: 2016-25817-0019 Mejoramiento Perfil ocupacional de la comunidad educativa Tocancipá, Cundinamarca, Centro Oriente | K25: E1.P_A.MR4-MP01-1 | L25: Realizar acciones en para la orientación ocupacional y vocacional para los estudiantes de grado 11 de las IED | M25: No. de Acciones realizadas | N25: =VLOOKUP(K25,$DU$8:$EC$303,4,0) -> 2 | O25: =VLOOKUP(K25,$DU$8:$EC$303,5,0) -> 2 | P25: =VLOOKUP(K25,$DU$8:$EC$303,9,0) -> 0.5 | Q25: =SUM(R25:R29) -> 500 | R25: =+GJ25 -> 100 | T25: 68775000 | BV25: =SUM(T25:BU25) -> 68775000 | BW25: =+R25-BV25 -> -68774900 | BX25: Secretaria de Educación | DU25: E1.P_A.MR3-MP05-1 | DV25: Obtener la concesión de servicios educativos en el municipio con entidades de carácter privado | DW25: No. Concesiones obtenidas | DX25: 0 | DY25: 1 | DZ25: 0 | EA25: 0 | EB25: 0.5 | EC25: 0.5 | GH25: =+IF(P25=0,"0","1") -> 1 | GI25: =+IF(BV25=0,"0","1") -> 1 | GJ25: =+((IF((GH25+GI25)=0,"100",(((GH25+GI25)/2)*100)))) -> 100
A26: E1. | B26: SOCIAL: Desarrollo Social con alta competitividad y proyección | C26: E1.P_A | D26: TOCANCIPA BIEN EDUCADA | E26: E1.P_A.MR4 | F26: Mejorar el perfil ocupacional de la población | G26: Índice de perfil ocupacional | H26: 0 | I26: 0.04 | K26: E1.P_A.MR4-MP02-1 | L26: Desarrollar Estrategias articuladas con otras dependencias de la administración y/o otras entidades para la prevención de embarazo adolescente en ambientes escolares | M26: No. de estrategias desarrolladas | N26: =VLOOKUP(K26,$DU$8:$EC$303,4,0) -> 1 | O26: =VLOOKUP(K26,$DU$8:$EC$303,5,0) -> 3 | P26: =VLOOKUP(K26,$DU$8:$EC$303,9,0) -> 0.75 | R26: =+GJ26 -> 100 | T26: 36077580 | BV26: =SUM(T26:BU26) -> 36077580 | BW26: =+R26-BV26 -> -36077480 | BX26: Secretaria de Educación | DU26: E1.P_A.MR4-MP01-1 | DV26: Realizar acciones en para la orientación ocupacional y vocacional para los estudiantes de grado 11 de las IED | DW26: No. de Acciones realizadas | DX26: 2 | DY26: 2 | DZ26: 0.5 | EA26: 0.5 | EB26: 0.5 | EC26: 0.5 | GH26: =+IF(P26=0,"0","1") -> 1 | GI26: =+IF(BV26=0,"0","1") -> 1 | GJ26: =+((IF((GH26+GI26)=0,"100",(((GH26+GI26)/2)*100)))) -> 100
A27: E1. | B27: SOCIAL: Desarrollo Social con alta competitividad y proyección | C27: E1.P_A | D27: TOCANCIPA BIEN EDUCADA | E27: E1.P_A.MR4 | F27: Mejorar el perfil ocupacional de la población | G27: Índice de perfil ocupacional | H27: 0 | I27: 0.04 | K27: E1.P_A.MR4-MP03-1 | L27: Implementar estrategias articuladas con otras dependencias de la administración y/o otras entidades para la prevención del consumo de SPA en ambientes escolares | M27: No. de estrategias implementadas | N27: =VLOOKUP(K27,$DU$8:$EC$303,4,0) -> 1 | O27: =VLOOKUP(K27,$DU$8:$EC$303,5,0) -> 3 | P27: =VLOOKUP(K27,$DU$8:$EC$303,9,0) -> 0.75 | R27: =+GJ27 -> 100 | T27: 36077580 | BV27: =SUM(T27:BU27) -> 36077580 | BW27: =+R27-BV27 -> -36077480 | BX27: Secretaria de Educación | DU27: E1.P_A.MR4-MP02-1 | DV27: Desarrollar Estrategias articuladas con otras dependencias de la administración y/o otras entidades para la prevención de embarazo adolescente en ambientes escolares | DW27: No. de estrategias desarrolladas | DX27: 1 | DY27: 3 | DZ27: 0.75 | EA27: 0.75 | EB27: 0.75 | EC27: 0.75 | GH27: =+IF(P27=0,"0","1") -> 1 | GI27: =+IF(BV27=0,"0","1") -> 1 | GJ27: =+((IF((GH27+GI27)=0,"100",(((GH27+GI27)/2)*100)))) -> 100
A28: E1. | B28: SOCIAL: Desarrollo Social con alta competitividad y proyección | C28: E1.P_A | D28: TOCANCIPA BIEN EDUCADA | E28: E1.P_A.MR4 | F28: Mejorar el perfil ocupacional de la población | G28: Índice de perfil ocupacional | H28: 0 | I28: 0.04 | K28: E1.P_A.MR4-MP04-1 | L28: Implementar una estrategia de apoyo profesional para fortalecer la convivencia escolar y el entorno familiar | M28: No. de estrategias implementadas | N28: =VLOOKUP(K28,$DU$8:$EC$303,4,0) -> 0 | O28: =VLOOKUP(K28,$DU$8:$EC$303,5,0) -> 1 | P28: =VLOOKUP(K28,$DU$8:$EC$303,9,0) -> 0.25 | R28: =+GJ28 -> 100 | T28: 582891540 | BV28: =SUM(T28:BU28) -> 582891540 | BW28: =+R28-BV28 -> -582891440 | BX28: Secretaria de Educación | DU28: E1.P_A.MR4-MP03-1 | DV28: Implementar estrategias articuladas con otras dependencias de la administración y/o otras entidades para la prevención del consumo de SPA en ambientes escolares | DW28: No. de estrategias implementadas | DX28: 1 | DY28: 3 | DZ28: 0.75 | EA28: 0.75 | EB28: 0.75 | EC28: 0.75 | GH28: =+IF(P28=0,"0","1") -> 1 | GI28: =+IF(BV28=0,"0","1") -> 1 | GJ28: =+((IF((GH28+GI28)=0,"100",(((GH28+GI28)/2)*100)))) -> 100
A29: E1. | B29: SOCIAL: Desarrollo Social con alta competitividad y proyección | C29: E1.P_A | D29: TOCANCIPA BIEN EDUCADA | E29: E1.P_A.MR4 | F29: Mejorar el perfil ocupacional de la población | G29: Índice de perfil ocupacional | H29: 0 | I29: 0.04 | K29: E1.P_A.MR4-MP05-1 | L29: Aumentar la cobertura de formación en programas de Segunda Lengua | M29: No. de Beneficiarios de formación en segunda Lengua | N29: =VLOOKUP(K29,$DU$8:$EC$303,4,0) -> 120 | O29: =VLOOKUP(K29,$DU$8:$EC$303,5,0) -> 1500 | P29: =VLOOKUP(K29,$DU$8:$EC$303,9,0) -> 375 | R29: =+GJ29 -> 100 | T29: 1000000000 | BV29: =SUM(T29:BU29) -> 1000000000 | BW29: =+R29-BV29 -> -999999900 | BX29: Secretaria de Educación | DU29: E1.P_A.MR4-MP04-1 | DV29: Implementar una estrategia de apoyo profesional para fortalecer la convivencia escolar y el entorno familiar | DW29: No. de estrategias implementadas | DX29: 0 | DY29: 1 | DZ29: 0.25 | EA29: 0.25 | EB29: 0.25 | EC29: 0.25 | GH29: =+IF(P29=0,"0","1") -> 1 | GI29: =+IF(BV29=0,"0","1") -> 1 | GJ29: =+((IF((GH29+GI29)=0,"100",(((GH29+GI29)/2)*100)))) -> 100
A30: E1. | B30: SOCIAL: Desarrollo Social con alta competitividad y proyección | C30: E1.P_A | D30: TOCANCIPA BIEN EDUCADA | E30: E1.P_A.MR5 | F30: Desarrollar una estrategia para fomentar el acceso de la población a la educación técnica, tecnológica y profesional | G30: Estrategia desarrollada | H30: 0 | I30: 1 | J30: 2016-25817-0006 Implementación de una estrategia para el acceso y permanencia a la Educación Titulada, Complementaria, Tecnológica Tocancipá, Cundinamarca, Centro Oriente | K30: E1.P_A.MR5-MP01-1 | L30: Realizar un proyecto de acuerdo para la modificación y reestructuración del Fondo Educativo Municipal | M30: N° de proyectos de acuerdo presentado | N30: =VLOOKUP(K30,$DU$8:$EC$303,4,0) -> 1 | O30: =VLOOKUP(K30,$DU$8:$EC$303,5,0) -> 1 | P30: =VLOOKUP(K30,$DU$8:$EC$303,9,0) -> 0.25 | Q30: =SUM(R30:R33) -> 300 | R30: =+GJ30 -> 100 | T30: 1788850000 | BV30: =SUM(T30:BU30) -> 1788850000 | BW30: =+R30-BV30 -> -1788849900 | BX30: Secretaria de Educación | DU30: E1.P_A.MR4-MP05-1 | DV30: Aumentar la cobertura de formación en programas de Segunda Lengua | DW30: No. de Beneficiarios de formación en segunda Lengua | DX30: 120 | DY30: 1500 | DZ30: 375 | EA30: 375 | EB30: 375 | EC30: 375 | GH30: =+IF(P30=0,"0","1") -> 1 | GI30: =+IF(BV30=0,"0","1") -> 1 | GJ30: =+((IF((GH30+GI30)=0,"100",(((GH30+GI30)/2)*100)))) -> 100
A31: E1. | B31: SOCIAL: Desarrollo Social con alta competitividad y proyección | C31: E1.P_A | D31: TOCANCIPA BIEN EDUCADA | E31: E1.P_A.MR5 | F31: Desarrollar una estrategia para fomentar el acceso de la población a la educación técnica, tecnológica y profesional | G31: Estrategia desarrollada | H31: 0 | I31: 1 | K31: E1.P_A.MR5-MP02-1 | L31: Suscribir convenios para la articulación de la educación media con la educación superior | M31: No. de convenios suscritos para articulación de la educación media con la educación superior | N31: =VLOOKUP(K31,$DU$8:$EC$303,4,0) -> 1 | O31: =VLOOKUP(K31,$DU$8:$EC$303,5,0) -> 2 | P31: =VLOOKUP(K31,$DU$8:$EC$303,9,0) -> 0.5 | R31: =+GJ31 -> 50 | T31: 0 | BV31: =SUM(T31:BU31) -> 0 | BW31: =+R31-BV31 -> 50 | BX31: Secretaria de Educación | DU31: E1.P_A.MR5-MP01-1 | DV31: Realizar un proyecto de acuerdo para la modificación y reestructuración del Fondo Educativo Municipal | DW31: N° de proyectos de acuerdo presentado | DX31: 1 | DY31: 1 | DZ31: 0.25 | EA31: 0.25 | EB31: 0.25 | EC31: 0.25 | GH31: =+IF(P31=0,"0","1") -> 1 | GI31: =+IF(BV31=0,"0","1") -> 0 | GJ31: =+((IF((GH31+GI31)=0,"100",(((GH31+GI31)/2)*100)))) -> 50
A32: E1. | B32: SOCIAL: Desarrollo Social con alta competitividad y proyección | C32: E1.P_A | D32: TOCANCIPA BIEN EDUCADA | E32: E1.P_A.MR5 | F32: Desarrollar una estrategia para fomentar el acceso de la población a la educación técnica, tecnológica y profesional | G32: Estrategia desarrollada | H32: 0 | I32: 1 | K32: E1.P_A.MR5-MP03-1 | L32: Realizar acciones administrativas para promover el acceso a la educación técnica, tecnológica y profesional para egresados del Municipio | M32: No. de acciones administrativas realizadas para el acceso a la educación Técnica, Tecnológica y Pofesional para egresados del Municipio | N32: =VLOOKUP(K32,$DU$8:$EC$303,4,0) -> 5 | O32: =VLOOKUP(K32,$DU$8:$EC$303,5,0) -> 6 | P32: =VLOOKUP(K32,$DU$8:$EC$303,9,0) -> 1 | R32: =+GJ32 -> 100 | T32: =112205390+(112205390*0.05) -> 1.1781566e+08 | BV32: =SUM(T32:BU32) -> 1.1781566e+08 | BW32: =+R32-BV32 -> -1.1781556e+08 | BX32: Secretaria de Educación | DU32: E1.P_A.MR5-MP02-1 | DV32: Suscribir convenios para la articulación de la educación media con la educación superior | DW32: No. de convenios suscritos para articulación de la educación media con la educación superior | DX32: 1 | DY32: 2 | DZ32: 0.5 | EA32: 0.5 | EB32: 0.5 | EC32: 0.5 | GH32: =+IF(P32=0,"0","1") -> 1 | GI32: =+IF(BV32=0,"0","1") -> 1 | GJ32: =+((IF((GH32+GI32)=0,"100",(((GH32+GI32)/2)*100)))) -> 100
A33: E1. | B33: SOCIAL: Desarrollo Social con alta competitividad y proyección | C33: E1.P_A | D33: TOCANCIPA BIEN EDUCADA | E33: E1.P_A.MR5 | F33: Desarrollar una estrategia para fomentar el acceso de la población a la educación técnica, tecnológica y profesional | G33: Estrategia desarrollada | H33: 0 | I33: 1 | K33: E1.P_A.MR5-MP04-1 | L33: Implementar estrategias con entidades públicas y/o privadas para el acceso a becas de educación superior | M33: No. de estrategias implementadas para la acceder a becas en educación superior | N33: =VLOOKUP(K33,$DU$8:$EC$303,4,0) -> 0 | O33: =VLOOKUP(K33,$DU$8:$EC$303,5,0) -> 1 | P33: =VLOOKUP(K33,$DU$8:$EC$303,9,0) -> 0.25 | R33: =+GJ33 -> 50 | T33: 0 | BV33: =SUM(T33:BU33) -> 0 | BW33: =+R33-BV33 -> 50 | BX33: Secretaria de Educación | DU33: E1.P_A.MR5-MP03-1 | DV33: Realizar acciones administrativas para promover el acceso a la educación técnica, tecnológica y profesional para egresados del Municipio | DW33: No. de acciones administrativas realizadas para el acceso a la educación Técnica, Tecnológica y Pofesional para egresados del Municipio | DX33: 5 | DY33: 6 | DZ33: 2 | EA33: 2 | EB33: 1 | EC33: 1 | GH33: =+IF(P33=0,"0","1") -> 1 | GI33: =+IF(BV33=0,"0","1") -> 0 | GJ33: =+((IF((GH33+GI33)=0,"100",(((GH33+GI33)/2)*100)))) -> 50
